Workbook

Sheet فروردین
A1: آمار غربالگري تيروئيد نوزادان : سال 1403 | E1: مركز خدمات جامع سلامت : ............... | J1: مركز بهداشت شهرستان قزوین
A2: رديف | C2: نام محل نمونه گيري | D2: تعداد نوزادان غربالگري شده باراول | E2: جنس | G2: زمان انجام نمونه گيري نوبت اول بر حسب سن نوزاد به روز | J2: زمان اعلام نتيجه آزمايش مشکوک نوبت اول برحسب سن نوزاد به روز | M2: سطح TSH نوبت اول | Q2: تعداد غربالگری بار دوم | R2: زمان انجام نمونه گيري نوبت دوم بر حسب سن نوزاد به روز | U2: زمان اعلام نتيجه آزمايش مشکوک نوبت دوم برحسب سن نوزاد به روز | X2: سطح TSH نوبت دوم | AB2: تشخيص نهايي | AE2: زمان شروع درمان برحسب سن نوزاد به روز | AH2: علل غربالگری باردوم | AQ2: تعداد غربالگری نوبت سوم و چهارم | AR2: سطح TSH نوبت سوم و چهارم
E3: دختر | F3: پسر | G3: 3-5 روز | H3: 6-21 روز | I3: 22و بيشتر | J3: <13 | K3: روز 21-14 | L3: 22و بيشتر | M3: TSH<5 | N3: TSH 5-9 | O3: TSH>=10-19/9 | P3: TSH>20 | R3: <13 | S3: 14-21 روز | T3: 22و بيشتر | U3: <14 | V3: 15-21 | W3: 22و بيشتر | X3: TSH<5 | Y3: TSH 5-9 | Z3: TSH>=10-19/9 | AA3: TSH>20 | AB3: سالم | AC3: بيمار | AD3: عدم آزمایش | AE3: كمتر از 28 | AF3: 28-40 | AG3: 41و بيشتر | AH3: نمونه نامناسب | AI3: TSH= 5-9/9 | AJ3: نوزاد نارس | AK3: نوزاد با وزن کمتر از 2500 گرم | AL3: نوزاد با وزن بیش از 4000 گرم | AM3: دو قلویی یا چند قلویی | AN3: سابقه بستری در بیمارستان | AO3: تعویض یا دریافت خون | AP3: سابقه مصرف داروهای خاص | AR3: TSH<5 | AS3: TSH 5-9 | AT3: TSH>=10-19/9 | AU3: TSH>20
A4: 1 | B4: نوزاد ایرانی ترم | D4: 0 | E4: 0 | F4: 0 | G4: 0 | H4: 0 | I4: 0 | J4: 0 | K4: 0 | L4: 0 | M4: 0 | N4: 0 | O4: 0 | P4: 0 | Q4: 0 | R4: 0 | S4: 0 | T4: 0 | U4: 0 | V4: 0 | W4: 0 | X4: 0 | Y4: 0 | Z4: 0 | AA4: 0 | AB4: 0 | AC4: 0 | AD4: 0 | AE4: 0 | AF4: 0 | AG4: 0 | AH4: 0 | AI4: 0 | AJ4: 0 | AK4: 0 | AL4: 0 | AM4: 0 | AN4: 0 | AO4: 0 | AP4: 0 | AQ4: 0 | AR4: 0 | AS4: 0 | AT4: 0 | AU4: 0
A5: 2
A6: 3
A7: 4
A8: 5
A9: 1 | B9: نوزاد ایرانی نارس | D9: 0 | E9: 0 | F9: 0 | G9: 0 | H9: 0 | I9: 0 | J9: 0 | K9: 0 | L9: 0 | M9: 0 | N9: 0 | O9: 0 | P9: 0 | Q9: 0 | R9: 0 | S9: 0 | T9: 0 | U9: 0 | V9: 0 | W9: 0 | X9: 0 | Y9: 0 | Z9: 0 | AA9: 0 | AB9: 0 | AC9: 0 | AD9: 0 | AE9: 0 | AF9: 0 | AG9: 0 | AH9: 0 | AI9: 0 | AJ9: 0 | AK9: 0 | AL9: 0 | AM9: 0 | AN9: 0 | AO9: 0 | AP9: 0 | AQ9: 0 | AR9: 0 | AS9: 0 | AT9: 0 | AU9: 0
A10: 2
A11: 3
A12: 4
A13: 5
A14: جمع کل ایرانی | D14: =D4+D5+D6+D7+D8+D9+D10+D11+D12+D13 -> 0 | E14: =E4+E5+E6+E7+E8+E9+E10+E11+E12+E13 -> 0 | F14: =F4+F5+F6+F7+F8+F9+F10+F11+F12+F13 -> 0 | G14: =G4+G5+G6+G7+G8+G9+G10+G11+G12+G13 -> 0 | H14: =H4+H5+H6+H7+H8+H9+H10+H11+H12+H13 -> 0 | I14: =I4+I5+I6+I7+I8+I9+I10+I11+I12+I13 -> 0 | J14: =J4+J5+J6+J7+J8+J9+J10+J11+J12+J13 -> 0 | K14: =K4+K5+K6+K7+K8+K9+K10+K11+K12+K13 -> 0 | ... AU14: =AU4+AU5+AU6+AU7+AU8+AU9+AU10+AU11+AU12+AU13 -> 0
A15: جمعيت غیر ایرانی
A16: 1 | B16: نوزاد غیر ایرانی ترم | D16: 0 | E16: 0 | F16: 0 | G16: 0 | H16: 0 | I16: 0 | J16: 0 | K16: 0 | L16: 0 | M16: 0 | N16: 0 | O16: 0 | P16: 0 | Q16: 0 | R16: 0 | S16: 0 | T16: 0 | U16: 0 | V16: 0 | W16: 0 | X16: 0 | Y16: 0 | Z16: 0 | AA16: 0 | AB16: 0 | AC16: 0 | AD16: 0 | AE16: 0 | AF16: 0 | AG16: 0 | AH16: 0 | AI16: 0 | AJ16: 0 | AK16: 0 | AL16: 0 | AM16: 0 | AN16: 0 | AO16: 0 | AP16: 0
A17: 2
A18: 3
A19: 4
A20: 5
A21: 1 | B21: نوزاد غیر ایرانی ترم | D21: 0 | E21: 0 | F21: 0 | G21: 0 | H21: 0 | I21: 0 | J21: 0 | K21: 0 | L21: 0 | M21: 0 | N21: 0 | O21: 0 | P21: 0 | Q21: 0 | R21: 0 | S21: 0 | T21: 0 | U21: 0 | V21: 0 | W21: 0 | X21: 0 | Y21: 0 | Z21: 0 | AA21: 0 | AB21: 0 | AC21: 0 | AD21: 0 | AE21: 0 | AF21: 0 | AG21: 0 | AH21: 0 | AI21: 0 | AJ21: 0 | AK21: 0 | AL21: 0 | AM21: 0 | AN21: 0 | AO21: 0 | AP21: 0 | AQ21: 0 | AR21: 0 | AS21: 0 | AT21: 0 | AU21: 0
A22: 2
A23: 3
A24: 4
A25: 5
A26: جمع کل غیر ایرانی | D26: =D16+D17+D18+D19+D20+D21+D22+D23+D24+D25 -> 0 | E26: =E16+E17+E18+E19+E20+E21+E22+E23+E24+E25 -> 0 | F26: =F16+F17+F18+F19+F20+F21+F22+F23+F24+F25 -> 0 | G26: =G16+G17+G18+G19+G20+G21+G22+G23+G24+G25 -> 0 | H26: =H16+H17+H18+H19+H20+H21+H22+H23+H24+H25 -> 0 | I26: =I16+I17+I18+I19+I20+I21+I22+I23+I24+I25 -> 0 | J26: =J16+J17+J18+J19+J20+J21+J22+J23+J24+J25 -> 0 | K26: =K16+K17+K18+K19+K20+K21+K22+K23+K24+K25 -> 0 | ... AU26: =AU16+AU17+AU18+AU19+AU20+AU21+AU22+AU23+AU24+AU25 -> 0
A27: جمع کل ایرانی و غیر ایرانی | D27: =D26+D14 -> 0 | E27: =E26+E14 -> 0 | F27: =F26+F14 -> 0 | G27: =G26+G14 -> 0 | H27: =H26+H14 -> 0 | I27: =I26+I14 -> 0 | J27: =J26+J14 -> 0 | K27: =K26+K14 -> 0 | ... AU27: =AU26+AU14 -> 0
E28: =E27+F27 -> 0 | G28: =G27+H27+I27 -> 0 | J28: =J27+K27+L27 -> 0 | M28: 0 | R28: =R27+S27+T27 -> 0 | U28: 0 | X28: 0 | AB28: =AB27+AC27+AD27 -> 0 | AE28: 0 | AH28: =AH27+AI27+AJ27+AK27+AL27+AM27+AN27+AO27+AP27 -> 0 | AR28: =AR27+AS27+AT27+AU27 -> 0

Sheet اردیبهشت
A1: آمار غربالگري تيروئيد نوزادان : سال 1403 | E1: مركز خدمات جامع سلامت : ............... | J1: مركز بهداشت شهرستان قزوین
A2: رديف | C2: نام محل نمونه گيري | D2: تعداد نوزادان غربالگري شده باراول | E2: جنس | G2: زمان انجام نمونه گيري نوبت اول بر حسب سن نوزاد به روز | J2: زمان اعلام نتيجه آزمايش مشکوک نوبت اول برحسب سن نوزاد به روز | M2: سطح TSH نوبت اول | Q2: تعداد غربالگری بار دوم | R2: زمان انجام نمونه گيري نوبت دوم بر حسب سن نوزاد به روز | U2: زمان اعلام نتيجه آزمايش مشکوک نوبت دوم برحسب سن نوزاد به روز | X2: سطح TSH نوبت دوم | AB2: تشخيص نهايي | AE2: زمان شروع درمان برحسب سن نوزاد به روز | AH2: علل غربالگری باردوم | AQ2: تعداد غربالگری نوبت سوم و چهارم | AR2: سطح TSH نوبت سوم و چهارم
E3: دختر | F3: پسر | G3: 3-5 روز | H3: 6-21 روز | I3: 22و بيشتر | J3: <13 | K3: روز 21-14 | L3: 22و بيشتر | M3: TSH<5 | N3: TSH 5-9 | O3: TSH>=10-19/9 | P3: TSH>20 | R3: <13 | S3: 14-21 روز | T3: 22و بيشتر | U3: <14 | V3: 15-21 | W3: 22و بيشتر | X3: TSH<5 | Y3: TSH 5-9 | Z3: TSH>=10-19/9 | AA3: TSH>20 | AB3: سالم | AC3: بيمار | AD3: عدم آزمایش | AE3: كمتر از 28 | AF3: 28-40 | AG3: 41و بيشتر | AH3: نمونه نامناسب | AI3: TSH= 5-9/9 | AJ3: نوزاد نارس | AK3: نوزاد با وزن کمتر از 2500 گرم | AL3: نوزاد با وزن بیش از 4000 گرم | AM3: دو قلویی یا چند قلویی | AN3: سابقه بستری در بیمارستان | AO3: تعویض یا دریافت خون | AP3: سابقه مصرف داروهای خاص | AR3: TSH<5 | AS3: TSH 5-9 | AT3: TSH>=10-19/9 | AU3: TSH>20
A4: 1 | B4: نوزاد ایرانی ترم | D4: 0 | E4: 0 | F4: 0 | G4: 0 | H4: 0 | I4: 0 | J4: 0 | K4: 0 | L4: 0 | M4: 0 | N4: 0 | O4: 0 | P4: 0 | Q4: 0 | R4: 0 | S4: 0 | T4: 0 | U4: 0 | V4: 0 | W4: 0 | X4: 0 | Y4: 0 | Z4: 0 | AA4: 0 | AB4: 0 | AC4: 0 | AD4: 0 | AE4: 0 | AF4: 0 | AG4: 0 | AH4: 0 | AI4: 0 | AJ4: 0 | AK4: 0 | AL4: 0 | AM4: 0 | AN4: 0 | AO4: 0 | AP4: 0 | AQ4: 0 | AR4: 0 | AS4: 0 | AT4: 0 | AU4: 0
A5: 2
A6: 3
A7: 4
A8: 5
A9: 1 | B9: نوزاد ایرانی نارس | D9: 0 | E9: 0 | F9: 0 | G9: 0 | H9: 0 | I9: 0 | J9: 0 | K9: 0 | L9: 0 | M9: 0 | N9: 0 | O9: 0 | P9: 0 | Q9: 0 | R9: 0 | S9: 0 | T9: 0 | U9: 0 | V9: 0 | W9: 0 | X9: 0 | Y9: 0 | Z9: 0 | AA9: 0 | AB9: 0 | AC9: 0 | AD9: 0 | AE9: 0 | AF9: 0 | AG9: 0 | AH9: 0 | AI9: 0 | AJ9: 0 | AK9: 0 | AL9: 0 | AM9: 0 | AN9: 0 | AO9: 0 | AP9: 0 | AQ9: 0 | AR9: 0 | AS9: 0 | AT9: 0 | AU9: 0
A10: 2
A11: 3
A12: 4
A13: 5
A14: جمع کل ایرانی | D14: =D4+D5+D6+D7+D8+D9+D10+D11+D12+D13 -> 0 | E14: =E4+E5+E6+E7+E8+E9+E10+E11+E12+E13 -> 0 | F14: =F4+F5+F6+F7+F8+F9+F10+F11+F12+F13 -> 0 | G14: =G4+G5+G6+G7+G8+G9+G10+G11+G12+G13 -> 0 | H14: =H4+H5+H6+H7+H8+H9+H10+H11+H12+H13 -> 0 | I14: =I4+I5+I6+I7+I8+I9+I10+I11+I12+I13 -> 0 | J14: =J4+J5+J6+J7+J8+J9+J10+J11+J12+J13 -> 0 | K14: =K4+K5+K6+K7+K8+K9+K10+K11+K12+K13 -> 0 | ... AU14: =AU4+AU5+AU6+AU7+AU8+AU9+AU10+AU11+AU12+AU13 -> 0
A15: جمعيت غیر ایرانی
A16: 1 | B16: نوزاد غیر ایرانی ترم | D16: 0 | E16: 0 | F16: 0 | G16: 0 | H16: 0 | I16: 0 | J16: 0 | K16: 0 | L16: 0 | M16: 0 | N16: 0 | O16: 0 | P16: 0 | Q16: 0 | R16: 0 | S16: 0 | T16: 0 | U16: 0 | V16: 0 | W16: 0 | X16: 0 | Y16: 0 | Z16: 0 | AA16: 0 | AB16: 0 | AC16: 0 | AD16: 0 | AE16: 0 | AF16: 0 | AG16: 0 | AH16: 0 | AI16: 0 | AJ16: 0 | AK16: 0 | AL16: 0 | AM16: 0 | AN16: 0 | AO16: 0 | AP16: 0
A17: 2
A18: 3
A19: 4
A20: 5
A21: 1 | B21: نوزاد غیر ایرانی نارس | D21: 0 | E21: 0 | F21: 0 | G21: 0 | H21: 0 | I21: 0 | J21: 0 | K21: 0 | L21: 0 | M21: 0 | N21: 0 | O21: 0 | P21: 0 | Q21: 0 | R21: 0 | S21: 0 | T21: 0 | U21: 0 | V21: 0 | W21: 0 | X21: 0 | Y21: 0 | Z21: 0 | AA21: 0 | AB21: 0 | AC21: 0 | AD21: 0 | AE21: 0 | AF21: 0 | AG21: 0 | AH21: 0 | AI21: 0 | AJ21: 0 | AK21: 0 | AL21: 0 | AM21: 0 | AN21: 0 | AO21: 0 | AP21: 0 | AQ21: 0 | AR21: 0 | AS21: 0 | AT21: 0 | AU21: 0
A22: 2
A23: 3
A24: 4
A25: 5
A26: جمع کل غیر ایرانی | D26: =D16+D17+D18+D19+D20+D21+D22+D23+D24+D25 -> 0 | E26: =E16+E17+E18+E19+E20+E21+E22+E23+E24+E25 -> 0 | F26: =F16+F17+F18+F19+F20+F21+F22+F23+F24+F25 -> 0 | G26: =G16+G17+G18+G19+G20+G21+G22+G23+G24+G25 -> 0 | H26: =H16+H17+H18+H19+H20+H21+H22+H23+H24+H25 -> 0 | I26: =I16+I17+I18+I19+I20+I21+I22+I23+I24+I25 -> 0 | J26: =J16+J17+J18+J19+J20+J21+J22+J23+J24+J25 -> 0 | K26: =K16+K17+K18+K19+K20+K21+K22+K23+K24+K25 -> 0 | ... AU26: =AU16+AU17+AU18+AU19+AU20+AU21+AU22+AU23+AU24+AU25 -> 0
A27: جمع کل ایرانی و غیر ایرانی | D27: =D26+D14 -> 0 | E27: =E26+E14 -> 0 | F27: =F26+F14 -> 0 | G27: =G26+G14 -> 0 | H27: =H26+H14 -> 0 | I27: =I26+I14 -> 0 | J27: =J26+J14 -> 0 | K27: =K26+K14 -> 0 | ... AU27: =AU26+AU14 -> 0
E28: =E27+F27 -> 0 | G28: =G27+H27+I27 -> 0 | J28: =J27+K27+L27 -> 0 | M28: 0 | R28: =R27+S27+T27 -> 0 | U28: 0 | X28: 0 | AB28: =AB27+AC27+AD27 -> 0 | AE28: 0 | AH28: =AH27+AI27+AJ27+AK27+AL27+AM27+AN27+AO27+AP27 -> 0 | AR28: =AR27+AS27+AT27+AU27 -> 0

Sheet خرداد
A1: آمار غربالگري تيروئيد نوزادان : سال 1403 | E1: مركز خدمات جامع سلامت : ............... | J1: مركز بهداشت شهرستان قزوین
A2: رديف | C2: نام محل نمونه گيري | D2: تعداد نوزادان غربالگري شده باراول | E2: جنس | G2: زمان انجام نمونه گيري نوبت اول بر حسب سن نوزاد به روز | J2: زمان اعلام نتيجه آزمايش مشکوک نوبت اول برحسب سن نوزاد به روز | M2: سطح TSH نوبت اول | Q2: تعداد غربالگری بار دوم | R2: زمان انجام نمونه گيري نوبت دوم بر حسب سن نوزاد به روز | U2: زمان اعلام نتيجه آزمايش مشکوک نوبت دوم برحسب سن نوزاد به روز | X2: سطح TSH نوبت دوم | AB2: تشخيص نهايي | AE2: زمان شروع درمان برحسب سن نوزاد به روز | AH2: علل غربالگری باردوم | AQ2: تعداد غربالگری نوبت سوم و چهارم | AR2: سطح TSH نوبت سوم و چهارم
E3: دختر | F3: پسر | G3: 3-5 روز | H3: 6-21 روز | I3: 22و بيشتر | J3: <13 | K3: روز 21-14 | L3: 22و بيشتر | M3: TSH<5 | N3: TSH 5-9 | O3: TSH>=10-19/9 | P3: TSH>20 | R3: <13 | S3: 14-21 روز | T3: 22و بيشتر | U3: <14 | V3: 15-21 | W3: 22و بيشتر | X3: TSH<5 | Y3: TSH 5-9 | Z3: TSH>=10-19/9 | AA3: TSH>20 | AB3: سالم | AC3: بيمار | AD3: عدم آزمایش | AE3: كمتر از 28 | AF3: 28-40 | AG3: 41و بيشتر | AH3: نمونه نامناسب | AI3: TSH= 5-9/9 | AJ3: نوزاد نارس | AK3: نوزاد با وزن کمتر از 2500 گرم | AL3: نوزاد با وزن بیش از 4000 گرم | AM3: دو قلویی یا چند قلویی | AN3: سابقه بستری در بیمارستان | AO3: تعویض یا دریافت خون | AP3: سابقه مصرف داروهای خاص | AR3: TSH<5 | AS3: TSH 5-9 | AT3: TSH>=10-19/9 | AU3: TSH>20
A4: 1 | B4: نوزاد ایرانی ترم | D4: 0 | E4: 0 | F4: 0 | G4: 0 | H4: 0 | I4: 0 | J4: 0 | K4: 0 | L4: 0 | M4: 0 | N4: 0 | O4: 0 | P4: 0 | Q4: 0 | R4: 0 | S4: 0 | T4: 0 | U4: 0 | V4: 0 | W4: 0 | X4: 0 | Y4: 0 | Z4: 0 | AA4: 0 | AB4: 0 | AC4: 0 | AD4: 0 | AE4: 0 | AF4: 0 | AG4: 0 | AH4: 0 | AI4: 0 | AJ4: 0 | AK4: 0 | AL4: 0 | AM4: 0 | AN4: 0 | AO4: 0 | AP4: 0 | AQ4: 0 | AR4: 0 | AS4: 0 | AT4: 0 | AU4: 0
A5: 2
A6: 3
A7: 4
A8: 5
A9: 1 | B9: نوزاد ایرانی نارس | D9: 0 | E9: 0 | F9: 0 | G9: 0 | H9: 0 | I9: 0 | J9: 0 | K9: 0 | L9: 0 | M9: 0 | N9: 0 | O9: 0 | P9: 0 | Q9: 0 | R9: 0 | S9: 0 | T9: 0 | U9: 0 | V9: 0 | W9: 0 | X9: 0 | Y9: 0 | Z9: 0 | AA9: 0 | AB9: 0 | AC9: 0 | AD9: 0 | AE9: 0 | AF9: 0 | AG9: 0 | AH9: 0 | AI9: 0 | AJ9: 0 | AK9: 0 | AL9: 0 | AM9: 0 | AN9: 0 | AO9: 0 | AP9: 0 | AQ9: 0 | AR9: 0 | AS9: 0 | AT9: 0 | AU9: 0
A10: 2
A11: 3
A12: 4
A13: 5
A14: جمع کل ایرانی | D14: =D4+D5+D6+D7+D8+D9+D10+D11+D12+D13 -> 0 | E14: =E4+E5+E6+E7+E8+E9+E10+E11+E12+E13 -> 0 | F14: =F4+F5+F6+F7+F8+F9+F10+F11+F12+F13 -> 0 | G14: =G4+G5+G6+G7+G8+G9+G10+G11+G12+G13 -> 0 | H14: =H4+H5+H6+H7+H8+H9+H10+H11+H12+H13 -> 0 | I14: =I4+I5+I6+I7+I8+I9+I10+I11+I12+I13 -> 0 | J14: =J4+J5+J6+J7+J8+J9+J10+J11+J12+J13 -> 0 | K14: =K4+K5+K6+K7+K8+K9+K10+K11+K12+K13 -> 0 | ... AU14: =AU4+AU5+AU6+AU7+AU8+AU9+AU10+AU11+AU12+AU13 -> 0
A15: جمعيت غیر ایرانی
A16: 1 | B16: نوزاد غیر ایرانی ترم | D16: 0 | E16: 0 | F16: 0 | G16: 0 | H16: 0 | I16: 0 | J16: 0 | K16: 0 | L16: 0 | M16: 0 | N16: 0 | O16: 0 | P16: 0 | Q16: 0 | R16: 0 | S16: 0 | T16: 0 | U16: 0 | V16: 0 | W16: 0 | X16: 0 | Y16: 0 | Z16: 0 | AA16: 0 | AB16: 0 | AC16: 0 | AD16: 0 | AE16: 0 | AF16: 0 | AG16: 0 | AH16: 0 | AI16: 0 | AJ16: 0 | AK16: 0 | AL16: 0 | AM16: 0 | AN16: 0 | AO16: 0 | AP16: 0
A17: 2
A18: 3
A19: 4
A20: 5
A21: 1 | B21: نوزاد غیر ایرانی نارس | D21: 0 | E21: 0 | F21: 0 | G21: 0 | H21: 0 | I21: 0 | J21: 0 | K21: 0 | L21: 0 | M21: 0 | N21: 0 | O21: 0 | P21: 0 | Q21: 0 | R21: 0 | S21: 0 | T21: 0 | U21: 0 | V21: 0 | W21: 0 | X21: 0 | Y21: 0 | Z21: 0 | AA21: 0 | AB21: 0 | AC21: 0 | AD21: 0 | AE21: 0 | AF21: 0 | AG21: 0 | AH21: 0 | AI21: 0 | AJ21: 0 | AK21: 0 | AL21: 0 | AM21: 0 | AN21: 0 | AO21: 0 | AP21: 0 | AQ21: 0 | AR21: 0 | AS21: 0 | AT21: 0 | AU21: 0
A22: 2
A23: 3
A24: 4
A25: 5
A26: جمع کل غیر ایرانی | D26: =D16+D17+D18+D19+D20+D21+D22+D23+D24+D25 -> 0 | E26: =E16+E17+E18+E19+E20+E21+E22+E23+E24+E25 -> 0 | F26: =F16+F17+F18+F19+F20+F21+F22+F23+F24+F25 -> 0 | G26: =G16+G17+G18+G19+G20+G21+G22+G23+G24+G25 -> 0 | H26: =H16+H17+H18+H19+H20+H21+H22+H23+H24+H25 -> 0 | I26: =I16+I17+I18+I19+I20+I21+I22+I23+I24+I25 -> 0 | J26: =J16+J17+J18+J19+J20+J21+J22+J23+J24+J25 -> 0 | K26: =K16+K17+K18+K19+K20+K21+K22+K23+K24+K25 -> 0 | ... AU26: =AU16+AU17+AU18+AU19+AU20+AU21+AU22+AU23+AU24+AU25 -> 0
A27: جمع کل ایرانی و غیر ایرانی | D27: =D26+D14 -> 0 | E27: =E26+E14 -> 0 | F27: =F26+F14 -> 0 | G27: =G26+G14 -> 0 | H27: =H26+H14 -> 0 | I27: =I26+I14 -> 0 | J27: =J26+J14 -> 0 | K27: =K26+K14 -> 0 | ... AU27: =AU26+AU14 -> 0
E28: =E27+F27 -> 0 | G28: =G27+H27+I27 -> 0 | J28: =J27+K27+L27 -> 0 | M28: 0 | R28: =R27+S27+T27 -> 0 | U28: 0 | X28: 0 | AB28: =AB27+AC27+AD27 -> 0 | AE28: 0 | AH28: =AH27+AI27+AJ27+AK27+AL27+AM27+AN27+AO27+AP27 -> 0 | AR28: =AR27+AS27+AT27+AU27 -> 0

Sheet سه ماهه اول
A1: آمار غربالگري تيروئيد نوزادان : سال 1403 | E1: مركز خدمات جامع سلامت : ............... | J1: مركز بهداشت شهرستان قزوین
A2: رديف | C2: نام محل نمونه گيري | D2: تعداد نوزادان غربالگري شده باراول | E2: جنس | G2: زمان انجام نمونه گيري نوبت اول بر حسب سن نوزاد به روز | J2: زمان اعلام نتيجه آزمايش مشکوک نوبت اول برحسب سن نوزاد به روز | M2: سطح TSH نوبت اول | Q2: تعداد غربالگری باردوم از پاشنه پا | R2: زمان انجام نمونه گيري نوبت دوم بر حسب سن نوزاد به روز | U2: زمان اعلام نتيجه آزمايش مشکوک نوبت دوم برحسب سن نوزاد به روز | X2: سطح TSH نوبت دوم | AB2: تشخيص نهايي | AE2: زمان شروع درمان برحسب سن نوزاد به روز | AH2: تعداد موارد غربالگری مجدد به تفکیک علت | AQ2: تعداد غربالگری نوبت سوم و چهارم | AR2: سطح TSH نوبت سوم و چهارم
E3: دختر | F3: پسر | G3: 3-5 روز | H3: 6-21 روز | I3: 22و بيشتر | J3: <13 | K3: روز 21-14 | L3: 22و بيشتر | M3: TSH<5 | N3: TSH 5-9 | O3: TSH>=10-19/9 | P3: TSH>20 | R3: <13 | S3: 14-21 روز | T3: 22و بيشتر | U3: <14 | V3: 15-21 | W3: 22و بيشتر | X3: TSH<5 | Y3: TSH 5-9 | Z3: TSH>=10-19/9 | AA3: TSH>20 | AB3: سالم | AC3: بيمار | AD3: عدم آزمایش | AE3: كمتر از 28 | AF3: 28-40 | AG3: 41و بيشتر | AH3: نمونه نامناسب | AI3: TSH= 5-9/9 | AJ3: نوزاد نارس | AK3: نوزاد با وزن کمتر از 2500 گرم | AL3: نوزاد با وزن بیش از 4000 گرم | AM3: دو قلویی یا چند قلویی | AN3: سابقه بستری در بیمارستان | AO3: تعویض یا دریافت خون | AP3: سابقه مصرف داروهای خاص | AR3: TSH<5 | AS3: TSH 5-9 | AT3: TSH>=10-19/9 | AU3: TSH>20
A4: 1 | B4: نوزاد ایرانی ترم | D4: =خرداد!D4+اردیبهشت!D4+فروردین!D4 -> 0 | E4: =خرداد!E4+اردیبهشت!E4+فروردین!E4 -> 0 | F4: =خرداد!F4+اردیبهشت!F4+فروردین!F4 -> 0 | G4: =خرداد!G4+اردیبهشت!G4+فروردین!G4 -> 0 | H4: =خرداد!H4+اردیبهشت!H4+فروردین!H4 -> 0 | I4: =خرداد!I4+اردیبهشت!I4+فروردین!I4 -> 0 | J4: =خرداد!J4+اردیبهشت!J4+فروردین!J4 -> 0 | K4: =خرداد!K4+اردیبهشت!K4+فروردین!K4 -> 0 | ... AU4: =خرداد!AU4+اردیبهشت!AU4+فروردین!AU4 -> 0
A5: 2 | D5: =خرداد!D5+اردیبهشت!D5+فروردین!D5 -> 0 | E5: =خرداد!E5+اردیبهشت!E5+فروردین!E5 -> 0 | F5: =خرداد!F5+اردیبهشت!F5+فروردین!F5 -> 0 | G5: =خرداد!G5+اردیبهشت!G5+فروردین!G5 -> 0 | H5: =خرداد!H5+اردیبهشت!H5+فروردین!H5 -> 0 | I5: =خرداد!I5+اردیبهشت!I5+فروردین!I5 -> 0 | J5: =خرداد!J5+اردیبهشت!J5+فروردین!J5 -> 0 | K5: =خرداد!K5+اردیبهشت!K5+فروردین!K5 -> 0 | ... AU5: =خرداد!AU5+اردیبهشت!AU5+فروردین!AU5 -> 0
A6: 3 | D6: =خرداد!D6+اردیبهشت!D6+فروردین!D6 -> 0 | E6: =خرداد!E6+اردیبهشت!E6+فروردین!E6 -> 0 | F6: =خرداد!F6+اردیبهشت!F6+فروردین!F6 -> 0 | G6: =خرداد!G6+اردیبهشت!G6+فروردین!G6 -> 0 | H6: =خرداد!H6+اردیبهشت!H6+فروردین!H6 -> 0 | I6: =خرداد!I6+اردیبهشت!I6+فروردین!I6 -> 0 | J6: =خرداد!J6+اردیبهشت!J6+فروردین!J6 -> 0 | K6: =خرداد!K6+اردیبهشت!K6+فروردین!K6 -> 0 | ... AU6: =خرداد!AU6+اردیبهشت!AU6+فروردین!AU6 -> 0
A7: 4 | D7: =خرداد!D7+اردیبهشت!D7+فروردین!D7 -> 0 | E7: =خرداد!E7+اردیبهشت!E7+فروردین!E7 -> 0 | F7: =خرداد!F7+اردیبهشت!F7+فروردین!F7 -> 0 | G7: =خرداد!G7+اردیبهشت!G7+فروردین!G7 -> 0 | H7: =خرداد!H7+اردیبهشت!H7+فروردین!H7 -> 0 | I7: =خرداد!I7+اردیبهشت!I7+فروردین!I7 -> 0 | J7: =خرداد!J7+اردیبهشت!J7+فروردین!J7 -> 0 | K7: =خرداد!K7+اردیبهشت!K7+فروردین!K7 -> 0 | ... AU7: =خرداد!AU7+اردیبهشت!AU7+فروردین!AU7 -> 0
A8: 5 | D8: =خرداد!D8+اردیبهشت!D8+فروردین!D8 -> 0 | E8: =خرداد!E8+اردیبهشت!E8+فروردین!E8 -> 0 | F8: =خرداد!F8+اردیبهشت!F8+فروردین!F8 -> 0 | G8: =خرداد!G8+اردیبهشت!G8+فروردین!G8 -> 0 | H8: =خرداد!H8+اردیبهشت!H8+فروردین!H8 -> 0 | I8: =خرداد!I8+اردیبهشت!I8+فروردین!I8 -> 0 | J8: =خرداد!J8+اردیبهشت!J8+فروردین!J8 -> 0 | K8: =خرداد!K8+اردیبهشت!K8+فروردین!K8 -> 0 | ... AU8: =خرداد!AU8+اردیبهشت!AU8+فروردین!AU8 -> 0
A9: 1 | B9: نوزاد ایرانی نارس | D9: =خرداد!D9+اردیبهشت!D9+فروردین!D9 -> 0 | E9: =خرداد!E9+اردیبهشت!E9+فروردین!E9 -> 0 | F9: =خرداد!F9+اردیبهشت!F9+فروردین!F9 -> 0 | G9: =خرداد!G9+اردیبهشت!G9+فروردین!G9 -> 0 | H9: =خرداد!H9+اردیبهشت!H9+فروردین!H9 -> 0 | I9: =خرداد!I9+اردیبهشت!I9+فروردین!I9 -> 0 | J9: =خرداد!J9+اردیبهشت!J9+فروردین!J9 -> 0 | K9: =خرداد!K9+اردیبهشت!K9+فروردین!K9 -> 0 | ... AU9: =خرداد!AU9+اردیبهشت!AU9+فروردین!AU9 -> 0
A10: 2 | D10: =خرداد!D10+اردیبهشت!D10+فروردین!D10 -> 0 | E10: =خرداد!E10+اردیبهشت!E10+فروردین!E10 -> 0 | F10: =خرداد!F10+اردیبهشت!F10+فروردین!F10 -> 0 | G10: =خرداد!G10+اردیبهشت!G10+فروردین!G10 -> 0 | H10: =خرداد!H10+اردیبهشت!H10+فروردین!H10 -> 0 | I10: =خرداد!I10+اردیبهشت!I10+فروردین!I10 -> 0 | J10: =خرداد!J10+اردیبهشت!J10+فروردین!J10 -> 0 | K10: =خرداد!K10+اردیبهشت!K10+فروردین!K10 -> 0 | ... AU10: =خرداد!AU10+اردیبهشت!AU10+فروردین!AU10 -> 0
A11: 3 | D11: =خرداد!D11+اردیبهشت!D11+فروردین!D11 -> 0 | E11: =خرداد!E11+اردیبهشت!E11+فروردین!E11 -> 0 | F11: =خرداد!F11+اردیبهشت!F11+فروردین!F11 -> 0 | G11: =خرداد!G11+اردیبهشت!G11+فروردین!G11 -> 0 | H11: =خرداد!H11+اردیبهشت!H11+فروردین!H11 -> 0 | I11: =خرداد!I11+اردیبهشت!I11+فروردین!I11 -> 0 | J11: =خرداد!J11+اردیبهشت!J11+فروردین!J11 -> 0 | K11: =خرداد!K11+اردیبهشت!K11+فروردین!K11 -> 0 | ... AU11: =خرداد!AU11+اردیبهشت!AU11+فروردین!AU11 -> 0
A12: 4 | D12: =خرداد!D12+اردیبهشت!D12+فروردین!D12 -> 0 | E12: =خرداد!E12+اردیبهشت!E12+فروردین!E12 -> 0 | F12: =خرداد!F12+اردیبهشت!F12+فروردین!F12 -> 0 | G12: =خرداد!G12+اردیبهشت!G12+فروردین!G12 -> 0 | H12: =خرداد!H12+اردیبهشت!H12+فروردین!H12 -> 0 | I12: =خرداد!I12+اردیبهشت!I12+فروردین!I12 -> 0 | J12: =خرداد!J12+اردیبهشت!J12+فروردین!J12 -> 0 | K12: =خرداد!K12+اردیبهشت!K12+فروردین!K12 -> 0 | ... AU12: =خرداد!AU12+اردیبهشت!AU12+فروردین!AU12 -> 0
A13: 5 | D13: =خرداد!D13+اردیبهشت!D13+فروردین!D13 -> 0 | E13: =خرداد!E13+اردیبهشت!E13+فروردین!E13 -> 0 | F13: =خرداد!F13+اردیبهشت!F13+فروردین!F13 -> 0 | G13: =خرداد!G13+اردیبهشت!G13+فروردین!G13 -> 0 | H13: =خرداد!H13+اردیبهشت!H13+فروردین!H13 -> 0 | I13: =خرداد!I13+اردیبهشت!I13+فروردین!I13 -> 0 | J13: =خرداد!J13+اردیبهشت!J13+فروردین!J13 -> 0 | K13: =خرداد!K13+اردیبهشت!K13+فروردین!K13 -> 0 | ... AU13: =خرداد!AU13+اردیبهشت!AU13+فروردین!AU13 -> 0
A14: جمع کل ایرانی | D14: =D4+D5+D6+D7+D8+D9+D10+D11+D12+D13 -> 0 | E14: =E4+E5+E6+E7+E8+E9+E10+E11+E12+E13 -> 0 | F14: =F4+F5+F6+F7+F8+F9+F10+F11+F12+F13 -> 0 | G14: =G4+G5+G6+G7+G8+G9+G10+G11+G12+G13 -> 0 | H14: =H4+H5+H6+H7+H8+H9+H10+H11+H12+H13 -> 0 | I14: =I4+I5+I6+I7+I8+I9+I10+I11+I12+I13 -> 0 | J14: =J4+J5+J6+J7+J8+J9+J10+J11+J12+J13 -> 0 | K14: =K4+K5+K6+K7+K8+K9+K10+K11+K12+K13 -> 0 | ... AU14: =AU4+AU5+AU6+AU7+AU8+AU9+AU10+AU11+AU12+AU13 -> 0
A15: جمعيت غیر ایرانی
A16: 1 | B16: نوزاد غیر ایرانی ترم | D16: =خرداد!D16+اردیبهشت!D16+فروردین!D16 -> 0 | E16: =خرداد!E16+اردیبهشت!E16+فروردین!E16 -> 0 | F16: =خرداد!F16+اردیبهشت!F16+فروردین!F16 -> 0 | G16: =خرداد!G16+اردیبهشت!G16+فروردین!G16 -> 0 | H16: =خرداد!H16+اردیبهشت!H16+فروردین!H16 -> 0 | I16: =خرداد!I16+اردیبهشت!I16+فروردین!I16 -> 0 | J16: =خرداد!J16+اردیبهشت!J16+فروردین!J16 -> 0 | K16: =خرداد!K16+اردیبهشت!K16+فروردین!K16 -> 0 | ... AU16: =خرداد!AU16+اردیبهشت!AU16+فروردین!AU16 -> 0
A17: 2 | D17: =خرداد!D17+اردیبهشت!D17+فروردین!D17 -> 0 | E17: =خرداد!E17+اردیبهشت!E17+فروردین!E17 -> 0 | F17: =خرداد!F17+اردیبهشت!F17+فروردین!F17 -> 0 | G17: =خرداد!G17+اردیبهشت!G17+فروردین!G17 -> 0 | H17: =خرداد!H17+اردیبهشت!H17+فروردین!H17 -> 0 | I17: =خرداد!I17+اردیبهشت!I17+فروردین!I17 -> 0 | J17: =خرداد!J17+اردیبهشت!J17+فروردین!J17 -> 0 | K17: =خرداد!K17+اردیبهشت!K17+فروردین!K17 -> 0 | ... AU17: =خرداد!AU17+اردیبهشت!AU17+فروردین!AU17 -> 0
A18: 3 | D18: =خرداد!D18+اردیبهشت!D18+فروردین!D18 -> 0 | E18: =خرداد!E18+اردیبهشت!E18+فروردین!E18 -> 0 | F18: =خرداد!F18+اردیبهشت!F18+فروردین!F18 -> 0 | G18: =خرداد!G18+اردیبهشت!G18+فروردین!G18 -> 0 | H18: =خرداد!H18+اردیبهشت!H18+فروردین!H18 -> 0 | I18: =خرداد!I18+اردیبهشت!I18+فروردین!I18 -> 0 | J18: =خرداد!J18+اردیبهشت!J18+فروردین!J18 -> 0 | K18: =خرداد!K18+اردیبهشت!K18+فروردین!K18 -> 0 | ... AU18: =خرداد!AU18+اردیبهشت!AU18+فروردین!AU18 -> 0
A19: 4 | D19: =خرداد!D19+اردیبهشت!D19+فروردین!D19 -> 0 | E19: =خرداد!E19+اردیبهشت!E19+فروردین!E19 -> 0 | F19: =خرداد!F19+اردیبهشت!F19+فروردین!F19 -> 0 | G19: =خرداد!G19+اردیبهشت!G19+فروردین!G19 -> 0 | H19: =خرداد!H19+اردیبهشت!H19+فروردین!H19 -> 0 | I19: =خرداد!I19+اردیبهشت!I19+فروردین!I19 -> 0 | J19: =خرداد!J19+اردیبهشت!J19+فروردین!J19 -> 0 | K19: =خرداد!K19+اردیبهشت!K19+فروردین!K19 -> 0 | ... AU19: =خرداد!AU19+اردیبهشت!AU19+فروردین!AU19 -> 0
A20: 5 | D20: =خرداد!D20+اردیبهشت!D20+فروردین!D20 -> 0 | E20: =خرداد!E20+اردیبهشت!E20+فروردین!E20 -> 0 | F20: =خرداد!F20+اردیبهشت!F20+فروردین!F20 -> 0 | G20: =خرداد!G20+اردیبهشت!G20+فروردین!G20 -> 0 | H20: =خرداد!H20+اردیبهشت!H20+فروردین!H20 -> 0 | I20: =خرداد!I20+اردیبهشت!I20+فروردین!I20 -> 0 | J20: =خرداد!J20+اردیبهشت!J20+فروردین!J20 -> 0 | K20: =خرداد!K20+اردیبهشت!K20+فروردین!K20 -> 0 | ... AU20: =خرداد!AU20+اردیبهشت!AU20+فروردین!AU20 -> 0
A21: 1 | B21: نوزاد غیر ایرانی نارس | D21: =خرداد!D21+اردیبهشت!D21+فروردین!D21 -> 0 | E21: =خرداد!E21+اردیبهشت!E21+فروردین!E21 -> 0 | F21: =خرداد!F21+اردیبهشت!F21+فروردین!F21 -> 0 | G21: =خرداد!G21+اردیبهشت!G21+فروردین!G21 -> 0 | H21: =خرداد!H21+اردیبهشت!H21+فروردین!H21 -> 0 | I21: =خرداد!I21+اردیبهشت!I21+فروردین!I21 -> 0 | J21: =خرداد!J21+اردیبهشت!J21+فروردین!J21 -> 0 | K21: =خرداد!K21+اردیبهشت!K21+فروردین!K21 -> 0 | ... AU21: =خرداد!AU21+اردیبهشت!AU21+فروردین!AU21 -> 0
A22: 2 | D22: =خرداد!D22+اردیبهشت!D22+فروردین!D22 -> 0 | E22: =خرداد!E22+اردیبهشت!E22+فروردین!E22 -> 0 | F22: =خرداد!F22+اردیبهشت!F22+فروردین!F22 -> 0 | G22: =خرداد!G22+اردیبهشت!G22+فروردین!G22 -> 0 | H22: =خرداد!H22+اردیبهشت!H22+فروردین!H22 -> 0 | I22: =خرداد!I22+اردیبهشت!I22+فروردین!I22 -> 0 | J22: =خرداد!J22+اردیبهشت!J22+فروردین!J22 -> 0 | K22: =خرداد!K22+اردیبهشت!K22+فروردین!K22 -> 0 | ... AU22: =خرداد!AU22+اردیبهشت!AU22+فروردین!AU22 -> 0
A23: 3 | D23: =خرداد!D23+اردیبهشت!D23+فروردین!D23 -> 0 | E23: =خرداد!E23+اردیبهشت!E23+فروردین!E23 -> 0 | F23: =خرداد!F23+اردیبهشت!F23+فروردین!F23 -> 0 | G23: =خرداد!G23+اردیبهشت!G23+فروردین!G23 -> 0 | H23: =خرداد!H23+اردیبهشت!H23+فروردین!H23 -> 0 | I23: =خرداد!I23+اردیبهشت!I23+فروردین!I23 -> 0 | J23: =خرداد!J23+اردیبهشت!J23+فروردین!J23 -> 0 | K23: =خرداد!K23+اردیبهشت!K23+فروردین!K23 -> 0 | ... AU23: =خرداد!AU23+اردیبهشت!AU23+فروردین!AU23 -> 0
A24: 4 | D24: =خرداد!D24+اردیبهشت!D24+فروردین!D24 -> 0 | E24: =خرداد!E24+اردیبهشت!E24+فروردین!E24 -> 0 | F24: =خرداد!F24+اردیبهشت!F24+فروردین!F24 -> 0 | G24: =خرداد!G24+اردیبهشت!G24+فروردین!G24 -> 0 | H24: =خرداد!H24+اردیبهشت!H24+فروردین!H24 -> 0 | I24: =خرداد!I24+اردیبهشت!I24+فروردین!I24 -> 0 | J24: =خرداد!J24+اردیبهشت!J24+فروردین!J24 -> 0 | K24: =خرداد!K24+اردیبهشت!K24+فروردین!K24 -> 0 | ... AU24: =خرداد!AU24+اردیبهشت!AU24+فروردین!AU24 -> 0
A25: 5 | D25: =خرداد!D25+اردیبهشت!D25+فروردین!D25 -> 0 | E25: =خرداد!E25+اردیبهشت!E25+فروردین!E25 -> 0 | F25: =خرداد!F25+اردیبهشت!F25+فروردین!F25 -> 0 | G25: =خرداد!G25+اردیبهشت!G25+فروردین!G25 -> 0 | H25: =خرداد!H25+اردیبهشت!H25+فروردین!H25 -> 0 | I25: =خرداد!I25+اردیبهشت!I25+فروردین!I25 -> 0 | J25: =خرداد!J25+اردیبهشت!J25+فروردین!J25 -> 0 | K25: =خرداد!K25+اردیبهشت!K25+فروردین!K25 -> 0 | ... AU25: =خرداد!AU25+اردیبهشت!AU25+فروردین!AU25 -> 0
A26: جمع کل غیر ایرانی | D26: =D16+D17+D18+D19+D20+D21+D22+D23+D24+D25 -> 0 | E26: =خرداد!E26+اردیبهشت!E26+فروردین!E26 -> 0 | F26: =خرداد!F26+اردیبهشت!F26+فروردین!F26 -> 0 | G26: =خرداد!G26+اردیبهشت!G26+فروردین!G26 -> 0 | H26: =خرداد!H26+اردیبهشت!H26+فروردین!H26 -> 0 | I26: =خرداد!I26+اردیبهشت!I26+فروردین!I26 -> 0 | J26: =خرداد!J26+اردیبهشت!J26+فروردین!J26 -> 0 | K26: =خرداد!K26+اردیبهشت!K26+فروردین!K26 -> 0 | L26: =خرداد!L26+اردیبهشت!L26+فروردین!L26 -> 0 | ... AU26: =خرداد!AU26+اردیبهشت!AU26+فروردین!AU26 -> 0
A27: جمع کل ایرانی و غیر ایرانی | D27: =D14+D26 -> 0 | E27: =E26+E14 -> 0 | F27: =F26+F14 -> 0 | G27: =G26+G14 -> 0 | H27: =H26+H14 -> 0 | I27: =I26+I14 -> 0 | J27: =J26+J14 -> 0 | K27: =K26+K14 -> 0 | L27: =L26+L14 -> 0 | ... AU27: =AU26+AU14 -> 0
E28: =E27+F27 -> 0 | G28: =G27+H27+I27 -> 0 | J28: =J27+K27+L27 -> 0 | M28: =M27+N27+O27+P27 -> 0 | R28: =R27+S27+T27 -> 0 | U28: =U27+V27+W27 -> 0 | X28: =X27+Y27+Z27+AA27 -> 0 | AB28: =AB27+AC27+AD27 -> 0 | AE28: =AE27+AF27+AG27 -> 0 | AH28: =AH27+AI27+AJ27+AK27+AL27+AM27+AN27+AO27+AP27 -> 0 | AR28: =AR27+AS27+AT27+AU27 -> 0

Sheet تیر
A1: آمار غربالگري تيروئيد نوزادان : سال 1403 | E1: مركز خدمات جامع سلامت : ............... | J1: مركز بهداشت شهرستان قزوین
A2: رديف | C2: نام محل نمونه گيري | D2: تعداد نوزادان غربالگري شده باراول | E2: جنس | G2: زمان انجام نمونه گيري نوبت اول بر حسب سن نوزاد به روز | J2: زمان اعلام نتيجه آزمايش مشکوک نوبت اول برحسب سن نوزاد به روز | M2: سطح TSH نوبت اول | Q2: تعداد غربالگری بار دوم | R2: زمان انجام نمونه گيري نوبت دوم بر حسب سن نوزاد به روز | U2: زمان اعلام نتيجه آزمايش مشکوک نوبت دوم برحسب سن نوزاد به روز | X2: سطح TSH نوبت دوم | AB2: تشخيص نهايي | AE2: زمان شروع درمان برحسب سن نوزاد به روز | AH2: علل غربالگری باردوم | AQ2: تعداد غربالگری نوبت سوم و چهارم | AR2: سطح TSH نوبت سوم و چهارم
E3: دختر | F3: پسر | G3: 3-5 روز | H3: 6-21 روز | I3: 22و بيشتر | J3: <13 | K3: روز 21-14 | L3: 22و بيشتر | M3: TSH<5 | N3: TSH 5-9 | O3: TSH>=10-19/9 | P3: TSH>20 | R3: <13 | S3: 14-21 روز | T3: 22و بيشتر | U3: <14 | V3: 15-21 | W3: 22و بيشتر | X3: TSH<5 | Y3: TSH 5-9 | Z3: TSH>=10-19/9 | AA3: TSH>20 | AB3: سالم | AC3: بيمار | AD3: عدم آزمایش | AE3: كمتر از 28 | AF3: 28-40 | AG3: 41و بيشتر | AH3: نمونه نامناسب | AI3: TSH= 5-9/9 | AJ3: نوزاد نارس | AK3: نوزاد با وزن کمتر از 2500 گرم | AL3: نوزاد با وزن بیش از 4000 گرم | AM3: دو قلویی یا چند قلویی | AN3: سابقه بستری در بیمارستان | AO3: تعویض یا دریافت خون | AP3: سابقه مصرف داروهای خاص | AR3: TSH<5 | AS3: TSH 5-9 | AT3: TSH>=10-19/9 | AU3: TSH>20
A4: 1 | B4: نوزاد ایرانی ترم | D4: 0 | E4: 0 | F4: 0 | G4: 0 | H4: 0 | I4: 0 | J4: 0 | K4: 0 | L4: 0 | M4: 0 | N4: 0 | O4: 0 | P4: 0 | Q4: 0 | R4: 0 | S4: 0 | T4: 0 | U4: 0 | V4: 0 | W4: 0 | X4: 0 | Y4: 0 | Z4: 0 | AA4: 0 | AB4: 0 | AC4: 0 | AD4: 0 | AE4: 0 | AF4: 0 | AG4: 0 | AH4: 0 | AI4: 0 | AJ4: 0 | AK4: 0 | AL4: 0 | AM4: 0 | AN4: 0 | AO4: 0 | AP4: 0 | AQ4: 0 | AR4: 0 | AS4: 0 | AT4: 0 | AU4: 0
A5: 2
A6: 3
A7: 4
A8: 5
A9: 1 | B9: نوزاد ایرانی نارس | D9: 0 | E9: 0 | F9: 0 | G9: 0 | H9: 0 | I9: 0 | J9: 0 | K9: 0 | L9: 0 | M9: 0 | N9: 0 | O9: 0 | P9: 0 | Q9: 0 | R9: 0 | S9: 0 | T9: 0 | U9: 0 | V9: 0 | W9: 0 | X9: 0 | Y9: 0 | Z9: 0 | AA9: 0 | AB9: 0 | AC9: 0 | AD9: 0 | AE9: 0 | AF9: 0 | AG9: 0 | AH9: 0 | AI9: 0 | AJ9: 0 | AK9: 0 | AL9: 0 | AM9: 0 | AN9: 0 | AO9: 0 | AP9: 0 | AQ9: 0 | AR9: 0 | AS9: 0 | AT9: 0 | AU9: 0
A10: 2
A11: 3
A12: 4
A13: 5
A14: جمع کل ایرانی | D14: =D4+D5+D6+D7+D8+D9+D10+D11+D12+D13 -> 0 | E14: =E4+E5+E6+E7+E8+E9+E10+E11+E12+E13 -> 0 | F14: =F4+F5+F6+F7+F8+F9+F10+F11+F12+F13 -> 0 | G14: =G4+G5+G6+G7+G8+G9+G10+G11+G12+G13 -> 0 | H14: =H4+H5+H6+H7+H8+H9+H10+H11+H12+H13 -> 0 | I14: =I4+I5+I6+I7+I8+I9+I10+I11+I12+I13 -> 0 | J14: =J4+J5+J6+J7+J8+J9+J10+J11+J12+J13 -> 0 | K14: =K4+K5+K6+K7+K8+K9+K10+K11+K12+K13 -> 0 | ... AU14: =AU4+AU5+AU6+AU7+AU8+AU9+AU10+AU11+AU12+AU13 -> 0
A15: جمعيت غیر ایرانی
A16: 1 | B16: نوزاد غیر ایرانی ترم | D16: 0 | E16: 0 | F16: 0 | G16: 0 | H16: 0 | I16: 0 | J16: 0 | K16: 0 | L16: 0 | M16: 0 | N16: 0 | O16: 0 | P16: 0 | Q16: 0 | R16: 0 | S16: 0 | T16: 0 | U16: 0 | V16: 0 | W16: 0 | X16: 0 | Y16: 0 | Z16: 0 | AA16: 0 | AB16: 0 | AC16: 0 | AD16: 0 | AE16: 0 | AF16: 0 | AG16: 0 | AH16: 0 | AI16: 0 | AJ16: 0 | AK16: 0 | AL16: 0 | AM16: 0 | AN16: 0 | AO16: 0 | AP16: 0
A17: 2
A18: 3
A19: 4
A20: 5
A21: 1 | B21: نوزاد غیر ایرانی نارس | D21: 0 | E21: 0 | F21: 0 | G21: 0 | H21: 0 | I21: 0 | J21: 0 | K21: 0 | L21: 0 | M21: 0 | N21: 0 | O21: 0 | P21: 0 | Q21: 0 | R21: 0 | S21: 0 | T21: 0 | U21: 0 | V21: 0 | W21: 0 | X21: 0 | Y21: 0 | Z21: 0 | AA21: 0 | AB21: 0 | AC21: 0 | AD21: 0 | AE21: 0 | AF21: 0 | AG21: 0 | AH21: 0 | AI21: 0 | AJ21: 0 | AK21: 0 | AL21: 0 | AM21: 0 | AN21: 0 | AO21: 0 | AP21: 0 | AQ21: 0 | AR21: 0 | AS21: 0 | AT21: 0 | AU21: 0
A22: 2
A23: 3
A24: 4
A25: 5
A26: جمع کل غیر ایرانی | D26: =D16+D17+D18+D19+D20+D21+D22+D23+D24+D25 -> 0 | E26: =E16+E17+E18+E19+E20+E21+E22+E23+E24+E25 -> 0 | F26: =F16+F17+F18+F19+F20+F21+F22+F23+F24+F25 -> 0 | G26: =G16+G17+G18+G19+G20+G21+G22+G23+G24+G25 -> 0 | H26: =H16+H17+H18+H19+H20+H21+H22+H23+H24+H25 -> 0 | I26: =I16+I17+I18+I19+I20+I21+I22+I23+I24+I25 -> 0 | J26: =J16+J17+J18+J19+J20+J21+J22+J23+J24+J25 -> 0 | K26: =K16+K17+K18+K19+K20+K21+K22+K23+K24+K25 -> 0 | ... AU26: =AU16+AU17+AU18+AU19+AU20+AU21+AU22+AU23+AU24+AU25 -> 0
A27: جمع کل ایرانی و غیر ایرانی | D27: =D26+D14 -> 0 | E27: =E26+E14 -> 0 | F27: =F26+F14 -> 0 | G27: =G26+G14 -> 0 | H27: =H26+H14 -> 0 | I27: =I26+I14 -> 0 | J27: =J26+J14 -> 0 | K27: =K26+K14 -> 0 | ... AU27: =AU26+AU14 -> 0
E28: =E27+F27 -> 0 | G28: =G27+H27+I27 -> 0 | J28: =J27+K27+L27 -> 0 | M28: 0 | R28: =R27+S27+T27 -> 0 | U28: 0 | X28: 0 | AB28: =AB27+AC27+AD27 -> 0 | AE28: 0 | AH28: =AH27+AI27+AJ27+AK27+AL27+AM27+AN27+AO27+AP27 -> 0 | AR28: =AR27+AS27+AT27+AU27 -> 0

Sheet مرداد
A1: آمار غربالگري تيروئيد نوزادان : سال 1403 | E1: مركز خدمات جامع سلامت : ............... | J1: مركز بهداشت شهرستان قزوین
A2: رديف | C2: نام محل نمونه گيري | D2: تعداد نوزادان غربالگري شده باراول | E2: جنس | G2: زمان انجام نمونه گيري نوبت اول بر حسب سن نوزاد به روز | J2: زمان اعلام نتيجه آزمايش مشکوک نوبت اول برحسب سن نوزاد به روز | M2: سطح TSH نوبت اول | Q2: تعداد غربالگری بار دوم | R2: زمان انجام نمونه گيري نوبت دوم بر حسب سن نوزاد به روز | U2: زمان اعلام نتيجه آزمايش مشکوک نوبت دوم برحسب سن نوزاد به روز | X2: سطح TSH نوبت دوم | AB2: تشخيص نهايي | AE2: زمان شروع درمان برحسب سن نوزاد به روز | AH2: علل غربالگری باردوم | AQ2: تعداد غربالگری نوبت سوم و چهارم | AR2: سطح TSH نوبت سوم و چهارم
E3: دختر | F3: پسر | G3: 3-5 روز | H3: 6-21 روز | I3: 22و بيشتر | J3: <13 | K3: روز 21-14 | L3: 22و بيشتر | M3: TSH<5 | N3: TSH 5-9 | O3: TSH>=10-19/9 | P3: TSH>20 | R3: <13 | S3: 14-21 روز | T3: 22و بيشتر | U3: <14 | V3: 15-21 | W3: 22و بيشتر | X3: TSH<5 | Y3: TSH 5-9 | Z3: TSH>=10-19/9 | AA3: TSH>20 | AB3: سالم | AC3: بيمار | AD3: عدم آزمایش | AE3: كمتر از 28 | AF3: 28-40 | AG3: 41و بيشتر | AH3: نمونه نامناسب | AI3: TSH= 5-9/9 | AJ3: نوزاد نارس | AK3: نوزاد با وزن کمتر از 2500 گرم | AL3: نوزاد با وزن بیش از 4000 گرم | AM3: دو قلویی یا چند قلویی | AN3: سابقه بستری در بیمارستان | AO3: تعویض یا دریافت خون | AP3: سابقه مصرف داروهای خاص | AR3: TSH<5 | AS3: TSH 5-9 | AT3: TSH>=10-19/9 | AU3: TSH>20
A4: 1 | B4: نوزاد ایرانی ترم | D4: 0 | E4: 0 | F4: 0 | G4: 0 | H4: 0 | I4: 0 | J4: 0 | K4: 0 | L4: 0 | M4: 0 | N4: 0 | O4: 0 | P4: 0 | Q4: 0 | R4: 0 | S4: 0 | T4: 0 | U4: 0 | V4: 0 | W4: 0 | X4: 0 | Y4: 0 | Z4: 0 | AA4: 0 | AB4: 0 | AC4: 0 | AD4: 0 | AE4: 0 | AF4: 0 | AG4: 0 | AH4: 0 | AI4: 0 | AJ4: 0 | AK4: 0 | AL4: 0 | AM4: 0 | AN4: 0 | AO4: 0 | AP4: 0 | AQ4: 0 | AR4: 0 | AS4: 0 | AT4: 0 | AU4: 0
A5: 2
A6: 3
A7: 4
A8: 5
A9: 1 | B9: نوزاد ایرانی نارس | D9: 0 | E9: 0 | F9: 0 | G9: 0 | H9: 0 | I9: 0 | J9: 0 | K9: 0 | L9: 0 | M9: 0 | N9: 0 | O9: 0 | P9: 0 | Q9: 0 | R9: 0 | S9: 0 | T9: 0 | U9: 0 | V9: 0 | W9: 0 | X9: 0 | Y9: 0 | Z9: 0 | AA9: 0 | AB9: 0 | AC9: 0 | AD9: 0 | AE9: 0 | AF9: 0 | AG9: 0 | AH9: 0 | AI9: 0 | AJ9: 0 | AK9: 0 | AL9: 0 | AM9: 0 | AN9: 0 | AO9: 0 | AP9: 0 | AQ9: 0 | AR9: 0 | AS9: 0 | AT9: 0 | AU9: 0
A10: 2
A11: 3
A12: 4
A13: 5
A14: جمع کل ایرانی | D14: =D4+D5+D6+D7+D8+D9+D10+D11+D12+D13 -> 0 | E14: =E4+E5+E6+E7+E8+E9+E10+E11+E12+E13 -> 0 | F14: =F4+F5+F6+F7+F8+F9+F10+F11+F12+F13 -> 0 | G14: =G4+G5+G6+G7+G8+G9+G10+G11+G12+G13 -> 0 | H14: =H4+H5+H6+H7+H8+H9+H10+H11+H12+H13 -> 0 | I14: =I4+I5+I6+I7+I8+I9+I10+I11+I12+I13 -> 0 | J14: =J4+J5+J6+J7+J8+J9+J10+J11+J12+J13 -> 0 | K14: =K4+K5+K6+K7+K8+K9+K10+K11+K12+K13 -> 0 | ... AU14: =AU4+AU5+AU6+AU7+AU8+AU9+AU10+AU11+AU12+AU13 -> 0
A15: جمعيت غیر ایرانی
A16: 1 | B16: نوزاد غیر ایرانی ترم | D16: 0 | E16: 0 | F16: 0 | G16: 0 | H16: 0 | I16: 0 | J16: 0 | K16: 0 | L16: 0 | M16: 0 | N16: 0 | O16: 0 | P16: 0 | Q16: 0 | R16: 0 | S16: 0 | T16: 0 | U16: 0 | V16: 0 | W16: 0 | X16: 0 | Y16: 0 | Z16: 0 | AA16: 0 | AB16: 0 | AC16: 0 | AD16: 0 | AE16: 0 | AF16: 0 | AG16: 0 | AH16: 0 | AI16: 0 | AJ16: 0 | AK16: 0 | AL16: 0 | AM16: 0 | AN16: 0 | AO16: 0 | AP16: 0 | AQ16: 0 | AR16: 0 | AS16: 0 | AT16: 0 | AU16: 0
A17: 2
A18: 3
A19: 4
A20: 5
A21: 1 | B21: نوزاد غیر ایرانی نارس | D21: 0 | E21: 0 | F21: 0 | G21: 0 | H21: 0 | I21: 0 | J21: 0 | K21: 0 | L21: 0 | M21: 0 | N21: 0 | O21: 0 | P21: 0 | Q21: 0 | R21: 0 | S21: 0 | T21: 0 | U21: 0 | V21: 0 | W21: 0 | X21: 0 | Y21: 0 | Z21: 0 | AA21: 0 | AB21: 0 | AC21: 0 | AD21: 0 | AE21: 0 | AF21: 0 | AG21: 0 | AH21: 0 | AI21: 0 | AJ21: 0 | AK21: 0 | AL21: 0 | AM21: 0 | AN21: 0 | AO21: 0 | AP21: 0 | AQ21: 0 | AR21: 0 | AS21: 0 | AT21: 0 | AU21: 0
A22: 2
A23: 3
A24: 4
A25: 5
A26: جمع کل غیر ایرانی | D26: =D16+D17+D18+D19+D20+D21+D22+D23+D24+D25 -> 0 | E26: =E16+E17+E18+E19+E20+E21+E22+E23+E24+E25 -> 0 | F26: =F16+F17+F18+F19+F20+F21+F22+F23+F24+F25 -> 0 | G26: =G16+G17+G18+G19+G20+G21+G22+G23+G24+G25 -> 0 | H26: =H16+H17+H18+H19+H20+H21+H22+H23+H24+H25 -> 0 | I26: =I16+I17+I18+I19+I20+I21+I22+I23+I24+I25 -> 0 | J26: =J16+J17+J18+J19+J20+J21+J22+J23+J24+J25 -> 0 | K26: =K16+K17+K18+K19+K20+K21+K22+K23+K24+K25 -> 0 | ... AU26: =AU16+AU17+AU18+AU19+AU20+AU21+AU22+AU23+AU24+AU25 -> 0
A27: جمع کل ایرانی و غیر ایرانی | D27: =D26+D14 -> 0 | E27: =E26+E14 -> 0 | F27: =F26+F14 -> 0 | G27: =G26+G14 -> 0 | H27: =H26+H14 -> 0 | I27: =I26+I14 -> 0 | J27: =J26+J14 -> 0 | K27: =K26+K14 -> 0 | ... AU27: =AU26+AU14 -> 0
E28: =E27+F27 -> 0 | G28: =G27+H27+I27 -> 0 | J28: =J27+K27+L27 -> 0 | M28: 0 | R28: =R27+S27+T27 -> 0 | U28: 0 | X28: 0 | AB28: =AB27+AC27+AD27 -> 0 | AE28: 0 | AH28: =AH27+AI27+AJ27+AK27+AL27+AM27+AN27+AO27+AP27 -> 0 | AR28: =AR27+AS27+AT27+AU27 -> 0

Sheet شهریور
A1: آمار غربالگري تيروئيد نوزادان : سال1403 | E1: مركز خدمات جامع سلامت : ............... | J1: مركز بهداشت شهرستان قزوین
A2: رديف | C2: نام محل نمونه گيري | D2: تعداد نوزادان غربالگري شده باراول | E2: جنس | G2: زمان انجام نمونه گيري نوبت اول بر حسب سن نوزاد به روز | J2: زمان اعلام نتيجه آزمايش مشکوک نوبت اول برحسب سن نوزاد به روز | M2: سطح TSH نوبت اول | Q2: تعداد غربالگری بار دوم | R2: زمان انجام نمونه گيري نوبت دوم بر حسب سن نوزاد به روز | U2: زمان اعلام نتيجه آزمايش مشکوک نوبت دوم برحسب سن نوزاد به روز | X2: سطح TSH نوبت دوم | AB2: تشخيص نهايي | AE2: زمان شروع درمان برحسب سن نوزاد به روز | AH2: علل غربالگری باردوم | AQ2: تعداد غربالگری نوبت سوم و چهارم | AR2: سطح TSH نوبت سوم و چهارم
E3: دختر | F3: پسر | G3: 3-5 روز | H3: 6-21 روز | I3: 22و بيشتر | J3: <13 | K3: روز 21-14 | L3: 22و بيشتر | M3: TSH<5 | N3: TSH 5-9 | O3: TSH>=10-19/9 | P3: TSH>20 | R3: <13 | S3: 14-21 روز | T3: 22و بيشتر | U3: <14 | V3: 15-21 | W3: 22و بيشتر | X3: TSH<5 | Y3: TSH 5-9 | Z3: TSH>=10-19/9 | AA3: TSH>20 | AB3: سالم | AC3: بيمار | AD3: عدم آزمایش | AE3: كمتر از 28 | AF3: 28-40 | AG3: 41و بيشتر | AH3: نمونه نامناسب | AI3: TSH= 5-9/9 | AJ3: نوزاد نارس | AK3: نوزاد با وزن کمتر از 2500 گرم | AL3: نوزاد با وزن بیش از 4000 گرم | AM3: دو قلویی یا چند قلویی | AN3: سابقه بستری در بیمارستان | AO3: تعویض یا دریافت خون | AP3: سابقه مصرف داروهای خاص | AR3: TSH<5 | AS3: TSH 5-9 | AT3: TSH>=10-19/9 | AU3: TSH>20
A4: 1 | B4: نوزاد ایرانی ترم | D4: 0 | E4: 0 | F4: 0 | G4: 0 | H4: 0 | I4: 0 | J4: 0 | K4: 0 | L4: 0 | M4: 0 | N4: 0 | O4: 0 | P4: 0 | Q4: 0 | R4: 0 | S4: 0 | T4: 0 | U4: 0 | V4: 0 | W4: 0 | X4: 0 | Y4: 0 | Z4: 0 | AA4: 0 | AB4: 0 | AC4: 0 | AD4: 0 | AE4: 0 | AF4: 0 | AG4: 0 | AH4: 0 | AI4: 0 | AJ4: 0 | AK4: 0 | AL4: 0 | AM4: 0 | AN4: 0 | AO4: 0 | AP4: 0 | AQ4: 0 | AR4: 0 | AS4: 0 | AT4: 0 | AU4: 0
A5: 2
A6: 3
A7: 4
A8: 5
A9: 1 | B9: نوزاد ایرانی نارس | D9: 0 | E9: 0 | F9: 0 | G9: 0 | H9: 0 | I9: 0 | J9: 0 | K9: 0 | L9: 0 | M9: 0 | N9: 0 | O9: 0 | P9: 0 | Q9: 0 | R9: 0 | S9: 0 | T9: 0 | U9: 0 | V9: 0 | W9: 0 | X9: 0 | Y9: 0 | Z9: 0 | AA9: 0 | AB9: 0 | AC9: 0 | AD9: 0 | AE9: 0 | AF9: 0 | AG9: 0 | AH9: 0 | AI9: 0 | AJ9: 0 | AK9: 0 | AL9: 0 | AM9: 0 | AN9: 0 | AO9: 0 | AP9: 0 | AQ9: 0 | AR9: 0 | AS9: 0 | AT9: 0 | AU9: 0
A10: 2
A11: 3
A12: 4
A13: 5
A14: جمع کل ایرانی | D14: =D4+D5+D6+D7+D8+D9+D10+D11+D12+D13 -> 0 | E14: =E4+E5+E6+E7+E8+E9+E10+E11+E12+E13 -> 0 | F14: =F4+F5+F6+F7+F8+F9+F10+F11+F12+F13 -> 0 | G14: =G4+G5+G6+G7+G8+G9+G10+G11+G12+G13 -> 0 | H14: =H4+H5+H6+H7+H8+H9+H10+H11+H12+H13 -> 0 | I14: =I4+I5+I6+I7+I8+I9+I10+I11+I12+I13 -> 0 | J14: =J4+J5+J6+J7+J8+J9+J10+J11+J12+J13 -> 0 | K14: =K4+K5+K6+K7+K8+K9+K10+K11+K12+K13 -> 0 | ... AU14: =AU4+AU5+AU6+AU7+AU8+AU9+AU10+AU11+AU12+AU13 -> 0
A15: جمعيت غیر ایرانی
A16: 1 | B16: نوزاد غیر ایرانی ترم | D16: 0 | E16: 0 | F16: 0 | G16: 0 | H16: 0 | I16: 0 | J16: 0 | K16: 0 | L16: 0 | M16: 0 | N16: 0 | O16: 0 | P16: 0 | Q16: 0 | R16: 0 | S16: 0 | T16: 0 | U16: 0 | V16: 0 | W16: 0 | X16: 0 | Y16: 0 | Z16: 0 | AA16: 0 | AB16: 0 | AC16: 0 | AD16: 0 | AE16: 0 | AF16: 0 | AG16: 0 | AH16: 0 | AI16: 0 | AJ16: 0 | AK16: 0 | AL16: 0 | AM16: 0 | AN16: 0 | AO16: 0 | AP16: 0
A17: 2
A18: 3
A19: 4
A20: 5
A21: 1 | B21: نوزاد غیر ایرانی نارس | D21: 0 | E21: 0 | F21: 0 | G21: 0 | H21: 0 | I21: 0 | J21: 0 | K21: 0 | L21: 0 | M21: 0 | N21: 0 | O21: 0 | P21: 0 | Q21: 0 | R21: 0 | S21: 0 | T21: 0 | U21: 0 | V21: 0 | W21: 0 | X21: 0 | Y21: 0 | Z21: 0 | AA21: 0 | AB21: 0 | AC21: 0 | AD21: 0 | AE21: 0 | AF21: 0 | AG21: 0 | AH21: 0 | AI21: 0 | AJ21: 0 | AK21: 0 | AL21: 0 | AM21: 0 | AN21: 0 | AO21: 0 | AP21: 0 | AQ21: 0 | AR21: 0 | AS21: 0 | AT21: 0 | AU21: 0
A22: 2
A23: 3
A24: 4
A25: 5
A26: جمع کل غیر ایرانی | D26: =D16+D17+D18+D19+D20+D21+D22+D23+D24+D25 -> 0 | E26: =E16+E17+E18+E19+E20+E21+E22+E23+E24+E25 -> 0 | F26: =F16+F17+F18+F19+F20+F21+F22+F23+F24+F25 -> 0 | G26: =G16+G17+G18+G19+G20+G21+G22+G23+G24+G25 -> 0 | H26: =H16+H17+H18+H19+H20+H21+H22+H23+H24+H25 -> 0 | I26: =I16+I17+I18+I19+I20+I21+I22+I23+I24+I25 -> 0 | J26: =J16+J17+J18+J19+J20+J21+J22+J23+J24+J25 -> 0 | K26: =K16+K17+K18+K19+K20+K21+K22+K23+K24+K25 -> 0 | ... AU26: =AU16+AU17+AU18+AU19+AU20+AU21+AU22+AU23+AU24+AU25 -> 0
A27: جمع کل ایرانی و غیر ایرانی | D27: =D26+D14 -> 0 | E27: =E26+E14 -> 0 | F27: =F26+F14 -> 0 | G27: =G26+G14 -> 0 | H27: =H26+H14 -> 0 | I27: =I26+I14 -> 0 | J27: =J26+J14 -> 0 | K27: =K26+K14 -> 0 | ... AU27: =AU26+AU14 -> 0
E28: =E27+F27 -> 0 | G28: =G27+H27+I27 -> 0 | J28: =J27+K27+L27 -> 0 | M28: 0 | R28: =R27+S27+T27 -> 0 | U28: 0 | X28: 0 | AB28: =AB27+AC27+AD27 -> 0 | AE28: 0 | AH28: =AH27+AI27+AJ27+AK27+AL27+AM27+AN27+AO27+AP27 -> 0 | AR28: =AR27+AS27+AT27+AU27 -> 0

Sheet سه ماهه دوم
A1: آمار غربالگري تيروئيد نوزادان : سال 1403 | E1: مركز خدمات جامع سلامت : ............... | J1: مركز بهداشت شهرستان قزوین
A2: رديف | C2: نام محل نمونه گيري | D2: تعداد نوزادان غربالگري شده باراول | E2: جنس | G2: زمان انجام نمونه گيري نوبت اول بر حسب سن نوزاد به روز | J2: زمان اعلام نتيجه آزمايش مشکوک نوبت اول برحسب سن نوزاد به روز | M2: سطح TSH نوبت اول | Q2: تعداد غربالگری باردوم از پاشنه پا | R2: زمان انجام نمونه گيري نوبت دوم بر حسب سن نوزاد به روز | U2: زمان اعلام نتيجه آزمايش مشکوک نوبت دوم برحسب سن نوزاد به روز | X2: سطح TSH نوبت دوم | AB2: تشخيص نهايي | AE2: زمان شروع درمان برحسب سن نوزاد به روز | AH2: تعداد موارد غربالگری مجدد به تفکیک علت | AQ2: تعداد غربالگری نوبت سوم و چهارم | AR2: سطح TSH نوبت سوم و چهارم
E3: دختر | F3: پسر | G3: 3-5 روز | H3: 6-21 روز | I3: 22و بيشتر | J3: <13 | K3: روز 21-14 | L3: 22و بيشتر | M3: TSH<5 | N3: TSH 5-9 | O3: TSH>=10-19/9 | P3: TSH>20 | R3: <13 | S3: 14-21 روز | T3: 22و بيشتر | U3: <14 | V3: 15-21 | W3: 22و بيشتر | X3: TSH<5 | Y3: TSH 5-9 | Z3: TSH>=10-19/9 | AA3: TSH>20 | AB3: سالم | AC3: بيمار | AD3: عدم آزمایش | AE3: كمتر از 28 | AF3: 28-40 | AG3: 41و بيشتر | AH3: نمونه نامناسب | AI3: TSH= 5-9/9 | AJ3: نوزاد نارس | AK3: نوزاد با وزن کمتر از 2500 گرم | AL3: نوزاد با وزن بیش از 4000 گرم | AM3: دو قلویی یا چند قلویی | AN3: سابقه بستری در بیمارستان | AO3: تعویض یا دریافت خون | AP3: سابقه مصرف داروهای خاص | AR3: TSH<5 | AS3: TSH 5-9 | AT3: TSH>=10-19/9 | AU3: TSH>20
A4: 1 | B4: نوزاد ایرانی ترم | D4: =شهریور!D4+مرداد!D4+تیر!D4 -> 0 | E4: =شهریور!E4+مرداد!E4+تیر!E4 -> 0 | F4: =شهریور!F4+مرداد!F4+تیر!F4 -> 0 | G4: =شهریور!G4+مرداد!G4+تیر!G4 -> 0 | H4: =شهریور!H4+مرداد!H4+تیر!H4 -> 0 | I4: =شهریور!I4+مرداد!I4+تیر!I4 -> 0 | J4: =شهریور!J4+مرداد!J4+تیر!J4 -> 0 | K4: =شهریور!K4+مرداد!K4+تیر!K4 -> 0 | ... AU4: =شهریور!AU4+مرداد!AU4+تیر!AU4 -> 0
A5: 2 | D5: =شهریور!D5+مرداد!D5+تیر!D5 -> 0 | E5: =شهریور!E5+مرداد!E5+تیر!E5 -> 0 | F5: =شهریور!F5+مرداد!F5+تیر!F5 -> 0 | G5: =شهریور!G5+مرداد!G5+تیر!G5 -> 0 | H5: =شهریور!H5+مرداد!H5+تیر!H5 -> 0 | I5: =شهریور!I5+مرداد!I5+تیر!I5 -> 0 | J5: =شهریور!J5+مرداد!J5+تیر!J5 -> 0 | K5: =شهریور!K5+مرداد!K5+تیر!K5 -> 0 | ... AU5: =شهریور!AU5+مرداد!AU5+تیر!AU5 -> 0
A6: 3 | D6: =شهریور!D6+مرداد!D6+تیر!D6 -> 0 | E6: =شهریور!E6+مرداد!E6+تیر!E6 -> 0 | F6: =شهریور!F6+مرداد!F6+تیر!F6 -> 0 | G6: =شهریور!G6+مرداد!G6+تیر!G6 -> 0 | H6: =شهریور!H6+مرداد!H6+تیر!H6 -> 0 | I6: =شهریور!I6+مرداد!I6+تیر!I6 -> 0 | J6: =شهریور!J6+مرداد!J6+تیر!J6 -> 0 | K6: =شهریور!K6+مرداد!K6+تیر!K6 -> 0 | ... AU6: =شهریور!AU6+مرداد!AU6+تیر!AU6 -> 0
A7: 4 | D7: =شهریور!D7+مرداد!D7+تیر!D7 -> 0 | E7: =شهریور!E7+مرداد!E7+تیر!E7 -> 0 | F7: =شهریور!F7+مرداد!F7+تیر!F7 -> 0 | G7: =شهریور!G7+مرداد!G7+تیر!G7 -> 0 | H7: =شهریور!H7+مرداد!H7+تیر!H7 -> 0 | I7: =شهریور!I7+مرداد!I7+تیر!I7 -> 0 | J7: =شهریور!J7+مرداد!J7+تیر!J7 -> 0 | K7: =شهریور!K7+مرداد!K7+تیر!K7 -> 0 | ... AU7: =شهریور!AU7+مرداد!AU7+تیر!AU7 -> 0
A8: 5 | D8: =شهریور!D8+مرداد!D8+تیر!D8 -> 0 | E8: =شهریور!E8+مرداد!E8+تیر!E8 -> 0 | F8: =شهریور!F8+مرداد!F8+تیر!F8 -> 0 | G8: =شهریور!G8+مرداد!G8+تیر!G8 -> 0 | H8: =شهریور!H8+مرداد!H8+تیر!H8 -> 0 | I8: =شهریور!I8+مرداد!I8+تیر!I8 -> 0 | J8: =شهریور!J8+مرداد!J8+تیر!J8 -> 0 | K8: =شهریور!K8+مرداد!K8+تیر!K8 -> 0 | ... AU8: =شهریور!AU8+مرداد!AU8+تیر!AU8 -> 0
A9: 1 | B9: نوزاد ایرانی نارس | D9: =شهریور!D9+مرداد!D9+تیر!D9 -> 0 | E9: =شهریور!E9+مرداد!E9+تیر!E9 -> 0 | F9: =شهریور!F9+مرداد!F9+تیر!F9 -> 0 | G9: =شهریور!G9+مرداد!G9+تیر!G9 -> 0 | H9: =شهریور!H9+مرداد!H9+تیر!H9 -> 0 | I9: =شهریور!I9+مرداد!I9+تیر!I9 -> 0 | J9: =شهریور!J9+مرداد!J9+تیر!J9 -> 0 | K9: =شهریور!K9+مرداد!K9+تیر!K9 -> 0 | ... AU9: =شهریور!AU9+مرداد!AU9+تیر!AU9 -> 0
A10: 2 | D10: =شهریور!D10+مرداد!D10+تیر!D10 -> 0 | E10: =شهریور!E10+مرداد!E10+تیر!E10 -> 0 | F10: =شهریور!F10+مرداد!F10+تیر!F10 -> 0 | G10: =شهریور!G10+مرداد!G10+تیر!G10 -> 0 | H10: =شهریور!H10+مرداد!H10+تیر!H10 -> 0 | I10: =شهریور!I10+مرداد!I10+تیر!I10 -> 0 | J10: =شهریور!J10+مرداد!J10+تیر!J10 -> 0 | K10: =شهریور!K10+مرداد!K10+تیر!K10 -> 0 | ... AU10: =شهریور!AU10+مرداد!AU10+تیر!AU10 -> 0
A11: 3 | D11: =شهریور!D11+مرداد!D11+تیر!D11 -> 0 | E11: =شهریور!E11+مرداد!E11+تیر!E11 -> 0 | F11: =شهریور!F11+مرداد!F11+تیر!F11 -> 0 | G11: =شهریور!G11+مرداد!G11+تیر!G11 -> 0 | H11: =شهریور!H11+مرداد!H11+تیر!H11 -> 0 | I11: =شهریور!I11+مرداد!I11+تیر!I11 -> 0 | J11: =شهریور!J11+مرداد!J11+تیر!J11 -> 0 | K11: =شهریور!K11+مرداد!K11+تیر!K11 -> 0 | ... AU11: =شهریور!AU11+مرداد!AU11+تیر!AU11 -> 0
A12: 4 | D12: =شهریور!D12+مرداد!D12+تیر!D12 -> 0 | E12: =شهریور!E12+مرداد!E12+تیر!E12 -> 0 | F12: =شهریور!F12+مرداد!F12+تیر!F12 -> 0 | G12: =شهریور!G12+مرداد!G12+تیر!G12 -> 0 | H12: =شهریور!H12+مرداد!H12+تیر!H12 -> 0 | I12: =شهریور!I12+مرداد!I12+تیر!I12 -> 0 | J12: =شهریور!J12+مرداد!J12+تیر!J12 -> 0 | K12: =شهریور!K12+مرداد!K12+تیر!K12 -> 0 | ... AU12: =شهریور!AU12+مرداد!AU12+تیر!AU12 -> 0
A13: 5 | D13: =شهریور!D13+مرداد!D13+تیر!D13 -> 0 | E13: =شهریور!E13+مرداد!E13+تیر!E13 -> 0 | F13: =شهریور!F13+مرداد!F13+تیر!F13 -> 0 | G13: =شهریور!G13+مرداد!G13+تیر!G13 -> 0 | H13: =شهریور!H13+مرداد!H13+تیر!H13 -> 0 | I13: =شهریور!I13+مرداد!I13+تیر!I13 -> 0 | J13: =شهریور!J13+مرداد!J13+تیر!J13 -> 0 | K13: =شهریور!K13+مرداد!K13+تیر!K13 -> 0 | ... AU13: =شهریور!AU13+مرداد!AU13+تیر!AU13 -> 0
A14: جمع کل ایرانی | D14: =D4+D5+D6+D7+D8+D9+D10+D11+D12+D13 -> 0 | E14: =E4+E5+E6+E7+E8+E9+E10+E11+E12+E13 -> 0 | F14: =F4+F5+F6+F7+F8+F9+F10+F11+F12+F13 -> 0 | G14: =G4+G5+G6+G7+G8+G9+G10+G11+G12+G13 -> 0 | H14: =H4+H5+H6+H7+H8+H9+H10+H11+H12+H13 -> 0 | I14: =I4+I5+I6+I7+I8+I9+I10+I11+I12+I13 -> 0 | J14: =J4+J5+J6+J7+J8+J9+J10+J11+J12+J13 -> 0 | K14: =K4+K5+K6+K7+K8+K9+K10+K11+K12+K13 -> 0 | ... AU14: =AU4+AU5+AU6+AU7+AU8+AU9+AU10+AU11+AU12+AU13 -> 0
A15: جمعيت غیر ایرانی
A16: 1 | B16: نوزاد غیر ایرانی ترم | D16: =شهریور!D16+مرداد!D16+تیر!D16 -> 0 | E16: =شهریور!E16+مرداد!E16+تیر!E16 -> 0 | F16: =شهریور!F16+مرداد!F16+تیر!F16 -> 0 | G16: =شهریور!G16+مرداد!G16+تیر!G16 -> 0 | H16: =شهریور!H16+مرداد!H16+تیر!H16 -> 0 | I16: =شهریور!I16+مرداد!I16+تیر!I16 -> 0 | J16: =شهریور!J16+مرداد!J16+تیر!J16 -> 0 | K16: =شهریور!K16+مرداد!K16+تیر!K16 -> 0 | ... AU16: =شهریور!AU16+مرداد!AU16+تیر!AU16 -> 0
A17: 2 | D17: =شهریور!D17+مرداد!D17+تیر!D17 -> 0 | E17: =شهریور!E17+مرداد!E17+تیر!E17 -> 0 | F17: =شهریور!F17+مرداد!F17+تیر!F17 -> 0 | G17: =شهریور!G17+مرداد!G17+تیر!G17 -> 0 | H17: =شهریور!H17+مرداد!H17+تیر!H17 -> 0 | I17: =شهریور!I17+مرداد!I17+تیر!I17 -> 0 | J17: =شهریور!J17+مرداد!J17+تیر!J17 -> 0 | K17: =شهریور!K17+مرداد!K17+تیر!K17 -> 0 | ... AU17: =شهریور!AU17+مرداد!AU17+تیر!AU17 -> 0
A18: 3 | D18: =شهریور!D18+مرداد!D18+تیر!D18 -> 0 | E18: =شهریور!E18+مرداد!E18+تیر!E18 -> 0 | F18: =شهریور!F18+مرداد!F18+تیر!F18 -> 0 | G18: =شهریور!G18+مرداد!G18+تیر!G18 -> 0 | H18: =شهریور!H18+مرداد!H18+تیر!H18 -> 0 | I18: =شهریور!I18+مرداد!I18+تیر!I18 -> 0 | J18: =شهریور!J18+مرداد!J18+تیر!J18 -> 0 | K18: =شهریور!K18+مرداد!K18+تیر!K18 -> 0 | ... AU18: =شهریور!AU18+مرداد!AU18+تیر!AU18 -> 0
A19: 4 | D19: =شهریور!D19+مرداد!D19+تیر!D19 -> 0 | E19: =شهریور!E19+مرداد!E19+تیر!E19 -> 0 | F19: =شهریور!F19+مرداد!F19+تیر!F19 -> 0 | G19: =شهریور!G19+مرداد!G19+تیر!G19 -> 0 | H19: =شهریور!H19+مرداد!H19+تیر!H19 -> 0 | I19: =شهریور!I19+مرداد!I19+تیر!I19 -> 0 | J19: =شهریور!J19+مرداد!J19+تیر!J19 -> 0 | K19: =شهریور!K19+مرداد!K19+تیر!K19 -> 0 | ... AU19: =شهریور!AU19+مرداد!AU19+تیر!AU19 -> 0
A20: 5 | D20: =شهریور!D20+مرداد!D20+تیر!D20 -> 0 | E20: =شهریور!E20+مرداد!E20+تیر!E20 -> 0 | F20: =شهریور!F20+مرداد!F20+تیر!F20 -> 0 | G20: =شهریور!G20+مرداد!G20+تیر!G20 -> 0 | H20: =شهریور!H20+مرداد!H20+تیر!H20 -> 0 | I20: =شهریور!I20+مرداد!I20+تیر!I20 -> 0 | J20: =شهریور!J20+مرداد!J20+تیر!J20 -> 0 | K20: =شهریور!K20+مرداد!K20+تیر!K20 -> 0 | ... AU20: =شهریور!AU20+مرداد!AU20+تیر!AU20 -> 0
A21: 1 | B21: نوزاد غیر ایرانی نارس | D21: =شهریور!D21+مرداد!D21+تیر!D21 -> 0 | E21: =شهریور!E21+مرداد!E21+تیر!E21 -> 0 | F21: =شهریور!F21+مرداد!F21+تیر!F21 -> 0 | G21: =شهریور!G21+مرداد!G21+تیر!G21 -> 0 | H21: =شهریور!H21+مرداد!H21+تیر!H21 -> 0 | I21: =شهریور!I21+مرداد!I21+تیر!I21 -> 0 | J21: =شهریور!J21+مرداد!J21+تیر!J21 -> 0 | K21: =شهریور!K21+مرداد!K21+تیر!K21 -> 0 | ... AU21: =شهریور!AU21+مرداد!AU21+تیر!AU21 -> 0
A22: 2 | D22: =شهریور!D22+مرداد!D22+تیر!D22 -> 0 | E22: =شهریور!E22+مرداد!E22+تیر!E22 -> 0 | F22: =شهریور!F22+مرداد!F22+تیر!F22 -> 0 | G22: =شهریور!G22+مرداد!G22+تیر!G22 -> 0 | H22: =شهریور!H22+مرداد!H22+تیر!H22 -> 0 | I22: =شهریور!I22+مرداد!I22+تیر!I22 -> 0 | J22: =شهریور!J22+مرداد!J22+تیر!J22 -> 0 | K22: =شهریور!K22+مرداد!K22+تیر!K22 -> 0 | ... AU22: =شهریور!AU22+مرداد!AU22+تیر!AU22 -> 0
A23: 3 | D23: =شهریور!D23+مرداد!D23+تیر!D23 -> 0 | E23: =شهریور!E23+مرداد!E23+تیر!E23 -> 0 | F23: =شهریور!F23+مرداد!F23+تیر!F23 -> 0 | G23: =شهریور!G23+مرداد!G23+تیر!G23 -> 0 | H23: =شهریور!H23+مرداد!H23+تیر!H23 -> 0 | I23: =شهریور!I23+مرداد!I23+تیر!I23 -> 0 | J23: =شهریور!J23+مرداد!J23+تیر!J23 -> 0 | K23: =شهریور!K23+مرداد!K23+تیر!K23 -> 0 | ... AU23: =شهریور!AU23+مرداد!AU23+تیر!AU23 -> 0
A24: 4 | D24: =شهریور!D24+مرداد!D24+تیر!D24 -> 0 | E24: =شهریور!E24+مرداد!E24+تیر!E24 -> 0 | F24: =شهریور!F24+مرداد!F24+تیر!F24 -> 0 | G24: =شهریور!G24+مرداد!G24+تیر!G24 -> 0 | H24: =شهریور!H24+مرداد!H24+تیر!H24 -> 0 | I24: =شهریور!I24+مرداد!I24+تیر!I24 -> 0 | J24: =شهریور!J24+مرداد!J24+تیر!J24 -> 0 | K24: =شهریور!K24+مرداد!K24+تیر!K24 -> 0 | ... AU24: =شهریور!AU24+مرداد!AU24+تیر!AU24 -> 0
A25: 5 | D25: =شهریور!D25+مرداد!D25+تیر!D25 -> 0 | E25: =شهریور!E25+مرداد!E25+تیر!E25 -> 0 | F25: =شهریور!F25+مرداد!F25+تیر!F25 -> 0 | G25: =شهریور!G25+مرداد!G25+تیر!G25 -> 0 | H25: =شهریور!H25+مرداد!H25+تیر!H25 -> 0 | I25: =شهریور!I25+مرداد!I25+تیر!I25 -> 0 | J25: =شهریور!J25+مرداد!J25+تیر!J25 -> 0 | K25: =شهریور!K25+مرداد!K25+تیر!K25 -> 0 | ... AU25: =شهریور!AU25+مرداد!AU25+تیر!AU25 -> 0
A26: جمع کل غیر ایرانی | D26: =D16+D17+D18+D19+D20+D21+D22+D23+D24+D25 -> 0 | E26: =E16+E17+E18+E19+E20+E21+E22+E23+E24+E25 -> 0 | F26: =F16+F17+F18+F19+F20+F21+F22+F23+F24+F25 -> 0 | G26: =G16+G17+G18+G19+G20+G21+G22+G23+G24+G25 -> 0 | H26: =H16+H17+H18+H19+H20+H21+H22+H23+H24+H25 -> 0 | I26: =I16+I17+I18+I19+I20+I21+I22+I23+I24+I25 -> 0 | J26: =J16+J17+J18+J19+J20+J21+J22+J23+J24+J25 -> 0 | K26: =K16+K17+K18+K19+K20+K21+K22+K23+K24+K25 -> 0 | ... AU26: =AU16+AU17+AU18+AU19+AU20+AU21+AU22+AU23+AU24+AU25 -> 0
A27: جمع کل ایرانی و غیر ایرانی | D27: =D14+D26 -> 0 | E27: =E14+E26 -> 0 | F27: =F14+F26 -> 0 | G27: =G14+G26 -> 0 | H27: =H14+H26 -> 0 | I27: =I14+I26 -> 0 | J27: =J14+J26 -> 0 | K27: =K14+K26 -> 0 | ... AU27: =AU14+AU26 -> 0
E28: =E27+F27 -> 0 | G28: =G27+H27+I27 -> 0 | J28: =J27+K27+L27 -> 0 | M28: =M27+N27+O27+P27 -> 0 | R28: =R27+S27+T27 -> 0 | U28: =U27+V27+W27 -> 0 | X28: =X27+Y27+Z27+AA27 -> 0 | AB28: =AB27+AC27+AD27 -> 0 | AE28: =AE27+AF27+AG27 -> 0 | AH28: =AH27+AI27+AJ27+AK27+AL27+AM27+AN27+AO27+AP27 -> 0 | AR28: =AR27+AS27+AT27+AU27 -> 0

Sheet شش ماهه اول
A1: آمار غربالگري تيروئيد نوزادان : سال 1403 | E1: مركز خدمات جامع سلامت : ............... | J1: مركز بهداشت شهرستان :..................
A2: رديف | C2: نام محل نمونه گيري | D2: تعداد نوزادان غربالگري شده نوبت اول | E2: جنس | G2: زمان انجام نمونه گيري نوبت اول بر حسب سن نوزاد به روز | J2: زمان اعلام نتيجه آزمايش مشکوک نوبت اول برحسب سن نوزاد به روز | M2: سطح TSH نوبت اول | Q2: تعداد غربالگری نوبت دوم از پاشنه پا | R2: زمان انجام نمونه گيري نوبت دوم بر حسب سن نوزاد به روز | U2: زمان اعلام نتيجه آزمايش مشکوک نوبت دوم برحسب سن نوزاد به روز | X2: سطح TSH نوبت دوم | AB2: تشخيص نهايي | AE2: زمان شروع درمان برحسب سن نوزاد به روز | AH2: تعداد موارد غربالگری مجدد به تفکیک علت | AQ2: تعداد غربالگری نوبت سوم و چهارم | AR2: سطح TSH نوبت سوم و چهارم
E3: دختر | F3: پسر | G3: 3-5 روز | H3: 6-21 روز | I3: 22و بيشتر | J3: <13 | K3: روز 21-14 | L3: 22و بيشتر | M3: TSH<5 | N3: TSH 5-9 | O3: TSH>=10-19/9 | P3: TSH>20 | R3: <13 | S3: 14-21 روز | T3: 22و بيشتر | U3: <14 | V3: 15-21 | W3: 22و بيشتر | X3: TSH<5 | Y3: TSH 5-9 | Z3: TSH>=10-19/9 | AA3: TSH>20 | AB3: سالم | AC3: بيمار | AD3: عدم آزمایش | AE3: كمتر از 28 | AF3: 28-40 | AG3: 41و بيشتر | AH3: نمونه نامناسب | AI3: TSH= 5-9/9 | AJ3: نوزاد نارس | AK3: نوزاد با وزن کمتر از 2500 گرم | AL3: نوزاد با وزن بیش از 4000 گرم | AM3: دو قلویی یا چند قلویی | AN3: سابقه بستری در بیمارستان | AO3: تعویض یا دریافت خون | AP3: سابقه مصرف داروهای خاص | AR3: TSH<5 | AS3: TSH 5-9 | AT3: TSH>=10-19/9 | AU3: TSH>20
A4: 1 | B4: نوزاد ایرانی ترم | D4: ='سه ماهه دوم'!D4+'سه ماهه اول'!D4 -> 0 | E4: ='سه ماهه دوم'!E4+'سه ماهه اول'!E4 -> 0 | F4: ='سه ماهه دوم'!F4+'سه ماهه اول'!F4 -> 0 | G4: ='سه ماهه دوم'!G4+'سه ماهه اول'!G4 -> 0 | H4: ='سه ماهه دوم'!H4+'سه ماهه اول'!H4 -> 0 | I4: ='سه ماهه دوم'!I4+'سه ماهه اول'!I4 -> 0 | J4: ='سه ماهه دوم'!J4+'سه ماهه اول'!J4 -> 0 | K4: ='سه ماهه دوم'!K4+'سه ماهه اول'!K4 -> 0 | ... AU4: ='سه ماهه دوم'!AU4+'سه ماهه اول'!AU4 -> 0
A5: 2 | D5: ='سه ماهه دوم'!D5+'سه ماهه اول'!D5 -> 0 | E5: ='سه ماهه دوم'!E5+'سه ماهه اول'!E5 -> 0 | F5: ='سه ماهه دوم'!F5+'سه ماهه اول'!F5 -> 0 | G5: ='سه ماهه دوم'!G5+'سه ماهه اول'!G5 -> 0 | H5: ='سه ماهه دوم'!H5+'سه ماهه اول'!H5 -> 0 | I5: ='سه ماهه دوم'!I5+'سه ماهه اول'!I5 -> 0 | J5: ='سه ماهه دوم'!J5+'سه ماهه اول'!J5 -> 0 | K5: ='سه ماهه دوم'!K5+'سه ماهه اول'!K5 -> 0 | ... AU5: ='سه ماهه دوم'!AU5+'سه ماهه اول'!AU5 -> 0
A6: 3 | D6: ='سه ماهه دوم'!D6+'سه ماهه اول'!D6 -> 0 | E6: ='سه ماهه دوم'!E6+'سه ماهه اول'!E6 -> 0 | F6: ='سه ماهه دوم'!F6+'سه ماهه اول'!F6 -> 0 | G6: ='سه ماهه دوم'!G6+'سه ماهه اول'!G6 -> 0 | H6: ='سه ماهه دوم'!H6+'سه ماهه اول'!H6 -> 0 | I6: ='سه ماهه دوم'!I6+'سه ماهه اول'!I6 -> 0 | J6: ='سه ماهه دوم'!J6+'سه ماهه اول'!J6 -> 0 | K6: ='سه ماهه دوم'!K6+'سه ماهه اول'!K6 -> 0 | ... AU6: ='سه ماهه دوم'!AU6+'سه ماهه اول'!AU6 -> 0
A7: 4 | D7: ='سه ماهه دوم'!D7+'سه ماهه اول'!D7 -> 0 | E7: ='سه ماهه دوم'!E7+'سه ماهه اول'!E7 -> 0 | F7: ='سه ماهه دوم'!F7+'سه ماهه اول'!F7 -> 0 | G7: ='سه ماهه دوم'!G7+'سه ماهه اول'!G7 -> 0 | H7: ='سه ماهه دوم'!H7+'سه ماهه اول'!H7 -> 0 | I7: ='سه ماهه دوم'!I7+'سه ماهه اول'!I7 -> 0 | J7: ='سه ماهه دوم'!J7+'سه ماهه اول'!J7 -> 0 | K7: ='سه ماهه دوم'!K7+'سه ماهه اول'!K7 -> 0 | ... AU7: ='سه ماهه دوم'!AU7+'سه ماهه اول'!AU7 -> 0
A8: 5 | D8: ='سه ماهه دوم'!D8+'سه ماهه اول'!D8 -> 0 | E8: ='سه ماهه دوم'!E8+'سه ماهه اول'!E8 -> 0 | F8: ='سه ماهه دوم'!F8+'سه ماهه اول'!F8 -> 0 | G8: ='سه ماهه دوم'!G8+'سه ماهه اول'!G8 -> 0 | H8: ='سه ماهه دوم'!H8+'سه ماهه اول'!H8 -> 0 | I8: ='سه ماهه دوم'!I8+'سه ماهه اول'!I8 -> 0 | J8: ='سه ماهه دوم'!J8+'سه ماهه اول'!J8 -> 0 | K8: ='سه ماهه دوم'!K8+'سه ماهه اول'!K8 -> 0 | ... AU8: ='سه ماهه دوم'!AU8+'سه ماهه اول'!AU8 -> 0
A9: 1 | B9: نوزاد ایرانی نارس | D9: ='سه ماهه دوم'!D9+'سه ماهه اول'!D9 -> 0 | E9: ='سه ماهه دوم'!E9+'سه ماهه اول'!E9 -> 0 | F9: ='سه ماهه دوم'!F9+'سه ماهه اول'!F9 -> 0 | G9: ='سه ماهه دوم'!G9+'سه ماهه اول'!G9 -> 0 | H9: ='سه ماهه دوم'!H9+'سه ماهه اول'!H9 -> 0 | I9: ='سه ماهه دوم'!I9+'سه ماهه اول'!I9 -> 0 | J9: ='سه ماهه دوم'!J9+'سه ماهه اول'!J9 -> 0 | K9: ='سه ماهه دوم'!K9+'سه ماهه اول'!K9 -> 0 | ... AU9: ='سه ماهه دوم'!AU9+'سه ماهه اول'!AU9 -> 0
A10: 2 | D10: ='سه ماهه دوم'!D10+'سه ماهه اول'!D10 -> 0 | E10: ='سه ماهه دوم'!E10+'سه ماهه اول'!E10 -> 0 | F10: ='سه ماهه دوم'!F10+'سه ماهه اول'!F10 -> 0 | G10: ='سه ماهه دوم'!G10+'سه ماهه اول'!G10 -> 0 | H10: ='سه ماهه دوم'!H10+'سه ماهه اول'!H10 -> 0 | I10: ='سه ماهه دوم'!I10+'سه ماهه اول'!I10 -> 0 | J10: ='سه ماهه دوم'!J10+'سه ماهه اول'!J10 -> 0 | K10: ='سه ماهه دوم'!K10+'سه ماهه اول'!K10 -> 0 | ... AU10: ='سه ماهه دوم'!AU10+'سه ماهه اول'!AU10 -> 0
A11: 3 | D11: ='سه ماهه دوم'!D11+'سه ماهه اول'!D11 -> 0 | E11: ='سه ماهه دوم'!E11+'سه ماهه اول'!E11 -> 0 | F11: ='سه ماهه دوم'!F11+'سه ماهه اول'!F11 -> 0 | G11: ='سه ماهه دوم'!G11+'سه ماهه اول'!G11 -> 0 | H11: ='سه ماهه دوم'!H11+'سه ماهه اول'!H11 -> 0 | I11: ='سه ماهه دوم'!I11+'سه ماهه اول'!I11 -> 0 | J11: ='سه ماهه دوم'!J11+'سه ماهه اول'!J11 -> 0 | K11: ='سه ماهه دوم'!K11+'سه ماهه اول'!K11 -> 0 | ... AU11: ='سه ماهه دوم'!AU11+'سه ماهه اول'!AU11 -> 0
A12: 4 | D12: ='سه ماهه دوم'!D12+'سه ماهه اول'!D12 -> 0 | E12: ='سه ماهه دوم'!E12+'سه ماهه اول'!E12 -> 0 | F12: ='سه ماهه دوم'!F12+'سه ماهه اول'!F12 -> 0 | G12: ='سه ماهه دوم'!G12+'سه ماهه اول'!G12 -> 0 | H12: ='سه ماهه دوم'!H12+'سه ماهه اول'!H12 -> 0 | I12: ='سه ماهه دوم'!I12+'سه ماهه اول'!I12 -> 0 | J12: ='سه ماهه دوم'!J12+'سه ماهه اول'!J12 -> 0 | K12: ='سه ماهه دوم'!K12+'سه ماهه اول'!K12 -> 0 | ... AU12: ='سه ماهه دوم'!AU12+'سه ماهه اول'!AU12 -> 0
A13: 5 | D13: ='سه ماهه دوم'!D13+'سه ماهه اول'!D13 -> 0 | E13: ='سه ماهه دوم'!E13+'سه ماهه اول'!E13 -> 0 | F13: ='سه ماهه دوم'!F13+'سه ماهه اول'!F13 -> 0 | G13: ='سه ماهه دوم'!G13+'سه ماهه اول'!G13 -> 0 | H13: ='سه ماهه دوم'!H13+'سه ماهه اول'!H13 -> 0 | I13: ='سه ماهه دوم'!I13+'سه ماهه اول'!I13 -> 0 | J13: ='سه ماهه دوم'!J13+'سه ماهه اول'!J13 -> 0 | K13: ='سه ماهه دوم'!K13+'سه ماهه اول'!K13 -> 0 | ... AU13: ='سه ماهه دوم'!AU13+'سه ماهه اول'!AU13 -> 0
A14: جمع کل ایرانی | D14: ='سه ماهه دوم'!D14+'سه ماهه اول'!D14 -> 0 | E14: ='سه ماهه دوم'!E14+'سه ماهه اول'!E14 -> 0 | F14: ='سه ماهه دوم'!F14+'سه ماهه اول'!F14 -> 0 | G14: ='سه ماهه دوم'!G14+'سه ماهه اول'!G14 -> 0 | H14: ='سه ماهه دوم'!H14+'سه ماهه اول'!H14 -> 0 | I14: ='سه ماهه دوم'!I14+'سه ماهه اول'!I14 -> 0 | J14: ='سه ماهه دوم'!J14+'سه ماهه اول'!J14 -> 0 | K14: ='سه ماهه دوم'!K14+'سه ماهه اول'!K14 -> 0 | ... AU14: ='سه ماهه دوم'!AU14+'سه ماهه اول'!AU14 -> 0
A15: جمعيت غیر ایرانی
A16: 1 | B16: نوزاد غیر ایرانی ترم | D16: ='سه ماهه دوم'!D16+'سه ماهه اول'!D16 -> 0 | E16: ='سه ماهه دوم'!E16+'سه ماهه اول'!E16 -> 0 | F16: ='سه ماهه دوم'!F16+'سه ماهه اول'!F16 -> 0 | G16: ='سه ماهه دوم'!G16+'سه ماهه اول'!G16 -> 0 | H16: ='سه ماهه دوم'!H16+'سه ماهه اول'!H16 -> 0 | I16: ='سه ماهه دوم'!I16+'سه ماهه اول'!I16 -> 0 | J16: ='سه ماهه دوم'!J16+'سه ماهه اول'!J16 -> 0 | K16: ='سه ماهه دوم'!K16+'سه ماهه اول'!K16 -> 0 | ... AU16: ='سه ماهه دوم'!AU16+'سه ماهه اول'!AU16 -> 0
A17: 2 | D17: ='سه ماهه دوم'!D17+'سه ماهه اول'!D17 -> 0 | E17: ='سه ماهه دوم'!E17+'سه ماهه اول'!E17 -> 0 | F17: ='سه ماهه دوم'!F17+'سه ماهه اول'!F17 -> 0 | G17: ='سه ماهه دوم'!G17+'سه ماهه اول'!G17 -> 0 | H17: ='سه ماهه دوم'!H17+'سه ماهه اول'!H17 -> 0 | I17: ='سه ماهه دوم'!I17+'سه ماهه اول'!I17 -> 0 | J17: ='سه ماهه دوم'!J17+'سه ماهه اول'!J17 -> 0 | K17: ='سه ماهه دوم'!K17+'سه ماهه اول'!K17 -> 0 | ... AU17: ='سه ماهه دوم'!AU17+'سه ماهه اول'!AU17 -> 0
A18: 3 | D18: ='سه ماهه دوم'!D18+'سه ماهه اول'!D18 -> 0 | E18: ='سه ماهه دوم'!E18+'سه ماهه اول'!E18 -> 0 | F18: ='سه ماهه دوم'!F18+'سه ماهه اول'!F18 -> 0 | G18: ='سه ماهه دوم'!G18+'سه ماهه اول'!G18 -> 0 | H18: ='سه ماهه دوم'!H18+'سه ماهه اول'!H18 -> 0 | I18: ='سه ماهه دوم'!I18+'سه ماهه اول'!I18 -> 0 | J18: ='سه ماهه دوم'!J18+'سه ماهه اول'!J18 -> 0 | K18: ='سه ماهه دوم'!K18+'سه ماهه اول'!K18 -> 0 | ... AU18: ='سه ماهه دوم'!AU18+'سه ماهه اول'!AU18 -> 0
A19: 4 | D19: ='سه ماهه دوم'!D19+'سه ماهه اول'!D19 -> 0 | E19: ='سه ماهه دوم'!E19+'سه ماهه اول'!E19 -> 0 | F19: ='سه ماهه دوم'!F19+'سه ماهه اول'!F19 -> 0 | G19: ='سه ماهه دوم'!G19+'سه ماهه اول'!G19 -> 0 | H19: ='سه ماهه دوم'!H19+'سه ماهه اول'!H19 -> 0 | I19: ='سه ماهه دوم'!I19+'سه ماهه اول'!I19 -> 0 | J19: ='سه ماهه دوم'!J19+'سه ماهه اول'!J19 -> 0 | K19: ='سه ماهه دوم'!K19+'سه ماهه اول'!K19 -> 0 | ... AU19: ='سه ماهه دوم'!AU19+'سه ماهه اول'!AU19 -> 0
A20: 5 | D20: ='سه ماهه دوم'!D20+'سه ماهه اول'!D20 -> 0 | E20: ='سه ماهه دوم'!E20+'سه ماهه اول'!E20 -> 0 | F20: ='سه ماهه دوم'!F20+'سه ماهه اول'!F20 -> 0 | G20: ='سه ماهه دوم'!G20+'سه ماهه اول'!G20 -> 0 | H20: ='سه ماهه دوم'!H20+'سه ماهه اول'!H20 -> 0 | I20: ='سه ماهه دوم'!I20+'سه ماهه اول'!I20 -> 0 | J20: ='سه ماهه دوم'!J20+'سه ماهه اول'!J20 -> 0 | K20: ='سه ماهه دوم'!K20+'سه ماهه اول'!K20 -> 0 | ... AU20: ='سه ماهه دوم'!AU20+'سه ماهه اول'!AU20 -> 0
A21: 1 | B21: نوزاد غیر ایرانی نارس | D21: ='سه ماهه دوم'!D21+'سه ماهه اول'!D21 -> 0 | E21: ='سه ماهه دوم'!E21+'سه ماهه اول'!E21 -> 0 | F21: ='سه ماهه دوم'!F21+'سه ماهه اول'!F21 -> 0 | G21: ='سه ماهه دوم'!G21+'سه ماهه اول'!G21 -> 0 | H21: ='سه ماهه دوم'!H21+'سه ماهه اول'!H21 -> 0 | I21: ='سه ماهه دوم'!I21+'سه ماهه اول'!I21 -> 0 | J21: ='سه ماهه دوم'!J21+'سه ماهه اول'!J21 -> 0 | K21: ='سه ماهه دوم'!K21+'سه ماهه اول'!K21 -> 0 | ... AU21: ='سه ماهه دوم'!AU21+'سه ماهه اول'!AU21 -> 0
A22: 2 | D22: ='سه ماهه دوم'!D22+'سه ماهه اول'!D22 -> 0 | E22: ='سه ماهه دوم'!E22+'سه ماهه اول'!E22 -> 0 | F22: ='سه ماهه دوم'!F22+'سه ماهه اول'!F22 -> 0 | G22: ='سه ماهه دوم'!G22+'سه ماهه اول'!G22 -> 0 | H22: ='سه ماهه دوم'!H22+'سه ماهه اول'!H22 -> 0 | I22: ='سه ماهه دوم'!I22+'سه ماهه اول'!I22 -> 0 | J22: ='سه ماهه دوم'!J22+'سه ماهه اول'!J22 -> 0 | K22: ='سه ماهه دوم'!K22+'سه ماهه اول'!K22 -> 0 | ... AU22: ='سه ماهه دوم'!AU22+'سه ماهه اول'!AU22 -> 0
A23: 3 | D23: ='سه ماهه دوم'!D23+'سه ماهه اول'!D23 -> 0 | E23: ='سه ماهه دوم'!E23+'سه ماهه اول'!E23 -> 0 | F23: ='سه ماهه دوم'!F23+'سه ماهه اول'!F23 -> 0 | G23: ='سه ماهه دوم'!G23+'سه ماهه اول'!G23 -> 0 | H23: ='سه ماهه دوم'!H23+'سه ماهه اول'!H23 -> 0 | I23: ='سه ماهه دوم'!I23+'سه ماهه اول'!I23 -> 0 | J23: ='سه ماهه دوم'!J23+'سه ماهه اول'!J23 -> 0 | K23: ='سه ماهه دوم'!K23+'سه ماهه اول'!K23 -> 0 | ... AU23: ='سه ماهه دوم'!AU23+'سه ماهه اول'!AU23 -> 0
A24: 4 | D24: ='سه ماهه دوم'!D24+'سه ماهه اول'!D24 -> 0 | E24: ='سه ماهه دوم'!E24+'سه ماهه اول'!E24 -> 0 | F24: ='سه ماهه دوم'!F24+'سه ماهه اول'!F24 -> 0 | G24: ='سه ماهه دوم'!G24+'سه ماهه اول'!G24 -> 0 | H24: ='سه ماهه دوم'!H24+'سه ماهه اول'!H24 -> 0 | I24: ='سه ماهه دوم'!I24+'سه ماهه اول'!I24 -> 0 | J24: ='سه ماهه دوم'!J24+'سه ماهه اول'!J24 -> 0 | K24: ='سه ماهه دوم'!K24+'سه ماهه اول'!K24 -> 0 | ... AU24: ='سه ماهه دوم'!AU24+'سه ماهه اول'!AU24 -> 0
A25: 5 | D25: ='سه ماهه دوم'!D25+'سه ماهه اول'!D25 -> 0 | E25: ='سه ماهه دوم'!E25+'سه ماهه اول'!E25 -> 0 | F25: ='سه ماهه دوم'!F25+'سه ماهه اول'!F25 -> 0 | G25: ='سه ماهه دوم'!G25+'سه ماهه اول'!G25 -> 0 | H25: ='سه ماهه دوم'!H25+'سه ماهه اول'!H25 -> 0 | I25: ='سه ماهه دوم'!I25+'سه ماهه اول'!I25 -> 0 | J25: ='سه ماهه دوم'!J25+'سه ماهه اول'!J25 -> 0 | K25: ='سه ماهه دوم'!K25+'سه ماهه اول'!K25 -> 0 | ... AU25: ='سه ماهه دوم'!AU25+'سه ماهه اول'!AU25 -> 0
A26: جمع کل غیر ایرانی | D26: ='سه ماهه دوم'!D26+'سه ماهه اول'!D26 -> 0 | E26: ='سه ماهه دوم'!E26+'سه ماهه اول'!E26 -> 0 | F26: ='سه ماهه دوم'!F26+'سه ماهه اول'!F26 -> 0 | G26: ='سه ماهه دوم'!G26+'سه ماهه اول'!G26 -> 0 | H26: ='سه ماهه دوم'!H26+'سه ماهه اول'!H26 -> 0 | I26: ='سه ماهه دوم'!I26+'سه ماهه اول'!I26 -> 0 | J26: ='سه ماهه دوم'!J26+'سه ماهه اول'!J26 -> 0 | K26: ='سه ماهه دوم'!K26+'سه ماهه اول'!K26 -> 0 | ... AU26: ='سه ماهه دوم'!AU26+'سه ماهه اول'!AU26 -> 0
A27: جمع کل ایرانی و غیر ایرانی | D27: ='سه ماهه دوم'!D27+'سه ماهه اول'!D27 -> 0 | E27: ='سه ماهه دوم'!E27+'سه ماهه اول'!E27 -> 0 | F27: ='سه ماهه دوم'!F27+'سه ماهه اول'!F27 -> 0 | G27: ='سه ماهه دوم'!G27+'سه ماهه اول'!G27 -> 0 | H27: ='سه ماهه دوم'!H27+'سه ماهه اول'!H27 -> 0 | I27: ='سه ماهه دوم'!I27+'سه ماهه اول'!I27 -> 0 | J27: ='سه ماهه دوم'!J27+'سه ماهه اول'!J27 -> 0 | K27: ='سه ماهه دوم'!K27+'سه ماهه اول'!K27 -> 0 | ... AU27: ='سه ماهه دوم'!AU27+'سه ماهه اول'!AU27 -> 0
E28: =E27+F27 -> 0 | G28: =G27+H27+I27 -> 0 | J28: =J27+K27+L27 -> 0 | M28: =M27+N27+O27+P27 -> 0 | R28: =R27+S27+T27 -> 0 | U28: =U27+V27+W27 -> 0 | X28: =X27+Y27+Z27+AA27 -> 0 | AB28: =AB27+AC27+AD27 -> 0 | AE28: =AE27+AF27+AG27 -> 0 | AH28: =AH27+AI27+AJ27+AK27+AL27+AM27+AN27+AO27+AP27 -> 0 | AR28: =AR27+AS27+AT27+AU27 -> 0

Sheet مهر
A1: آمار غربالگري تيروئيد نوزادان : سال 1403 | E1: مركز خدمات جامع سلامت : ............... | J1: مركز بهداشت شهرستان قزوین
A2: رديف | C2: نام محل نمونه گيري | D2: تعداد نوزادان غربالگري شده باراول | E2: جنس | G2: زمان انجام نمونه گيري نوبت اول بر حسب سن نوزاد به روز | J2: زمان اعلام نتيجه آزمايش مشکوک نوبت اول برحسب سن نوزاد به روز | M2: سطح TSH نوبت اول | Q2: تعداد غربالگری بار دوم | R2: زمان انجام نمونه گيري نوبت دوم بر حسب سن نوزاد به روز | U2: زمان اعلام نتيجه آزمايش مشکوک نوبت دوم برحسب سن نوزاد به روز | X2: سطح TSH نوبت دوم | AB2: تشخيص نهايي | AE2: زمان شروع درمان برحسب سن نوزاد به روز | AH2: علل غربالگری باردوم | AQ2: تعداد غربالگری نوبت سوم و چهارم | AR2: سطح TSH نوبت سوم و چهارم
E3: دختر | F3: پسر | G3: 3-5 روز | H3: 6-21 روز | I3: 22و بيشتر | J3: <13 | K3: روز 21-14 | L3: 22و بيشتر | M3: TSH<5 | N3: TSH 5-9 | O3: TSH>=10-19/9 | P3: TSH>20 | R3: <13 | S3: 14-21 روز | T3: 22و بيشتر | U3: <14 | V3: 15-21 | W3: 22و بيشتر | X3: TSH<5 | Y3: TSH 5-9 | Z3: TSH>=10-19/9 | AA3: TSH>20 | AB3: سالم | AC3: بيمار | AD3: عدم آزمایش | AE3: كمتر از 28 | AF3: 28-40 | AG3: 41و بيشتر | AH3: نمونه نامناسب | AI3: TSH= 5-9/9 | AJ3: نوزاد نارس | AK3: نوزاد با وزن کمتر از 2500 گرم | AL3: نوزاد با وزن بیش از 4000 گرم | AM3: دو قلویی یا چند قلویی | AN3: سابقه بستری در بیمارستان | AO3: تعویض یا دریافت خون | AP3: سابقه مصرف داروهای خاص | AR3: TSH<5 | AS3: TSH 5-9 | AT3: TSH>=10-19/9 | AU3: TSH>20
A4: 1 | B4: نوزاد ایرانی ترم | D4: 0 | E4: 0 | F4: 0 | G4: 0 | H4: 0 | I4: 0 | J4: 0 | K4: 0 | L4: 0 | M4: 0 | N4: 0 | O4: 0 | P4: 0 | Q4: 0 | R4: 0 | S4: 0 | T4: 0 | U4: 0 | V4: 0 | W4: 0 | X4: 0 | Y4: 0 | Z4: 0 | AA4: 0 | AB4: 0 | AC4: 0 | AD4: 0 | AE4: 0 | AF4: 0 | AG4: 0 | AH4: 0 | AI4: 0 | AJ4: 0 | AK4: 0 | AL4: 0 | AM4: 0 | AN4: 0 | AO4: 0 | AP4: 0 | AQ4: 0 | AR4: 0 | AS4: 0 | AT4: 0 | AU4: 0
A5: 2
A6: 3
A7: 4
A8: 5
A9: 1 | B9: نوزاد ایرانی نارس | D9: 0 | E9: 0 | F9: 0 | G9: 0 | H9: 0 | I9: 0 | J9: 0 | K9: 0 | L9: 0 | M9: 0 | N9: 0 | O9: 0 | P9: 0 | Q9: 0 | R9: 0 | S9: 0 | T9: 0 | U9: 0 | V9: 0 | W9: 0 | X9: 0 | Y9: 0 | Z9: 0 | AA9: 0 | AB9: 0 | AC9: 0 | AD9: 0 | AE9: 0 | AF9: 0 | AG9: 0 | AH9: 0 | AI9: 0 | AJ9: 0 | AK9: 0 | AL9: 0 | AM9: 0 | AN9: 0 | AO9: 0 | AP9: 0 | AQ9: 0 | AR9: 0 | AS9: 0 | AT9: 0 | AU9: 0
A10: 2
A11: 3
A12: 4
A13: 5
A14: جمع کل ایرانی | D14: =D4+D5+D6+D7+D8+D9+D10+D11+D12+D13 -> 0 | E14: =E4+E5+E6+E7+E8+E9+E10+E11+E12+E13 -> 0 | F14: =F4+F5+F6+F7+F8+F9+F10+F11+F12+F13 -> 0 | G14: =G4+G5+G6+G7+G8+G9+G10+G11+G12+G13 -> 0 | H14: =H4+H5+H6+H7+H8+H9+H10+H11+H12+H13 -> 0 | I14: =I4+I5+I6+I7+I8+I9+I10+I11+I12+I13 -> 0 | J14: =J4+J5+J6+J7+J8+J9+J10+J11+J12+J13 -> 0 | K14: =K4+K5+K6+K7+K8+K9+K10+K11+K12+K13 -> 0 | ... AU14: =AU4+AU5+AU6+AU7+AU8+AU9+AU10+AU11+AU12+AU13 -> 0
A15: جمعيت غیر ایرانی
A16: 1 | B16: نوزاد غیر ایرانی ترم | D16: 0 | E16: 0 | F16: 0 | G16: 0 | H16: 0 | I16: 0 | J16: 0 | K16: 0 | L16: 0 | M16: 0 | N16: 0 | O16: 0 | P16: 0 | Q16: 0 | R16: 0 | S16: 0 | T16: 0 | U16: 0 | V16: 0 | W16: 0 | X16: 0 | Y16: 0 | Z16: 0 | AA16: 0 | AB16: 0 | AC16: 0 | AD16: 0 | AE16: 0 | AF16: 0 | AG16: 0 | AH16: 0 | AI16: 0 | AJ16: 0 | AK16: 0 | AL16: 0 | AM16: 0 | AN16: 0 | AO16: 0 | AP16: 0 | AQ16: 0 | AR16: 0 | AS16: 0 | AT16: 0 | AU16: 0
A17: 2
A18: 3
A19: 4
A20: 5
A21: 1 | B21: نوزاد غیر ایرانی نارس | D21: 0 | E21: 0 | F21: 0 | G21: 0 | H21: 0 | I21: 0 | J21: 0 | K21: 0 | L21: 0 | M21: 0 | N21: 0 | O21: 0 | P21: 0 | Q21: 0 | R21: 0 | S21: 0 | T21: 0 | U21: 0 | V21: 0 | W21: 0 | X21: 0 | Y21: 0 | Z21: 0 | AA21: 0 | AB21: 0 | AC21: 0 | AD21: 0 | AE21: 0 | AF21: 0 | AG21: 0 | AH21: 0 | AI21: 0 | AJ21: 0 | AK21: 0 | AL21: 0 | AM21: 0 | AN21: 0 | AO21: 0 | AP21: 0 | AQ21: 0 | AR21: 0 | AS21: 0 | AT21: 0 | AU21: 0
A22: 2
A23: 3
A24: 4
A25: 5
A26: جمع کل غیر ایرانی | D26: =D16+D17+D18+D19+D20+D21+D22+D23+D24+D25 -> 0 | E26: =E16+E17+E18+E19+E20+E21+E22+E23+E24+E25 -> 0 | F26: =F16+F17+F18+F19+F20+F21+F22+F23+F24+F25 -> 0 | G26: =G16+G17+G18+G19+G20+G21+G22+G23+G24+G25 -> 0 | H26: =H16+H17+H18+H19+H20+H21+H22+H23+H24+H25 -> 0 | I26: =I16+I17+I18+I19+I20+I21+I22+I23+I24+I25 -> 0 | J26: =J16+J17+J18+J19+J20+J21+J22+J23+J24+J25 -> 0 | K26: =K16+K17+K18+K19+K20+K21+K22+K23+K24+K25 -> 0 | ... AU26: =AU16+AU17+AU18+AU19+AU20+AU21+AU22+AU23+AU24+AU25 -> 0
A27: جمع کل ایرانی و غیر ایرانی | D27: =D26+D14 -> 0 | E27: =E26+E14 -> 0 | F27: =F26+F14 -> 0 | G27: =G26+G14 -> 0 | H27: =H26+H14 -> 0 | I27: =I26+I14 -> 0 | J27: =J26+J14 -> 0 | K27: =K26+K14 -> 0 | ... AU27: =AU26+AU14 -> 0
E28: =E27+F27 -> 0 | G28: =G27+H27+I27 -> 0 | J28: =J27+K27+L27 -> 0 | M28: 0 | R28: =R27+S27+T27 -> 0 | U28: 0 | X28: 0 | AB28: =AB27+AC27+AD27 -> 0 | AE28: 0 | AH28: =AH27+AI27+AJ27+AK27+AL27+AM27+AN27+AO27+AP27 -> 0 | AR28: =AR27+AS27+AT27+AU27 -> 0

Sheet آبان
A1: آمار غربالگري تيروئيد نوزادان : سال 1403 | E1: مركز خدمات جامع سلامت : ............... | J1: مركز بهداشت شهرستان قزوین
A2: رديف | C2: نام محل نمونه گيري | D2: تعداد نوزادان غربالگري شده باراول | E2: جنس | G2: زمان انجام نمونه گيري نوبت اول بر حسب سن نوزاد به روز | J2: زمان اعلام نتيجه آزمايش مشکوک نوبت اول برحسب سن نوزاد به روز | M2: سطح TSH نوبت اول | Q2: تعداد غربالگری بار دوم | R2: زمان انجام نمونه گيري نوبت دوم بر حسب سن نوزاد به روز | U2: زمان اعلام نتيجه آزمايش مشکوک نوبت دوم برحسب سن نوزاد به روز | X2: سطح TSH نوبت دوم | AB2: تشخيص نهايي | AE2: زمان شروع درمان برحسب سن نوزاد به روز | AH2: علل غربالگری باردوم | AQ2: تعداد غربالگری نوبت سوم و چهارم | AR2: سطح TSH نوبت سوم و چهارم
E3: دختر | F3: پسر | G3: 3-5 روز | H3: 6-21 روز | I3: 22و بيشتر | J3: <13 | K3: روز 21-14 | L3: 22و بيشتر | M3: TSH<5 | N3: TSH 5-9 | O3: TSH>=10-19/9 | P3: TSH>20 | R3: <13 | S3: 14-21 روز | T3: 22و بيشتر | U3: <14 | V3: 15-21 | W3: 22و بيشتر | X3: TSH<5 | Y3: TSH 5-9 | Z3: TSH>=10-19/9 | AA3: TSH>20 | AB3: سالم | AC3: بيمار | AD3: عدم آزمایش | AE3: كمتر از 28 | AF3: 28-40 | AG3: 41و بيشتر | AH3: نمونه نامناسب | AI3: TSH= 5-9/9 | AJ3: نوزاد نارس | AK3: نوزاد با وزن کمتر از 2500 گرم | AL3: نوزاد با وزن بیش از 4000 گرم | AM3: دو قلویی یا چند قلویی | AN3: سابقه بستری در بیمارستان | AO3: تعویض یا دریافت خون | AP3: سابقه مصرف داروهای خاص | AR3: TSH<5 | AS3: TSH 5-9 | AT3: TSH>=10-19/9 | AU3: TSH>20
A4: 1 | B4: نوزاد ایرانی ترم | D4: 0 | E4: 0 | F4: 0 | G4: 0 | H4: 0 | I4: 0 | J4: 0 | K4: 0 | L4: 0 | M4: 0 | N4: 0 | O4: 0 | P4: 0 | Q4: 0 | R4: 0 | S4: 0 | T4: 0 | U4: 0 | V4: 0 | W4: 0 | X4: 0 | Y4: 0 | Z4: 0 | AA4: 0 | AB4: 0 | AC4: 0 | AD4: 0 | AE4: 0 | AF4: 0 | AG4: 0 | AH4: 0 | AI4: 0 | AJ4: 0 | AK4: 0 | AL4: 0 | AM4: 0 | AN4: 0 | AO4: 0 | AP4: 0 | AQ4: 0 | AR4: 0 | AS4: 0 | AT4: 0 | AU4: 0
A5: 2
A6: 3
A7: 4
A8: 5
A9: 1 | B9: نوزاد ایرانی نارس | D9: 0 | E9: 0 | F9: 0 | G9: 0 | H9: 0 | I9: 0 | J9: 0 | K9: 0 | L9: 0 | M9: 0 | N9: 0 | O9: 0 | P9: 0 | Q9: 0 | R9: 0 | S9: 0 | T9: 0 | U9: 0 | V9: 0 | W9: 0 | X9: 0 | Y9: 0 | Z9: 0 | AA9: 0 | AB9: 0 | AC9: 0 | AD9: 0 | AE9: 0 | AF9: 0 | AG9: 0 | AH9: 0 | AI9: 0 | AJ9: 0 | AK9: 0 | AL9: 0 | AM9: 0 | AN9: 0 | AO9: 0 | AP9: 0 | AQ9: 0 | AR9: 0 | AS9: 0 | AT9: 0 | AU9: 0
A10: 2
A11: 3
A12: 4
A13: 5
A14: جمع کل ایرانی | D14: =D4+D5+D6+D7+D8+D9+D10+D11+D12+D13 -> 0 | E14: =E4+E5+E6+E7+E8+E9+E10+E11+E12+E13 -> 0 | F14: =F4+F5+F6+F7+F8+F9+F10+F11+F12+F13 -> 0 | G14: =G4+G5+G6+G7+G8+G9+G10+G11+G12+G13 -> 0 | H14: =H4+H5+H6+H7+H8+H9+H10+H11+H12+H13 -> 0 | I14: =I4+I5+I6+I7+I8+I9+I10+I11+I12+I13 -> 0 | J14: =J4+J5+J6+J7+J8+J9+J10+J11+J12+J13 -> 0 | K14: =K4+K5+K6+K7+K8+K9+K10+K11+K12+K13 -> 0 | ... AU14: =AU4+AU5+AU6+AU7+AU8+AU9+AU10+AU11+AU12+AU13 -> 0
A15: جمعيت غیر ایرانی
A16: 1 | B16: نوزاد غیر ایرانی ترم | D16: 0 | E16: 0 | F16: 0 | G16: 0 | H16: 0 | I16: 0 | J16: 0 | K16: 0 | L16: 0 | M16: 0 | N16: 0 | O16: 0 | P16: 0 | Q16: 0 | R16: 0 | S16: 0 | T16: 0 | U16: 0 | V16: 0 | W16: 0 | X16: 0 | Y16: 0 | Z16: 0 | AA16: 0 | AB16: 0 | AC16: 0 | AD16: 0 | AE16: 0 | AF16: 0 | AG16: 0 | AH16: 0 | AI16: 0 | AJ16: 0 | AK16: 0 | AL16: 0 | AM16: 0 | AN16: 0 | AO16: 0 | AP16: 0
A17: 2
A18: 3
A19: 4
A20: 5
A21: 1 | B21: نوزاد غیر ایرانی نارس | D21: 0 | E21: 0 | F21: 0 | G21: 0 | H21: 0 | I21: 0 | J21: 0 | K21: 0 | L21: 0 | M21: 0 | N21: 0 | O21: 0 | P21: 0 | Q21: 0 | R21: 0 | S21: 0 | T21: 0 | U21: 0 | V21: 0 | W21: 0 | X21: 0 | Y21: 0 | Z21: 0 | AA21: 0 | AB21: 0 | AC21: 0 | AD21: 0 | AE21: 0 | AF21: 0 | AG21: 0 | AH21: 0 | AI21: 0 | AJ21: 0 | AK21: 0 | AL21: 0 | AM21: 0 | AN21: 0 | AO21: 0 | AP21: 0 | AQ21: 0 | AR21: 0 | AS21: 0 | AT21: 0 | AU21: 0
A22: 2
A23: 3
A24: 4
A25: 5
A26: جمع کل غیر ایرانی | D26: =D16+D17+D18+D19+D20+D21+D22+D23+D24+D25 -> 0 | E26: =E16+E17+E18+E19+E20+E21+E22+E23+E24+E25 -> 0 | F26: =F16+F17+F18+F19+F20+F21+F22+F23+F24+F25 -> 0 | G26: =G16+G17+G18+G19+G20+G21+G22+G23+G24+G25 -> 0 | H26: =H16+H17+H18+H19+H20+H21+H22+H23+H24+H25 -> 0 | I26: =I16+I17+I18+I19+I20+I21+I22+I23+I24+I25 -> 0 | J26: =J16+J17+J18+J19+J20+J21+J22+J23+J24+J25 -> 0 | K26: =K16+K17+K18+K19+K20+K21+K22+K23+K24+K25 -> 0 | ... AU26: =AU16+AU17+AU18+AU19+AU20+AU21+AU22+AU23+AU24+AU25 -> 0
A27: جمع کل ایرانی و غیر ایرانی | D27: =D26+D14 -> 0 | E27: =E26+E14 -> 0 | F27: =F26+F14 -> 0 | G27: =G26+G14 -> 0 | H27: =H26+H14 -> 0 | I27: =I26+I14 -> 0 | J27: =J26+J14 -> 0 | K27: =K26+K14 -> 0 | ... AU27: =AU26+AU14 -> 0
E28: =E27+F27 -> 0 | G28: =G27+H27+I27 -> 0 | J28: =J27+K27+L27 -> 0 | M28: 0 | R28: =R27+S27+T27 -> 0 | U28: 0 | X28: 0 | AB28: =AB27+AC27+AD27 -> 0 | AE28: 0 | AH28: =AH27+AI27+AJ27+AK27+AL27+AM27+AN27+AO27+AP27 -> 0 | AR28: =AR27+AS27+AT27+AU27 -> 0

Sheet آذر
A1: آمار غربالگري تيروئيد نوزادان : سال 1403 | E1: مركز خدمات جامع سلامت : ............... | J1: مركز بهداشت شهرستان قزوین
A2: رديف | C2: نام محل نمونه گيري | D2: تعداد نوزادان غربالگري شده باراول | E2: جنس | G2: زمان انجام نمونه گيري نوبت اول بر حسب سن نوزاد به روز | J2: زمان اعلام نتيجه آزمايش مشکوک نوبت اول برحسب سن نوزاد به روز | M2: سطح TSH نوبت اول | Q2: تعداد غربالگری بار دوم | R2: زمان انجام نمونه گيري نوبت دوم بر حسب سن نوزاد به روز | U2: زمان اعلام نتيجه آزمايش مشکوک نوبت دوم برحسب سن نوزاد به روز | X2: سطح TSH نوبت دوم | AB2: تشخيص نهايي | AE2: زمان شروع درمان برحسب سن نوزاد به روز | AH2: علل غربالگری باردوم | AQ2: تعداد غربالگری نوبت سوم و چهارم | AR2: سطح TSH نوبت سوم و چهارم
E3: دختر | F3: پسر | G3: 3-5 روز | H3: 6-21 روز | I3: 22و بيشتر | J3: <13 | K3: روز 21-14 | L3: 22و بيشتر | M3: TSH<5 | N3: TSH 5-9 | O3: TSH>=10-19/9 | P3: TSH>20 | R3: <13 | S3: 14-21 روز | T3: 22و بيشتر | U3: <14 | V3: 15-21 | W3: 22و بيشتر | X3: TSH<5 | Y3: TSH 5-9 | Z3: TSH>=10-19/9 | AA3: TSH>20 | AB3: سالم | AC3: بيمار | AD3: عدم آزمایش | AE3: كمتر از 28 | AF3: 28-40 | AG3: 41و بيشتر | AH3: نمونه نامناسب | AI3: TSH= 5-9/9 | AJ3: نوزاد نارس | AK3: نوزاد با وزن کمتر از 2500 گرم | AL3: نوزاد با وزن بیش از 4000 گرم | AM3: دو قلویی یا چند قلویی | AN3: سابقه بستری در بیمارستان | AO3: تعویض یا دریافت خون | AP3: سابقه مصرف داروهای خاص | AR3: TSH<5 | AS3: TSH 5-9 | AT3: TSH>=10-19/9 | AU3: TSH>20
A4: 1 | B4: نوزاد ایرانی ترم | D4: 0 | E4: 0 | F4: 0 | G4: 0 | H4: 0 | I4: 0 | J4: 0 | K4: 0 | L4: 0 | M4: 0 | N4: 0 | O4: 0 | P4: 0 | Q4: 0 | R4: 0 | S4: 0 | T4: 0 | U4: 0 | V4: 0 | W4: 0 | X4: 0 | Y4: 0 | Z4: 0 | AA4: 0 | AB4: 0 | AC4: 0 | AD4: 0 | AE4: 0 | AF4: 0 | AG4: 0 | AH4: 0 | AI4: 0 | AJ4: 0 | AK4: 0 | AL4: 0 | AM4: 0 | AN4: 0 | AO4: 0 | AP4: 0 | AQ4: 0 | AR4: 0 | AS4: 0 | AT4: 0 | AU4: 0
A5: 2
A6: 3
A7: 4
A8: 5
A9: 1 | B9: نوزاد ایرانی نارس | D9: 0 | E9: 0 | F9: 0 | G9: 0 | H9: 0 | I9: 0 | J9: 0 | K9: 0 | L9: 0 | M9: 0 | N9: 0 | O9: 0 | P9: 0 | Q9: 0 | R9: 0 | S9: 0 | T9: 0 | U9: 0 | V9: 0 | W9: 0 | X9: 0 | Y9: 0 | Z9: 0 | AA9: 0 | AB9: 0 | AC9: 0 | AD9: 0 | AE9: 0 | AF9: 0 | AG9: 0 | AH9: 0 | AI9: 0 | AJ9: 0 | AK9: 0 | AL9: 0 | AM9: 0 | AN9: 0 | AO9: 0 | AP9: 0 | AQ9: 0 | AR9: 0 | AS9: 0 | AT9: 0 | AU9: 0
A10: 2
A11: 3
A12: 4
A13: 5
A14: جمع کل ایرانی | D14: =D4+D5+D6+D7+D8+D9+D10+D11+D12+D13 -> 0 | E14: =E4+E5+E6+E7+E8+E9+E10+E11+E12+E13 -> 0 | F14: =F4+F5+F6+F7+F8+F9+F10+F11+F12+F13 -> 0 | G14: =G4+G5+G6+G7+G8+G9+G10+G11+G12+G13 -> 0 | H14: =H4+H5+H6+H7+H8+H9+H10+H11+H12+H13 -> 0 | I14: =I4+I5+I6+I7+I8+I9+I10+I11+I12+I13 -> 0 | J14: =J4+J5+J6+J7+J8+J9+J10+J11+J12+J13 -> 0 | K14: =K4+K5+K6+K7+K8+K9+K10+K11+K12+K13 -> 0 | ... AU14: =AU4+AU5+AU6+AU7+AU8+AU9+AU10+AU11+AU12+AU13 -> 0
A15: جمعيت غیر ایرانی
A16: 1 | B16: نوزاد غیر ایرانی ترم | D16: 0 | E16: 0 | F16: 0 | G16: 0 | H16: 0 | I16: 0 | J16: 0 | K16: 0 | L16: 0 | M16: 0 | N16: 0 | O16: 0 | P16: 0 | Q16: 0 | R16: 0 | S16: 0 | T16: 0 | U16: 0 | V16: 0 | W16: 0 | X16: 0 | Y16: 0 | Z16: 0 | AA16: 0 | AB16: 0 | AC16: 0 | AD16: 0 | AE16: 0 | AF16: 0 | AG16: 0 | AH16: 0 | AI16: 0 | AJ16: 0 | AK16: 0 | AL16: 0 | AM16: 0 | AN16: 0 | AO16: 0 | AP16: 0
A17: 2
A18: 3
A19: 4
A20: 5
A21: 1 | B21: نوزاد غیر ایرانی نارس | D21: 0 | E21: 0 | F21: 0 | G21: 0 | H21: 0 | I21: 0 | J21: 0 | K21: 0 | L21: 0 | M21: 0 | N21: 0 | O21: 0 | P21: 0 | Q21: 0 | R21: 0 | S21: 0 | T21: 0 | U21: 0 | V21: 0 | W21: 0 | X21: 0 | Y21: 0 | Z21: 0 | AA21: 0 | AB21: 0 | AC21: 0 | AD21: 0 | AE21: 0 | AF21: 0 | AG21: 0 | AH21: 0 | AI21: 0 | AJ21: 0 | AK21: 0 | AL21: 0 | AM21: 0 | AN21: 0 | AO21: 0 | AP21: 0 | AQ21: 0 | AR21: 0 | AS21: 0 | AT21: 0 | AU21: 0
A22: 2
A23: 3
A24: 4
A25: 5
A26: جمع کل غیر ایرانی | D26: =D16+D17+D18+D19+D20+D21+D22+D23+D24+D25 -> 0 | E26: =E16+E17+E18+E19+E20+E21+E22+E23+E24+E25 -> 0 | F26: =F16+F17+F18+F19+F20+F21+F22+F23+F24+F25 -> 0 | G26: =G16+G17+G18+G19+G20+G21+G22+G23+G24+G25 -> 0 | H26: =H16+H17+H18+H19+H20+H21+H22+H23+H24+H25 -> 0 | I26: =I16+I17+I18+I19+I20+I21+I22+I23+I24+I25 -> 0 | J26: =J16+J17+J18+J19+J20+J21+J22+J23+J24+J25 -> 0 | K26: =K16+K17+K18+K19+K20+K21+K22+K23+K24+K25 -> 0 | ... AU26: =AU16+AU17+AU18+AU19+AU20+AU21+AU22+AU23+AU24+AU25 -> 0
A27: جمع کل ایرانی و غیر ایرانی | D27: =D26+D14 -> 0 | E27: =E26+E14 -> 0 | F27: =F26+F14 -> 0 | G27: =G26+G14 -> 0 | H27: =H26+H14 -> 0 | I27: =I26+I14 -> 0 | J27: =J26+J14 -> 0 | K27: =K26+K14 -> 0 | ... AU27: =AU26+AU14 -> 0
E28: =E27+F27 -> 0 | G28: =G27+H27+I27 -> 0 | J28: =J27+K27+L27 -> 0 | M28: 0 | R28: =R27+S27+T27 -> 0 | U28: 0 | X28: 0 | AB28: =AB27+AC27+AD27 -> 0 | AE28: 0 | AH28: =AH27+AI27+AJ27+AK27+AL27+AM27+AN27+AO27+AP27 -> 0 | AR28: =AR27+AS27+AT27+AU27 -> 0

Sheet سه ماهه سوم
A1: آمار غربالگري تيروئيد نوزادان : سال 1403 | E1: مركز خدمات جامع سلامت : ............... | J1: مركز بهداشت شهرستان قزوین
A2: رديف | C2: نام محل نمونه گيري | D2: تعداد نوزادان غربالگري شده | E2: جنس | G2: زمان انجام نمونه گيري نوبت اول بر حسب سن نوزاد به روز | J2: زمان اعلام نتيجه آزمايش مشکوک نوبت اول برحسب سن نوزاد به روز | M2: سطح TSH نوبت اول | Q2: تعداد غربالگری مجدد از پاشنه پا | R2: زمان انجام نمونه گيري نوبت دوم بر حسب سن نوزاد به روز | U2: زمان اعلام نتيجه آزمايش مشکوک نوبت دوم برحسب سن نوزاد به روز | X2: سطح TSH نوبت دوم | AB2: تشخيص نهايي | AE2: زمان شروع درمان برحسب سن نوزاد به روز | AH2: تعداد موارد غربالگری مجدد به تفکیک علت | AQ2: تعداد غربالگری نوبت سوم و چهارم | AR2: سطح TSH نوبت سوم و چهارم
E3: دختر | F3: پسر | G3: 3-5 روز | H3: 6-21 روز | I3: 22و بيشتر | J3: <13 | K3: روز 21-14 | L3: 22و بيشتر | M3: TSH<5 | N3: TSH 5-9 | O3: TSH>=10-19/9 | P3: TSH>20 | R3: <13 | S3: 14-21 روز | T3: 22و بيشتر | U3: <14 | V3: 15-21 | W3: 22و بيشتر | X3: TSH<5 | Y3: TSH 5-9 | Z3: TSH>=10-19/9 | AA3: TSH>20 | AB3: سالم | AC3: بيمار | AD3: عدم آزمایش | AE3: كمتر از 28 | AF3: 28-40 | AG3: 41و بيشتر | AH3: نمونه نامناسب | AI3: TSH= 5-9/9 | AJ3: نوزاد نارس | AK3: نوزاد با وزن کمتر از 2500 گرم | AL3: نوزاد با وزن بیش از 4000 گرم | AM3: دو قلویی یا چند قلویی | AN3: سابقه بستری در بیمارستان | AO3: تعویض یا دریافت خون | AP3: سابقه مصرف داروهای خاص | AR3: TSH<5 | AS3: TSH 5-9 | AT3: TSH>=10-19/9 | AU3: TSH>20
A4: 1 | B4: نوزاد ایرانی ترم | D4: =آذر!D4+آبان!D4+مهر!D4 -> 0 | E4: =آذر!E4+آبان!E4+مهر!E4 -> 0 | F4: =آذر!F4+آبان!F4+مهر!F4 -> 0 | G4: =آذر!G4+آبان!G4+مهر!G4 -> 0 | H4: =آذر!H4+آبان!H4+مهر!H4 -> 0 | I4: =آذر!I4+آبان!I4+مهر!I4 -> 0 | J4: =آذر!J4+آبان!J4+مهر!J4 -> 0 | K4: =آذر!K4+آبان!K4+مهر!K4 -> 0 | ... AU4: =آذر!AU4+آبان!AU4+مهر!AU4 -> 0
A5: 2 | D5: =آذر!D5+آبان!D5+مهر!D5 -> 0 | E5: =آذر!E5+آبان!E5+مهر!E5 -> 0 | F5: =آذر!F5+آبان!F5+مهر!F5 -> 0 | G5: =آذر!G5+آبان!G5+مهر!G5 -> 0 | H5: =آذر!H5+آبان!H5+مهر!H5 -> 0 | I5: =آذر!I5+آبان!I5+مهر!I5 -> 0 | J5: =آذر!J5+آبان!J5+مهر!J5 -> 0 | K5: =آذر!K5+آبان!K5+مهر!K5 -> 0 | ... AU5: =آذر!AU5+آبان!AU5+مهر!AU5 -> 0
A6: 3 | D6: =آذر!D6+آبان!D6+مهر!D6 -> 0 | E6: =آذر!E6+آبان!E6+مهر!E6 -> 0 | F6: =آذر!F6+آبان!F6+مهر!F6 -> 0 | G6: =آذر!G6+آبان!G6+مهر!G6 -> 0 | H6: =آذر!H6+آبان!H6+مهر!H6 -> 0 | I6: =آذر!I6+آبان!I6+مهر!I6 -> 0 | J6: =آذر!J6+آبان!J6+مهر!J6 -> 0 | K6: =آذر!K6+آبان!K6+مهر!K6 -> 0 | ... AU6: =آذر!AU6+آبان!AU6+مهر!AU6 -> 0
A7: 4 | D7: =آذر!D7+آبان!D7+مهر!D7 -> 0 | E7: =آذر!E7+آبان!E7+مهر!E7 -> 0 | F7: =آذر!F7+آبان!F7+مهر!F7 -> 0 | G7: =آذر!G7+آبان!G7+مهر!G7 -> 0 | H7: =آذر!H7+آبان!H7+مهر!H7 -> 0 | I7: =آذر!I7+آبان!I7+مهر!I7 -> 0 | J7: =آذر!J7+آبان!J7+مهر!J7 -> 0 | K7: =آذر!K7+آبان!K7+مهر!K7 -> 0 | ... AU7: =آذر!AU7+آبان!AU7+مهر!AU7 -> 0
A8: 5 | D8: =آذر!D8+آبان!D8+مهر!D8 -> 0 | E8: =آذر!E8+آبان!E8+مهر!E8 -> 0 | F8: =آذر!F8+آبان!F8+مهر!F8 -> 0 | G8: =آذر!G8+آبان!G8+مهر!G8 -> 0 | H8: =آذر!H8+آبان!H8+مهر!H8 -> 0 | I8: =آذر!I8+آبان!I8+مهر!I8 -> 0 | J8: =آذر!J8+آبان!J8+مهر!J8 -> 0 | K8: =آذر!K8+آبان!K8+مهر!K8 -> 0 | ... AU8: =آذر!AU8+آبان!AU8+مهر!AU8 -> 0
A9: 1 | B9: نوزاد ایرانی نارس | D9: =آذر!D9+آبان!D9+مهر!D9 -> 0 | E9: =آذر!E9+آبان!E9+مهر!E9 -> 0 | F9: =آذر!F9+آبان!F9+مهر!F9 -> 0 | G9: =آذر!G9+آبان!G9+مهر!G9 -> 0 | H9: =آذر!H9+آبان!H9+مهر!H9 -> 0 | I9: =آذر!I9+آبان!I9+مهر!I9 -> 0 | J9: =آذر!J9+آبان!J9+مهر!J9 -> 0 | K9: =آذر!K9+آبان!K9+مهر!K9 -> 0 | ... AU9: =آذر!AU9+آبان!AU9+مهر!AU9 -> 0
A10: 2 | D10: =آذر!D10+آبان!D10+مهر!D10 -> 0 | E10: =آذر!E10+آبان!E10+مهر!E10 -> 0 | F10: =آذر!F10+آبان!F10+مهر!F10 -> 0 | G10: =آذر!G10+آبان!G10+مهر!G10 -> 0 | H10: =آذر!H10+آبان!H10+مهر!H10 -> 0 | I10: =آذر!I10+آبان!I10+مهر!I10 -> 0 | J10: =آذر!J10+آبان!J10+مهر!J10 -> 0 | K10: =آذر!K10+آبان!K10+مهر!K10 -> 0 | ... AU10: =آذر!AU10+آبان!AU10+مهر!AU10 -> 0
A11: 3 | D11: =آذر!D11+آبان!D11+مهر!D11 -> 0 | E11: =آذر!E11+آبان!E11+مهر!E11 -> 0 | F11: =آذر!F11+آبان!F11+مهر!F11 -> 0 | G11: =آذر!G11+آبان!G11+مهر!G11 -> 0 | H11: =آذر!H11+آبان!H11+مهر!H11 -> 0 | I11: =آذر!I11+آبان!I11+مهر!I11 -> 0 | J11: =آذر!J11+آبان!J11+مهر!J11 -> 0 | K11: =آذر!K11+آبان!K11+مهر!K11 -> 0 | ... AU11: =آذر!AU11+آبان!AU11+مهر!AU11 -> 0
A12: 4 | D12: =آذر!D12+آبان!D12+مهر!D12 -> 0 | E12: =آذر!E12+آبان!E12+مهر!E12 -> 0 | F12: =آذر!F12+آبان!F12+مهر!F12 -> 0 | G12: =آذر!G12+آبان!G12+مهر!G12 -> 0 | H12: =آذر!H12+آبان!H12+مهر!H12 -> 0 | I12: =آذر!I12+آبان!I12+مهر!I12 -> 0 | J12: =آذر!J12+آبان!J12+مهر!J12 -> 0 | K12: =آذر!K12+آبان!K12+مهر!K12 -> 0 | ... AU12: =آذر!AU12+آبان!AU12+مهر!AU12 -> 0
A13: 5 | D13: =آذر!D13+آبان!D13+مهر!D13 -> 0 | E13: =آذر!E13+آبان!E13+مهر!E13 -> 0 | F13: =آذر!F13+آبان!F13+مهر!F13 -> 0 | G13: =آذر!G13+آبان!G13+مهر!G13 -> 0 | H13: =آذر!H13+آبان!H13+مهر!H13 -> 0 | I13: =آذر!I13+آبان!I13+مهر!I13 -> 0 | J13: =آذر!J13+آبان!J13+مهر!J13 -> 0 | K13: =آذر!K13+آبان!K13+مهر!K13 -> 0 | ... AU13: =آذر!AU13+آبان!AU13+مهر!AU13 -> 0
A14: جمع کل ایرانی | D14: =D4+D5+D6+D7+D8+D9+D10+D11+D12+D13 -> 0 | E14: =E4+E5+E6+E7+E8+E9+E10+E11+E12+E13 -> 0 | F14: =F4+F5+F6+F7+F8+F9+F10+F11+F12+F13 -> 0 | G14: =G4+G5+G6+G7+G8+G9+G10+G11+G12+G13 -> 0 | H14: =H4+H5+H6+H7+H8+H9+H10+H11+H12+H13 -> 0 | I14: =I4+I5+I6+I7+I8+I9+I10+I11+I12+I13 -> 0 | J14: =J4+J5+J6+J7+J8+J9+J10+J11+J12+J13 -> 0 | K14: =K4+K5+K6+K7+K8+K9+K10+K11+K12+K13 -> 0 | ... AU14: =AU4+AU5+AU6+AU7+AU8+AU9+AU10+AU11+AU12+AU13 -> 0
A15: جمعيت غیر ایرانی
A16: 1 | B16: نوزاد غیر ایرانی ترم | D16: =آذر!D16+آبان!D16+مهر!D16 -> 0 | E16: =آذر!E16+آبان!E16+مهر!E16 -> 0 | F16: =آذر!F16+آبان!F16+مهر!F16 -> 0 | G16: =آذر!G16+آبان!G16+مهر!G16 -> 0 | H16: =آذر!H16+آبان!H16+مهر!H16 -> 0 | I16: =آذر!I16+آبان!I16+مهر!I16 -> 0 | J16: =آذر!J16+آبان!J16+مهر!J16 -> 0 | K16: =آذر!K16+آبان!K16+مهر!K16 -> 0 | ... AU16: =آذر!AU16+آبان!AU16+مهر!AU16 -> 0
A17: 2 | D17: =آذر!D17+آبان!D17+مهر!D17 -> 0 | E17: =آذر!E17+آبان!E17+مهر!E17 -> 0 | F17: =آذر!F17+آبان!F17+مهر!F17 -> 0 | G17: =آذر!G17+آبان!G17+مهر!G17 -> 0 | H17: =آذر!H17+آبان!H17+مهر!H17 -> 0 | I17: =آذر!I17+آبان!I17+مهر!I17 -> 0 | J17: =آذر!J17+آبان!J17+مهر!J17 -> 0 | K17: =آذر!K17+آبان!K17+مهر!K17 -> 0 | ... AU17: =آذر!AU17+آبان!AU17+مهر!AU17 -> 0
A18: 3 | D18: =آذر!D18+آبان!D18+مهر!D18 -> 0 | E18: =آذر!E18+آبان!E18+مهر!E18 -> 0 | F18: =آذر!F18+آبان!F18+مهر!F18 -> 0 | G18: =آذر!G18+آبان!G18+مهر!G18 -> 0 | H18: =آذر!H18+آبان!H18+مهر!H18 -> 0 | I18: =آذر!I18+آبان!I18+مهر!I18 -> 0 | J18: =آذر!J18+آبان!J18+مهر!J18 -> 0 | K18: =آذر!K18+آبان!K18+مهر!K18 -> 0 | ... AU18: =آذر!AU18+آبان!AU18+مهر!AU18 -> 0
A19: 4 | D19: =آذر!D19+آبان!D19+مهر!D19 -> 0 | E19: =آذر!E19+آبان!E19+مهر!E19 -> 0 | F19: =آذر!F19+آبان!F19+مهر!F19 -> 0 | G19: =آذر!G19+آبان!G19+مهر!G19 -> 0 | H19: =آذر!H19+آبان!H19+مهر!H19 -> 0 | I19: =آذر!I19+آبان!I19+مهر!I19 -> 0 | J19: =آذر!J19+آبان!J19+مهر!J19 -> 0 | K19: =آذر!K19+آبان!K19+مهر!K19 -> 0 | ... AU19: =آذر!AU19+آبان!AU19+مهر!AU19 -> 0
A20: 5 | D20: =آذر!D20+آبان!D20+مهر!D20 -> 0 | E20: =آذر!E20+آبان!E20+مهر!E20 -> 0 | F20: =آذر!F20+آبان!F20+مهر!F20 -> 0 | G20: =آذر!G20+آبان!G20+مهر!G20 -> 0 | H20: =آذر!H20+آبان!H20+مهر!H20 -> 0 | I20: =آذر!I20+آبان!I20+مهر!I20 -> 0 | J20: =آذر!J20+آبان!J20+مهر!J20 -> 0 | K20: =آذر!K20+آبان!K20+مهر!K20 -> 0 | ... AU20: =آذر!AU20+آبان!AU20+مهر!AU20 -> 0
A21: 1 | B21: نوزاد غیر ایرانی نارس | D21: =آذر!D21+آبان!D21+مهر!D21 -> 0 | E21: =آذر!E21+آبان!E21+مهر!E21 -> 0 | F21: =آذر!F21+آبان!F21+مهر!F21 -> 0 | G21: =آذر!G21+آبان!G21+مهر!G21 -> 0 | H21: =آذر!H21+آبان!H21+مهر!H21 -> 0 | I21: =آذر!I21+آبان!I21+مهر!I21 -> 0 | J21: =آذر!J21+آبان!J21+مهر!J21 -> 0 | K21: =آذر!K21+آبان!K21+مهر!K21 -> 0 | ... AU21: =آذر!AU21+آبان!AU21+مهر!AU21 -> 0
A22: 2 | D22: =آذر!D22+آبان!D22+مهر!D22 -> 0 | E22: =آذر!E22+آبان!E22+مهر!E22 -> 0 | F22: =آذر!F22+آبان!F22+مهر!F22 -> 0 | G22: =آذر!G22+آبان!G22+مهر!G22 -> 0 | H22: =آذر!H22+آبان!H22+مهر!H22 -> 0 | I22: =آذر!I22+آبان!I22+مهر!I22 -> 0 | J22: =آذر!J22+آبان!J22+مهر!J22 -> 0 | K22: =آذر!K22+آبان!K22+مهر!K22 -> 0 | ... AU22: =آذر!AU22+آبان!AU22+مهر!AU22 -> 0
A23: 3 | D23: =آذر!D23+آبان!D23+مهر!D23 -> 0 | E23: =آذر!E23+آبان!E23+مهر!E23 -> 0 | F23: =آذر!F23+آبان!F23+مهر!F23 -> 0 | G23: =آذر!G23+آبان!G23+مهر!G23 -> 0 | H23: =آذر!H23+آبان!H23+مهر!H23 -> 0 | I23: =آذر!I23+آبان!I23+مهر!I23 -> 0 | J23: =آذر!J23+آبان!J23+مهر!J23 -> 0 | K23: =آذر!K23+آبان!K23+مهر!K23 -> 0 | ... AU23: =آذر!AU23+آبان!AU23+مهر!AU23 -> 0
A24: 4 | D24: =آذر!D24+آبان!D24+مهر!D24 -> 0 | E24: =آذر!E24+آبان!E24+مهر!E24 -> 0 | F24: =آذر!F24+آبان!F24+مهر!F24 -> 0 | G24: =آذر!G24+آبان!G24+مهر!G24 -> 0 | H24: =آذر!H24+آبان!H24+مهر!H24 -> 0 | I24: =آذر!I24+آبان!I24+مهر!I24 -> 0 | J24: =آذر!J24+آبان!J24+مهر!J24 -> 0 | K24: =آذر!K24+آبان!K24+مهر!K24 -> 0 | ... AU24: =آذر!AU24+آبان!AU24+مهر!AU24 -> 0
A25: 5 | D25: =آذر!D25+آبان!D25+مهر!D25 -> 0 | E25: =آذر!E25+آبان!E25+مهر!E25 -> 0 | F25: =آذر!F25+آبان!F25+مهر!F25 -> 0 | G25: =آذر!G25+آبان!G25+مهر!G25 -> 0 | H25: =آذر!H25+آبان!H25+مهر!H25 -> 0 | I25: =آذر!I25+آبان!I25+مهر!I25 -> 0 | J25: =آذر!J25+آبان!J25+مهر!J25 -> 0 | K25: =آذر!K25+آبان!K25+مهر!K25 -> 0 | ... AU25: =آذر!AU25+آبان!AU25+مهر!AU25 -> 0
A26: جمع کل غیر ایرانی | D26: =D16+D17+D18+D19+D20+D21+D22+D23+D24+D25 -> 0 | E26: =آذر!D26+آبان!D26+مهر!D26 -> 0 | F26: =آذر!E26+آبان!E26+مهر!E26 -> 0 | G26: =آذر!F26+آبان!F26+مهر!F26 -> 0 | H26: =آذر!G26+آبان!G26+مهر!G26 -> 0 | I26: =آذر!H26+آبان!H26+مهر!H26 -> 0 | J26: =آذر!I26+آبان!I26+مهر!I26 -> 0 | K26: =آذر!J26+آبان!J26+مهر!J26 -> 0 | L26: =آذر!K26+آبان!K26+مهر!K26 -> 0 | ... AU26: =آذر!AT26+آبان!AT26+مهر!AT26 -> 0
A27: جمع کل ایرانی و غیر ایرانی | D27: =D14+D26 -> 0 | E27: =E14+E26 -> 0 | F27: =F14+F26 -> 0 | G27: =G14+G26 -> 0 | H27: =H14+H26 -> 0 | I27: =I14+I26 -> 0 | J27: =J14+J26 -> 0 | K27: =K14+K26 -> 0 | ... AU27: =AU14+AU26 -> 0
E28: =E27+F27 -> 0 | G28: =G27+H27+I27 -> 0 | J28: =J27+K27+L27 -> 0 | M28: =M27+N27+O27+P27 -> 0 | R28: =R27+S27+T27 -> 0 | U28: =U27+V27+W27 -> 0 | X28: =X27+Y27+Z27+AA27 -> 0 | AB28: =AB27+AC27+AD27 -> 0 | AE28: =AE27+AF27+AG27 -> 0 | AH28: =AH27+AI27+AJ27+AK27+AL27+AM27+AN27+AO27+AP27 -> 0 | AR28: =AR27+AS27+AT27+AU27 -> 0

Sheet نه ماهه اول
A1: آمار غربالگري تيروئيد نوزادان : سال 1403 | E1: مركز خدمات جامع سلامت : ............... | J1: مركز بهداشت شهرستان :.....................
A2: رديف | C2: نام محل نمونه گيري | D2: تعداد نوزادان غربالگري شده | E2: جنس | G2: زمان انجام نمونه گيري نوبت اول بر حسب سن نوزاد به روز | J2: زمان اعلام نتيجه آزمايش مشکوک نوبت اول برحسب سن نوزاد به روز | M2: سطح TSH نوبت اول | Q2: تعداد غربالگری مجدد از پاشنه پا | R2: زمان انجام نمونه گيري نوبت دوم بر حسب سن نوزاد به روز | U2: زمان اعلام نتيجه آزمايش مشکوک نوبت دوم برحسب سن نوزاد به روز | X2: سطح TSH نوبت دوم | AB2: تشخيص نهايي | AE2: زمان شروع درمان برحسب سن نوزاد به روز | AH2: تعداد موارد غربالگری مجدد به تفکیک علت | AQ2: تعداد غربالگری نوبت سوم و چهارم | AR2: سطح TSH نوبت سوم و چهارم
E3: دختر | F3: پسر | G3: 3-5 روز | H3: 6-21 روز | I3: 22و بيشتر | J3: <13 | K3: روز 21-14 | L3: 22و بيشتر | M3: TSH<5 | N3: TSH 5-9 | O3: TSH>=10-19/9 | P3: TSH>20 | R3: <13 | S3: 14-21 روز | T3: 22و بيشتر | U3: <14 | V3: 15-21 | W3: 22و بيشتر | X3: TSH<5 | Y3: TSH 5-9 | Z3: TSH>=10-19/9 | AA3: TSH>20 | AB3: سالم | AC3: بيمار | AD3: عدم آزمایش | AE3: كمتر از 28 | AF3: 28-40 | AG3: 41و بيشتر | AH3: نمونه نامناسب | AI3: TSH= 5-9/9 | AJ3: نوزاد نارس | AK3: نوزاد با وزن کمتر از 2500 گرم | AL3: نوزاد با وزن بیش از 4000 گرم | AM3: دو قلویی یا چند قلویی | AN3: سابقه بستری در بیمارستان | AO3: تعویض یا دریافت خون | AP3: سابقه مصرف داروهای خاص | AR3: TSH<5 | AS3: TSH 5-9 | AT3: TSH>=10-19/9 | AU3: TSH>20
A4: 1 | B4: نوزاد ایرانی ترم | D4: ='سه ماهه سوم'!D4+'شش ماهه اول'!D4 -> 0 | E4: ='سه ماهه سوم'!E4+'شش ماهه اول'!E4 -> 0 | F4: ='سه ماهه سوم'!F4+'شش ماهه اول'!F4 -> 0 | G4: ='سه ماهه سوم'!G4+'شش ماهه اول'!G4 -> 0 | H4: ='سه ماهه سوم'!H4+'شش ماهه اول'!H4 -> 0 | I4: ='سه ماهه سوم'!I4+'شش ماهه اول'!I4 -> 0 | J4: ='سه ماهه سوم'!J4+'شش ماهه اول'!J4 -> 0 | K4: ='سه ماهه سوم'!K4+'شش ماهه اول'!K4 -> 0 | ... AU4: ='سه ماهه سوم'!AU4+'شش ماهه اول'!AU4 -> 0
A5: 2 | D5: ='سه ماهه سوم'!D5+'شش ماهه اول'!D5 -> 0 | E5: ='سه ماهه سوم'!E5+'شش ماهه اول'!E5 -> 0 | F5: ='سه ماهه سوم'!F5+'شش ماهه اول'!F5 -> 0 | G5: ='سه ماهه سوم'!G5+'شش ماهه اول'!G5 -> 0 | H5: ='سه ماهه سوم'!H5+'شش ماهه اول'!H5 -> 0 | I5: ='سه ماهه سوم'!I5+'شش ماهه اول'!I5 -> 0 | J5: ='سه ماهه سوم'!J5+'شش ماهه اول'!J5 -> 0 | K5: ='سه ماهه سوم'!K5+'شش ماهه اول'!K5 -> 0 | ... AU5: ='سه ماهه سوم'!AU5+'شش ماهه اول'!AU5 -> 0
A6: 3 | D6: ='سه ماهه سوم'!D6+'شش ماهه اول'!D6 -> 0 | E6: ='سه ماهه سوم'!E6+'شش ماهه اول'!E6 -> 0 | F6: ='سه ماهه سوم'!F6+'شش ماهه اول'!F6 -> 0 | G6: ='سه ماهه سوم'!G6+'شش ماهه اول'!G6 -> 0 | H6: ='سه ماهه سوم'!H6+'شش ماهه اول'!H6 -> 0 | I6: ='سه ماهه سوم'!I6+'شش ماهه اول'!I6 -> 0 | J6: ='سه ماهه سوم'!J6+'شش ماهه اول'!J6 -> 0 | K6: ='سه ماهه سوم'!K6+'شش ماهه اول'!K6 -> 0 | ... AU6: ='سه ماهه سوم'!AU6+'شش ماهه اول'!AU6 -> 0
A7: 4 | D7: ='سه ماهه سوم'!D7+'شش ماهه اول'!D7 -> 0 | E7: ='سه ماهه سوم'!E7+'شش ماهه اول'!E7 -> 0 | F7: ='سه ماهه سوم'!F7+'شش ماهه اول'!F7 -> 0 | G7: ='سه ماهه سوم'!G7+'شش ماهه اول'!G7 -> 0 | H7: ='سه ماهه سوم'!H7+'شش ماهه اول'!H7 -> 0 | I7: ='سه ماهه سوم'!I7+'شش ماهه اول'!I7 -> 0 | J7: ='سه ماهه سوم'!J7+'شش ماهه اول'!J7 -> 0 | K7: ='سه ماهه سوم'!K7+'شش ماهه اول'!K7 -> 0 | ... AU7: ='سه ماهه سوم'!AU7+'شش ماهه اول'!AU7 -> 0
A8: 5 | D8: ='سه ماهه سوم'!D8+'شش ماهه اول'!D8 -> 0 | E8: ='سه ماهه سوم'!E8+'شش ماهه اول'!E8 -> 0 | F8: ='سه ماهه سوم'!F8+'شش ماهه اول'!F8 -> 0 | G8: ='سه ماهه سوم'!G8+'شش ماهه اول'!G8 -> 0 | H8: ='سه ماهه سوم'!H8+'شش ماهه اول'!H8 -> 0 | I8: ='سه ماهه سوم'!I8+'شش ماهه اول'!I8 -> 0 | J8: ='سه ماهه سوم'!J8+'شش ماهه اول'!J8 -> 0 | K8: ='سه ماهه سوم'!K8+'شش ماهه اول'!K8 -> 0 | ... AU8: ='سه ماهه سوم'!AU8+'شش ماهه اول'!AU8 -> 0
A9: 6 | B9: نوزاد ایرانی نارس | D9: ='سه ماهه سوم'!D9+'شش ماهه اول'!D9 -> 0 | E9: ='سه ماهه سوم'!E9+'شش ماهه اول'!E9 -> 0 | F9: ='سه ماهه سوم'!F9+'شش ماهه اول'!F9 -> 0 | G9: ='سه ماهه سوم'!G9+'شش ماهه اول'!G9 -> 0 | H9: ='سه ماهه سوم'!H9+'شش ماهه اول'!H9 -> 0 | I9: ='سه ماهه سوم'!I9+'شش ماهه اول'!I9 -> 0 | J9: ='سه ماهه سوم'!J9+'شش ماهه اول'!J9 -> 0 | K9: ='سه ماهه سوم'!K9+'شش ماهه اول'!K9 -> 0 | ... AU9: ='سه ماهه سوم'!AU9+'شش ماهه اول'!AU9 -> 0
A10: 7 | D10: ='سه ماهه سوم'!D10+'شش ماهه اول'!D10 -> 0 | E10: ='سه ماهه سوم'!E10+'شش ماهه اول'!E10 -> 0 | F10: ='سه ماهه سوم'!F10+'شش ماهه اول'!F10 -> 0 | G10: ='سه ماهه سوم'!G10+'شش ماهه اول'!G10 -> 0 | H10: ='سه ماهه سوم'!H10+'شش ماهه اول'!H10 -> 0 | I10: ='سه ماهه سوم'!I10+'شش ماهه اول'!I10 -> 0 | J10: ='سه ماهه سوم'!J10+'شش ماهه اول'!J10 -> 0 | K10: ='سه ماهه سوم'!K10+'شش ماهه اول'!K10 -> 0 | ... AU10: ='سه ماهه سوم'!AU10+'شش ماهه اول'!AU10 -> 0
A11: 8 | D11: ='سه ماهه سوم'!D11+'شش ماهه اول'!D11 -> 0 | E11: ='سه ماهه سوم'!E11+'شش ماهه اول'!E11 -> 0 | F11: ='سه ماهه سوم'!F11+'شش ماهه اول'!F11 -> 0 | G11: ='سه ماهه سوم'!G11+'شش ماهه اول'!G11 -> 0 | H11: ='سه ماهه سوم'!H11+'شش ماهه اول'!H11 -> 0 | I11: ='سه ماهه سوم'!I11+'شش ماهه اول'!I11 -> 0 | J11: ='سه ماهه سوم'!J11+'شش ماهه اول'!J11 -> 0 | K11: ='سه ماهه سوم'!K11+'شش ماهه اول'!K11 -> 0 | ... AU11: ='سه ماهه سوم'!AU11+'شش ماهه اول'!AU11 -> 0
A12: 9 | D12: ='سه ماهه سوم'!D12+'شش ماهه اول'!D12 -> 0 | E12: ='سه ماهه سوم'!E12+'شش ماهه اول'!E12 -> 0 | F12: ='سه ماهه سوم'!F12+'شش ماهه اول'!F12 -> 0 | G12: ='سه ماهه سوم'!G12+'شش ماهه اول'!G12 -> 0 | H12: ='سه ماهه سوم'!H12+'شش ماهه اول'!H12 -> 0 | I12: ='سه ماهه سوم'!I12+'شش ماهه اول'!I12 -> 0 | J12: ='سه ماهه سوم'!J12+'شش ماهه اول'!J12 -> 0 | K12: ='سه ماهه سوم'!K12+'شش ماهه اول'!K12 -> 0 | ... AU12: ='سه ماهه سوم'!AU12+'شش ماهه اول'!AU12 -> 0
A13: 10 | D13: ='سه ماهه سوم'!D13+'شش ماهه اول'!D13 -> 0 | E13: ='سه ماهه سوم'!E13+'شش ماهه اول'!E13 -> 0 | F13: ='سه ماهه سوم'!F13+'شش ماهه اول'!F13 -> 0 | G13: ='سه ماهه سوم'!G13+'شش ماهه اول'!G13 -> 0 | H13: ='سه ماهه سوم'!H13+'شش ماهه اول'!H13 -> 0 | I13: ='سه ماهه سوم'!I13+'شش ماهه اول'!I13 -> 0 | J13: ='سه ماهه سوم'!J13+'شش ماهه اول'!J13 -> 0 | K13: ='سه ماهه سوم'!K13+'شش ماهه اول'!K13 -> 0 | ... AU13: ='سه ماهه سوم'!AU13+'شش ماهه اول'!AU13 -> 0
A14: جمع کل ایرانی | D14: ='سه ماهه سوم'!D14+'شش ماهه اول'!D14 -> 0 | E14: ='سه ماهه سوم'!E14+'شش ماهه اول'!E14 -> 0 | F14: ='سه ماهه سوم'!F14+'شش ماهه اول'!F14 -> 0 | G14: ='سه ماهه سوم'!G14+'شش ماهه اول'!G14 -> 0 | H14: ='سه ماهه سوم'!H14+'شش ماهه اول'!H14 -> 0 | I14: ='سه ماهه سوم'!I14+'شش ماهه اول'!I14 -> 0 | J14: ='سه ماهه سوم'!J14+'شش ماهه اول'!J14 -> 0 | K14: ='سه ماهه سوم'!K14+'شش ماهه اول'!K14 -> 0 | ... AU14: ='سه ماهه سوم'!AU14+'شش ماهه اول'!AU14 -> 0
A15: جمعيت غیر ایرانی
A16: 1 | B16: نوزاد غیر ایرانی ترم | D16: ='سه ماهه سوم'!D16+'شش ماهه اول'!D16 -> 0 | E16: ='سه ماهه سوم'!E16+'شش ماهه اول'!E16 -> 0 | F16: ='سه ماهه سوم'!F16+'شش ماهه اول'!F16 -> 0 | G16: ='سه ماهه سوم'!G16+'شش ماهه اول'!G16 -> 0 | H16: ='سه ماهه سوم'!H16+'شش ماهه اول'!H16 -> 0 | I16: ='سه ماهه سوم'!I16+'شش ماهه اول'!I16 -> 0 | J16: ='سه ماهه سوم'!J16+'شش ماهه اول'!J16 -> 0 | K16: ='سه ماهه سوم'!K16+'شش ماهه اول'!K16 -> 0 | ... AU16: ='سه ماهه سوم'!AU16+'شش ماهه اول'!AU16 -> 0
A17: 2 | D17: ='سه ماهه سوم'!D17+'شش ماهه اول'!D17 -> 0 | E17: ='سه ماهه سوم'!E17+'شش ماهه اول'!E17 -> 0 | F17: ='سه ماهه سوم'!F17+'شش ماهه اول'!F17 -> 0 | G17: ='سه ماهه سوم'!G17+'شش ماهه اول'!G17 -> 0 | H17: ='سه ماهه سوم'!H17+'شش ماهه اول'!H17 -> 0 | I17: ='سه ماهه سوم'!I17+'شش ماهه اول'!I17 -> 0 | J17: ='سه ماهه سوم'!J17+'شش ماهه اول'!J17 -> 0 | K17: ='سه ماهه سوم'!K17+'شش ماهه اول'!K17 -> 0 | ... AU17: ='سه ماهه سوم'!AU17+'شش ماهه اول'!AU17 -> 0
A18: 3 | D18: ='سه ماهه سوم'!D18+'شش ماهه اول'!D18 -> 0 | E18: ='سه ماهه سوم'!E18+'شش ماهه اول'!E18 -> 0 | F18: ='سه ماهه سوم'!F18+'شش ماهه اول'!F18 -> 0 | G18: ='سه ماهه سوم'!G18+'شش ماهه اول'!G18 -> 0 | H18: ='سه ماهه سوم'!H18+'شش ماهه اول'!H18 -> 0 | I18: ='سه ماهه سوم'!I18+'شش ماهه اول'!I18 -> 0 | J18: ='سه ماهه سوم'!J18+'شش ماهه اول'!J18 -> 0 | K18: ='سه ماهه سوم'!K18+'شش ماهه اول'!K18 -> 0 | ... AU18: ='سه ماهه سوم'!AU18+'شش ماهه اول'!AU18 -> 0
A19: 4 | D19: ='سه ماهه سوم'!D19+'شش ماهه اول'!D19 -> 0 | E19: ='سه ماهه سوم'!E19+'شش ماهه اول'!E19 -> 0 | F19: ='سه ماهه سوم'!F19+'شش ماهه اول'!F19 -> 0 | G19: ='سه ماهه سوم'!G19+'شش ماهه اول'!G19 -> 0 | H19: ='سه ماهه سوم'!H19+'شش ماهه اول'!H19 -> 0 | I19: ='سه ماهه سوم'!I19+'شش ماهه اول'!I19 -> 0 | J19: ='سه ماهه سوم'!J19+'شش ماهه اول'!J19 -> 0 | K19: ='سه ماهه سوم'!K19+'شش ماهه اول'!K19 -> 0 | ... AU19: ='سه ماهه سوم'!AU19+'شش ماهه اول'!AU19 -> 0
A20: 5 | D20: ='سه ماهه سوم'!D20+'شش ماهه اول'!D20 -> 0 | E20: ='سه ماهه سوم'!E20+'شش ماهه اول'!E20 -> 0 | F20: ='سه ماهه سوم'!F20+'شش ماهه اول'!F20 -> 0 | G20: ='سه ماهه سوم'!G20+'شش ماهه اول'!G20 -> 0 | H20: ='سه ماهه سوم'!H20+'شش ماهه اول'!H20 -> 0 | I20: ='سه ماهه سوم'!I20+'شش ماهه اول'!I20 -> 0 | J20: ='سه ماهه سوم'!J20+'شش ماهه اول'!J20 -> 0 | K20: ='سه ماهه سوم'!K20+'شش ماهه اول'!K20 -> 0 | ... AU20: ='سه ماهه سوم'!AU20+'شش ماهه اول'!AU20 -> 0
A21: 1 | B21: نوزاد غیر ایرانی نارس | D21: ='سه ماهه سوم'!D21+'شش ماهه اول'!D21 -> 0 | E21: ='سه ماهه سوم'!E21+'شش ماهه اول'!E21 -> 0 | F21: ='سه ماهه سوم'!F21+'شش ماهه اول'!F21 -> 0 | G21: ='سه ماهه سوم'!G21+'شش ماهه اول'!G21 -> 0 | H21: ='سه ماهه سوم'!H21+'شش ماهه اول'!H21 -> 0 | I21: ='سه ماهه سوم'!I21+'شش ماهه اول'!I21 -> 0 | J21: ='سه ماهه سوم'!J21+'شش ماهه اول'!J21 -> 0 | K21: ='سه ماهه سوم'!K21+'شش ماهه اول'!K21 -> 0 | ... AU21: ='سه ماهه سوم'!AU21+'شش ماهه اول'!AU21 -> 0
A22: 2 | D22: ='سه ماهه سوم'!D22+'شش ماهه اول'!D22 -> 0 | E22: ='سه ماهه سوم'!E22+'شش ماهه اول'!E22 -> 0 | F22: ='سه ماهه سوم'!F22+'شش ماهه اول'!F22 -> 0 | G22: ='سه ماهه سوم'!G22+'شش ماهه اول'!G22 -> 0 | H22: ='سه ماهه سوم'!H22+'شش ماهه اول'!H22 -> 0 | I22: ='سه ماهه سوم'!I22+'شش ماهه اول'!I22 -> 0 | J22: ='سه ماهه سوم'!J22+'شش ماهه اول'!J22 -> 0 | K22: ='سه ماهه سوم'!K22+'شش ماهه اول'!K22 -> 0 | ... AU22: ='سه ماهه سوم'!AU22+'شش ماهه اول'!AU22 -> 0
A23: 3 | D23: ='سه ماهه سوم'!D23+'شش ماهه اول'!D23 -> 0 | E23: ='سه ماهه سوم'!E23+'شش ماهه اول'!E23 -> 0 | F23: ='سه ماهه سوم'!F23+'شش ماهه اول'!F23 -> 0 | G23: ='سه ماهه سوم'!G23+'شش ماهه اول'!G23 -> 0 | H23: ='سه ماهه سوم'!H23+'شش ماهه اول'!H23 -> 0 | I23: ='سه ماهه سوم'!I23+'شش ماهه اول'!I23 -> 0 | J23: ='سه ماهه سوم'!J23+'شش ماهه اول'!J23 -> 0 | K23: ='سه ماهه سوم'!K23+'شش ماهه اول'!K23 -> 0 | ... AU23: ='سه ماهه سوم'!AU23+'شش ماهه اول'!AU23 -> 0
A24: 4 | D24: ='سه ماهه سوم'!D24+'شش ماهه اول'!D24 -> 0 | E24: ='سه ماهه سوم'!E24+'شش ماهه اول'!E24 -> 0 | F24: ='سه ماهه سوم'!F24+'شش ماهه اول'!F24 -> 0 | G24: ='سه ماهه سوم'!G24+'شش ماهه اول'!G24 -> 0 | H24: ='سه ماهه سوم'!H24+'شش ماهه اول'!H24 -> 0 | I24: ='سه ماهه سوم'!I24+'شش ماهه اول'!I24 -> 0 | J24: ='سه ماهه سوم'!J24+'شش ماهه اول'!J24 -> 0 | K24: ='سه ماهه سوم'!K24+'شش ماهه اول'!K24 -> 0 | ... AU24: ='سه ماهه سوم'!AU24+'شش ماهه اول'!AU24 -> 0
A25: 5 | D25: ='سه ماهه سوم'!D25+'شش ماهه اول'!D25 -> 0 | E25: ='سه ماهه سوم'!E25+'شش ماهه اول'!E25 -> 0 | F25: ='سه ماهه سوم'!F25+'شش ماهه اول'!F25 -> 0 | G25: ='سه ماهه سوم'!G25+'شش ماهه اول'!G25 -> 0 | H25: ='سه ماهه سوم'!H25+'شش ماهه اول'!H25 -> 0 | I25: ='سه ماهه سوم'!I25+'شش ماهه اول'!I25 -> 0 | J25: ='سه ماهه سوم'!J25+'شش ماهه اول'!J25 -> 0 | K25: ='سه ماهه سوم'!K25+'شش ماهه اول'!K25 -> 0 | ... AU25: ='سه ماهه سوم'!AU25+'شش ماهه اول'!AU25 -> 0
A26: جمع کل غیر ایرانی | D26: ='سه ماهه سوم'!D26+'شش ماهه اول'!D26 -> 0 | E26: ='سه ماهه سوم'!E26+'شش ماهه اول'!E26 -> 0 | F26: ='سه ماهه سوم'!F26+'شش ماهه اول'!F26 -> 0 | G26: ='سه ماهه سوم'!G26+'شش ماهه اول'!G26 -> 0 | H26: ='سه ماهه سوم'!H26+'شش ماهه اول'!H26 -> 0 | I26: ='سه ماهه سوم'!I26+'شش ماهه اول'!I26 -> 0 | J26: ='سه ماهه سوم'!J26+'شش ماهه اول'!J26 -> 0 | K26: ='سه ماهه سوم'!K26+'شش ماهه اول'!K26 -> 0 | ... AU26: ='سه ماهه سوم'!AU26+'شش ماهه اول'!AU26 -> 0
A27: جمع کل ایرانی و غیر ایرانی | D27: =D14+D26 -> 0 | E27: =E14+E26 -> 0 | F27: =F14+F26 -> 0 | G27: =G14+G26 -> 0 | H27: =H14+H26 -> 0 | I27: =I14+I26 -> 0 | J27: =J14+J26 -> 0 | K27: =K14+K26 -> 0 | ... AU27: =AU14+AU26 -> 0
E28: =E27+F27 -> 0 | G28: =G27+H27+I27 -> 0 | J28: =J27+K27+L27 -> 0 | M28: =M27+N27+O27+P27 -> 0 | R28: =R27+S27+T27 -> 0 | U28: =U27+V27+W27 -> 0 | X28: =X27+Y27+Z27+AA27 -> 0 | AB28: =AB27+AC27+AD27 -> 0 | AE28: =AE27+AF27+AG27 -> 0 | AH28: =AH27+AI27+AJ27+AK27+AL27+AM27+AN27+AO27+AP27 -> 0 | AR28: =AR27+AS27+AT27+AU27 -> 0

Sheet دی
A1: آمار غربالگري تيروئيد نوزادان : سال 1403 | E1: مركز خدمات جامع سلامت : ............... | J1: مركز بهداشت شهرستان قزوین
A2: رديف | C2: نام محل نمونه گيري | D2: تعداد نوزادان غربالگري شده باراول | E2: جنس | G2: زمان انجام نمونه گيري نوبت اول بر حسب سن نوزاد به روز | J2: زمان اعلام نتيجه آزمايش مشکوک نوبت اول برحسب سن نوزاد به روز | M2: سطح TSH نوبت اول | Q2: تعداد غربالگری بار دوم | R2: زمان انجام نمونه گيري نوبت دوم بر حسب سن نوزاد به روز | U2: زمان اعلام نتيجه آزمايش مشکوک نوبت دوم برحسب سن نوزاد به روز | X2: سطح TSH نوبت دوم | AB2: تشخيص نهايي | AE2: زمان شروع درمان برحسب سن نوزاد به روز | AH2: علل غربالگری باردوم | AQ2: تعداد غربالگری نوبت سوم و چهارم | AR2: سطح TSH نوبت سوم و چهارم
E3: دختر | F3: پسر | G3: 3-5 روز | H3: 6-21 روز | I3: 22و بيشتر | J3: <13 | K3: روز 21-14 | L3: 22و بيشتر | M3: TSH<5 | N3: TSH 5-9 | O3: TSH>=10-19/9 | P3: TSH>20 | R3: <13 | S3: 14-21 روز | T3: 22و بيشتر | U3: <14 | V3: 15-21 | W3: 22و بيشتر | X3: TSH<5 | Y3: TSH 5-9 | Z3: TSH>=10-19/9 | AA3: TSH>20 | AB3: سالم | AC3: بيمار | AD3: عدم آزمایش | AE3: كمتر از 28 | AF3: 28-40 | AG3: 41و بيشتر | AH3: نمونه نامناسب | AI3: TSH= 5-9/9 | AJ3: نوزاد نارس | AK3: نوزاد با وزن کمتر از 2500 گرم | AL3: نوزاد با وزن بیش از 4000 گرم | AM3: دو قلویی یا چند قلویی | AN3: سابقه بستری در بیمارستان | AO3: تعویض یا دریافت خون | AP3: سابقه مصرف داروهای خاص | AR3: TSH<5 | AS3: TSH 5-9 | AT3: TSH>=10-19/9 | AU3: TSH>20
A4: 1 | B4: نوزاد ایرانی ترم | D4: 0 | E4: 0 | F4: 0 | G4: 0 | H4: 0 | I4: 0 | J4: 0 | K4: 0 | L4: 0 | M4: 0 | N4: 0 | O4: 0 | P4: 0 | Q4: 0 | R4: 0 | S4: 0 | T4: 0 | U4: 0 | V4: 0 | W4: 0 | X4: 0 | Y4: 0 | Z4: 0 | AA4: 0 | AB4: 0 | AC4: 0 | AD4: 0 | AE4: 0 | AF4: 0 | AG4: 0 | AH4: 0 | AI4: 0 | AJ4: 0 | AK4: 0 | AL4: 0 | AM4: 0 | AN4: 0 | AO4: 0 | AP4: 0 | AQ4: 0 | AR4: 0 | AS4: 0 | AT4: 0 | AU4: 0
A5: 2
A6: 3
A7: 4
A8: 5
A9: 1 | B9: نوزاد ایرانی نارس | D9: 0 | E9: 0 | F9: 0 | G9: 0 | H9: 0 | I9: 0 | J9: 0 | K9: 0 | L9: 0 | M9: 0 | N9: 0 | O9: 0 | P9: 0 | Q9: 0 | R9: 0 | S9: 0 | T9: 0 | U9: 0 | V9: 0 | W9: 0 | X9: 0 | Y9: 0 | Z9: 0 | AA9: 0 | AB9: 0 | AC9: 0 | AD9: 0 | AE9: 0 | AF9: 0 | AG9: 0 | AH9: 0 | AI9: 0 | AJ9: 0 | AK9: 0 | AL9: 0 | AM9: 0 | AN9: 0 | AO9: 0 | AP9: 0 | AQ9: 0 | AR9: 0 | AS9: 0 | AT9: 0 | AU9: 0
A10: 2
A11: 3
A12: 4
A13: 5
A14: جمع کل ایرانی | D14: =D4+D5+D6+D7+D8+D9+D10+D11+D12+D13 -> 0 | E14: =E4+E5+E6+E7+E8+E9+E10+E11+E12+E13 -> 0 | F14: =F4+F5+F6+F7+F8+F9+F10+F11+F12+F13 -> 0 | G14: =G4+G5+G6+G7+G8+G9+G10+G11+G12+G13 -> 0 | H14: =H4+H5+H6+H7+H8+H9+H10+H11+H12+H13 -> 0 | I14: =I4+I5+I6+I7+I8+I9+I10+I11+I12+I13 -> 0 | J14: =J4+J5+J6+J7+J8+J9+J10+J11+J12+J13 -> 0 | K14: =K4+K5+K6+K7+K8+K9+K10+K11+K12+K13 -> 0 | ... AU14: =AU4+AU5+AU6+AU7+AU8+AU9+AU10+AU11+AU12+AU13 -> 0
A15: جمعيت غیر ایرانی
A16: 1 | B16: نوزاد غیر ایرانی ترم | D16: 0 | E16: 0 | F16: 0 | G16: 0 | H16: 0 | I16: 0 | J16: 0 | K16: 0 | L16: 0 | M16: 0 | N16: 0 | O16: 0 | P16: 0 | Q16: 0 | R16: 0 | S16: 0 | T16: 0 | U16: 0 | V16: 0 | W16: 0 | X16: 0 | Y16: 0 | Z16: 0 | AA16: 0 | AB16: 0 | AC16: 0 | AD16: 0 | AE16: 0 | AF16: 0 | AG16: 0 | AH16: 0 | AI16: 0 | AJ16: 0 | AK16: 0 | AL16: 0 | AM16: 0 | AN16: 0 | AO16: 0 | AP16: 0
A17: 2
A18: 3
A19: 4
A20: 5
A21: 1 | B21: نوزاد غیر ایرانی نارس | D21: 0 | E21: 0 | F21: 0 | G21: 0 | H21: 0 | I21: 0 | J21: 0 | K21: 0 | L21: 0 | M21: 0 | N21: 0 | O21: 0 | P21: 0 | Q21: 0 | R21: 0 | S21: 0 | T21: 0 | U21: 0 | V21: 0 | W21: 0 | X21: 0 | Y21: 0 | Z21: 0 | AA21: 0 | AB21: 0 | AC21: 0 | AD21: 0 | AE21: 0 | AF21: 0 | AG21: 0 | AH21: 0 | AI21: 0 | AJ21: 0 | AK21: 0 | AL21: 0 | AM21: 0 | AN21: 0 | AO21: 0 | AP21: 0 | AQ21: 0 | AR21: 0 | AS21: 0 | AT21: 0 | AU21: 0
A22: 2
A23: 3
A24: 4
A25: 5
A26: جمع کل غیر ایرانی | D26: =D16+D17+D18+D19+D20+D21+D22+D23+D24+D25 -> 0 | E26: =E16+E17+E18+E19+E20+E21+E22+E23+E24+E25 -> 0 | F26: =F16+F17+F18+F19+F20+F21+F22+F23+F24+F25 -> 0 | G26: =G16+G17+G18+G19+G20+G21+G22+G23+G24+G25 -> 0 | H26: =H16+H17+H18+H19+H20+H21+H22+H23+H24+H25 -> 0 | I26: =I16+I17+I18+I19+I20+I21+I22+I23+I24+I25 -> 0 | J26: =J16+J17+J18+J19+J20+J21+J22+J23+J24+J25 -> 0 | K26: =K16+K17+K18+K19+K20+K21+K22+K23+K24+K25 -> 0 | ... AU26: =AU16+AU17+AU18+AU19+AU20+AU21+AU22+AU23+AU24+AU25 -> 0
A27: جمع کل ایرانی و غیر ایرانی | D27: =D26+D14 -> 0 | E27: =E26+E14 -> 0 | F27: =F26+F14 -> 0 | G27: =G26+G14 -> 0 | H27: =H26+H14 -> 0 | I27: =I26+I14 -> 0 | J27: =J26+J14 -> 0 | K27: =K26+K14 -> 0 | ... AU27: =AU26+AU14 -> 0
E28: =E27+F27 -> 0 | G28: =G27+H27+I27 -> 0 | J28: =J27+K27+L27 -> 0 | M28: 0 | R28: =R27+S27+T27 -> 0 | U28: 0 | X28: 0 | AB28: =AB27+AC27+AD27 -> 0 | AE28: 0 | AH28: =AH27+AI27+AJ27+AK27+AL27+AM27+AN27+AO27+AP27 -> 0 | AR28: =AR27+AS27+AT27+AU27 -> 0

Sheet بهمن
A1: آمار غربالگري تيروئيد نوزادان : سال1403 | E1: مركز خدمات جامع سلامت : ............... | J1: مركز بهداشت شهرستان قزوین
A2: رديف | C2: نام محل نمونه گيري | D2: تعداد نوزادان غربالگري شده باراول | E2: جنس | G2: زمان انجام نمونه گيري نوبت اول بر حسب سن نوزاد به روز | J2: زمان اعلام نتيجه آزمايش مشکوک نوبت اول برحسب سن نوزاد به روز | M2: سطح TSH نوبت اول | Q2: تعداد غربالگری بار دوم | R2: زمان انجام نمونه گيري نوبت دوم بر حسب سن نوزاد به روز | U2: زمان اعلام نتيجه آزمايش مشکوک نوبت دوم برحسب سن نوزاد به روز | X2: سطح TSH نوبت دوم | AB2: تشخيص نهايي | AE2: زمان شروع درمان برحسب سن نوزاد به روز | AH2: علل غربالگری باردوم | AQ2: تعداد غربالگری نوبت سوم و چهارم | AR2: سطح TSH نوبت سوم و چهارم
E3: دختر | F3: پسر | G3: 3-5 روز | H3: 6-21 روز | I3: 22و بيشتر | J3: <13 | K3: روز 21-14 | L3: 22و بيشتر | M3: TSH<5 | N3: TSH 5-9 | O3: TSH>=10-19/9 | P3: TSH>20 | R3: <13 | S3: 14-21 روز | T3: 22و بيشتر | U3: <14 | V3: 15-21 | W3: 22و بيشتر | X3: TSH<5 | Y3: TSH 5-9 | Z3: TSH>=10-19/9 | AA3: TSH>20 | AB3: سالم | AC3: بيمار | AD3: عدم آزمایش | AE3: كمتر از 28 | AF3: 28-40 | AG3: 41و بيشتر | AH3: نمونه نامناسب | AI3: TSH= 5-9/9 | AJ3: نوزاد نارس | AK3: نوزاد با وزن کمتر از 2500 گرم | AL3: نوزاد با وزن بیش از 4000 گرم | AM3: دو قلویی یا چند قلویی | AN3: سابقه بستری در بیمارستان | AO3: تعویض یا دریافت خون | AP3: سابقه مصرف داروهای خاص | AR3: TSH<5 | AS3: TSH 5-9 | AT3: TSH>=10-19/9 | AU3: TSH>20
A4: 1 | B4: نوزاد ایرانی ترم | D4: 0 | E4: 0 | F4: 0 | G4: 0 | H4: 0 | I4: 0 | J4: 0 | K4: 0 | L4: 0 | M4: 0 | N4: 0 | O4: 0 | P4: 0 | Q4: 0 | R4: 0 | S4: 0 | T4: 0 | U4: 0 | V4: 0 | W4: 0 | X4: 0 | Y4: 0 | Z4: 0 | AA4: 0 | AB4: 0 | AC4: 0 | AD4: 0 | AE4: 0 | AF4: 0 | AG4: 0 | AH4: 0 | AI4: 0 | AJ4: 0 | AK4: 0 | AL4: 0 | AM4: 0 | AN4: 0 | AO4: 0 | AP4: 0 | AQ4: 0 | AR4: 0 | AS4: 0 | AT4: 0 | AU4: 0
A5: 2
A6: 3
A7: 4
A8: 5
A9: 1 | B9: نوزاد ایرانی نارس | D9: 0 | E9: 0 | F9: 0 | G9: 0 | H9: 0 | I9: 0 | J9: 0 | K9: 0 | L9: 0 | M9: 0 | N9: 0 | O9: 0 | P9: 0 | Q9: 0 | R9: 0 | S9: 0 | T9: 0 | U9: 0 | V9: 0 | W9: 0 | X9: 0 | Y9: 0 | Z9: 0 | AA9: 0 | AB9: 0 | AC9: 0 | AD9: 0 | AE9: 0 | AF9: 0 | AG9: 0 | AH9: 0 | AI9: 0 | AJ9: 0 | AK9: 0 | AL9: 0 | AM9: 0 | AN9: 0 | AO9: 0 | AP9: 0 | AQ9: 0 | AR9: 0 | AS9: 0 | AT9: 0 | AU9: 0
A10: 2
A11: 3
A12: 4
A13: 5
A14: جمع کل ایرانی | D14: =D4+D5+D6+D7+D8+D9+D10+D11+D12+D13 -> 0 | E14: =E4+E5+E6+E7+E8+E9+E10+E11+E12+E13 -> 0 | F14: =F4+F5+F6+F7+F8+F9+F10+F11+F12+F13 -> 0 | G14: =G4+G5+G6+G7+G8+G9+G10+G11+G12+G13 -> 0 | H14: =H4+H5+H6+H7+H8+H9+H10+H11+H12+H13 -> 0 | I14: =I4+I5+I6+I7+I8+I9+I10+I11+I12+I13 -> 0 | J14: =J4+J5+J6+J7+J8+J9+J10+J11+J12+J13 -> 0 | K14: =K4+K5+K6+K7+K8+K9+K10+K11+K12+K13 -> 0 | ... AU14: =AU4+AU5+AU6+AU7+AU8+AU9+AU10+AU11+AU12+AU13 -> 0
A15: جمعيت غیر ایرانی
A16: 1 | B16: نوزاد غیر ایرانی ترم | D16: 0 | E16: 0 | F16: 0 | G16: 0 | H16: 0 | I16: 0 | J16: 0 | K16: 0 | L16: 0 | M16: 0 | N16: 0 | O16: 0 | P16: 0 | Q16: 0 | R16: 0 | S16: 0 | T16: 0 | U16: 0 | V16: 0 | W16: 0 | X16: 0 | Y16: 0 | Z16: 0 | AA16: 0 | AB16: 0 | AC16: 0 | AD16: 0 | AE16: 0 | AF16: 0 | AG16: 0 | AH16: 0 | AI16: 0 | AJ16: 0 | AK16: 0 | AL16: 0 | AM16: 0 | AN16: 0 | AO16: 0 | AP16: 0
A17: 2
A18: 3
A19: 4
A20: 5
A21: 1 | B21: نوزاد غیر ایرانی نارس | D21: 0 | E21: 0 | F21: 0 | G21: 0 | H21: 0 | I21: 0 | J21: 0 | K21: 0 | L21: 0 | M21: 0 | N21: 0 | O21: 0 | P21: 0 | Q21: 0 | R21: 0 | S21: 0 | T21: 0 | U21: 0 | V21: 0 | W21: 0 | X21: 0 | Y21: 0 | Z21: 0 | AA21: 0 | AB21: 0 | AC21: 0 | AD21: 0 | AE21: 0 | AF21: 0 | AG21: 0 | AH21: 0 | AI21: 0 | AJ21: 0 | AK21: 0 | AL21: 0 | AM21: 0 | AN21: 0 | AO21: 0 | AP21: 0 | AQ21: 0 | AR21: 0 | AS21: 0 | AT21: 0 | AU21: 0
A22: 2
A23: 3
A24: 4
A25: 5
A26: جمع کل غیر ایرانی | D26: =D16+D17+D18+D19+D20+D21+D22+D23+D24+D25 -> 0 | E26: =E16+E17+E18+E19+E20+E21+E22+E23+E24+E25 -> 0 | F26: =F16+F17+F18+F19+F20+F21+F22+F23+F24+F25 -> 0 | G26: =G16+G17+G18+G19+G20+G21+G22+G23+G24+G25 -> 0 | H26: =H16+H17+H18+H19+H20+H21+H22+H23+H24+H25 -> 0 | I26: =I16+I17+I18+I19+I20+I21+I22+I23+I24+I25 -> 0 | J26: =J16+J17+J18+J19+J20+J21+J22+J23+J24+J25 -> 0 | K26: =K16+K17+K18+K19+K20+K21+K22+K23+K24+K25 -> 0 | ... AU26: =AU16+AU17+AU18+AU19+AU20+AU21+AU22+AU23+AU24+AU25 -> 0
A27: جمع کل ایرانی و غیر ایرانی | D27: =D26+D14 -> 0 | E27: =E26+E14 -> 0 | F27: =F26+F14 -> 0 | G27: =G26+G14 -> 0 | H27: =H26+H14 -> 0 | I27: =I26+I14 -> 0 | J27: =J26+J14 -> 0 | K27: =K26+K14 -> 0 | ... AU27: =AU26+AU14 -> 0
E28: =E27+F27 -> 0 | G28: =G27+H27+I27 -> 0 | J28: =J27+K27+L27 -> 0 | M28: 0 | R28: =R27+S27+T27 -> 0 | U28: 0 | X28: 0 | AB28: =AB27+AC27+AD27 -> 0 | AE28: 0 | AH28: =AH27+AI27+AJ27+AK27+AL27+AM27+AN27+AO27+AP27 -> 0 | AR28: =AR27+AS27+AT27+AU27 -> 0

Sheet اسفند
A1: آمار غربالگري تيروئيد نوزادان : سال 1403 | E1: مركز خدمات جامع سلامت : ............... | J1: مركز بهداشت شهرستان قزوین
A2: رديف | C2: نام محل نمونه گيري | D2: تعداد نوزادان غربالگري شده باراول | E2: جنس | G2: زمان انجام نمونه گيري نوبت اول بر حسب سن نوزاد به روز | J2: زمان اعلام نتيجه آزمايش مشکوک نوبت اول برحسب سن نوزاد به روز | M2: سطح TSH نوبت اول | Q2: تعداد غربالگری بار دوم | R2: زمان انجام نمونه گيري نوبت دوم بر حسب سن نوزاد به روز | U2: زمان اعلام نتيجه آزمايش مشکوک نوبت دوم برحسب سن نوزاد به روز | X2: سطح TSH نوبت دوم | AB2: تشخيص نهايي | AE2: زمان شروع درمان برحسب سن نوزاد به روز | AH2: علل غربالگری باردوم | AQ2: تعداد غربالگری نوبت سوم و چهارم | AR2: سطح TSH نوبت سوم و چهارم
E3: دختر | F3: پسر | G3: 3-5 روز | H3: 6-21 روز | I3: 22و بيشتر | J3: <13 | K3: روز 21-14 | L3: 22و بيشتر | M3: TSH<5 | N3: TSH 5-9 | O3: TSH>=10-19/9 | P3: TSH>20 | R3: <13 | S3: 14-21 روز | T3: 22و بيشتر | U3: <14 | V3: 15-21 | W3: 22و بيشتر | X3: TSH<5 | Y3: TSH 5-9 | Z3: TSH>=10-19/9 | AA3: TSH>20 | AB3: سالم | AC3: بيمار | AD3: عدم آزمایش | AE3: كمتر از 28 | AF3: 28-40 | AG3: 41و بيشتر | AH3: نمونه نامناسب | AI3: TSH= 5-9/9 | AJ3: نوزاد نارس | AK3: نوزاد با وزن کمتر از 2500 گرم | AL3: نوزاد با وزن بیش از 4000 گرم | AM3: دو قلویی یا چند قلویی | AN3: سابقه بستری در بیمارستان | AO3: تعویض یا دریافت خون | AP3: سابقه مصرف داروهای خاص | AR3: TSH<5 | AS3: TSH 5-9 | AT3: TSH>=10-19/9 | AU3: TSH>20
A4: 1 | B4: نوزاد ایرانی ترم | D4: 0 | E4: 0 | F4: 0 | G4: 0 | H4: 0 | I4: 0 | J4: 0 | K4: 0 | L4: 0 | M4: 0 | N4: 0 | O4: 0 | P4: 0 | Q4: 0 | R4: 0 | S4: 0 | T4: 0 | U4: 0 | V4: 0 | W4: 0 | X4: 0 | Y4: 0 | Z4: 0 | AA4: 0 | AB4: 0 | AC4: 0 | AD4: 0 | AE4: 0 | AF4: 0 | AG4: 0 | AH4: 0 | AI4: 0 | AJ4: 0 | AK4: 0 | AL4: 0 | AM4: 0 | AN4: 0 | AO4: 0 | AP4: 0 | AQ4: 0 | AR4: 0 | AS4: 0 | AT4: 0 | AU4: 0
A5: 2
A6: 3
A7: 4
A8: 5
A9: 1 | B9: نوزاد ایرانی نارس | D9: 0 | E9: 0 | F9: 0 | G9: 0 | H9: 0 | I9: 0 | J9: 0 | K9: 0 | L9: 0 | M9: 0 | N9: 0 | O9: 0 | P9: 0 | Q9: 0 | R9: 0 | S9: 0 | T9: 0 | U9: 0 | V9: 0 | W9: 0 | X9: 0 | Y9: 0 | Z9: 0 | AA9: 0 | AB9: 0 | AC9: 0 | AD9: 0 | AE9: 0 | AF9: 0 | AG9: 0 | AH9: 0 | AI9: 0 | AJ9: 0 | AK9: 0 | AL9: 0 | AM9: 0 | AN9: 0 | AO9: 0 | AP9: 0 | AQ9: 0 | AR9: 0 | AS9: 0 | AT9: 0 | AU9: 0
A10: 2
A11: 3
A12: 4
A13: 5
A14: جمع کل ایرانی | D14: =D4+D5+D6+D7+D8+D9+D10+D11+D12+D13 -> 0 | E14: =E4+E5+E6+E7+E8+E9+E10+E11+E12+E13 -> 0 | F14: =F4+F5+F6+F7+F8+F9+F10+F11+F12+F13 -> 0 | G14: =G4+G5+G6+G7+G8+G9+G10+G11+G12+G13 -> 0 | H14: =H4+H5+H6+H7+H8+H9+H10+H11+H12+H13 -> 0 | I14: =I4+I5+I6+I7+I8+I9+I10+I11+I12+I13 -> 0 | J14: =J4+J5+J6+J7+J8+J9+J10+J11+J12+J13 -> 0 | K14: =K4+K5+K6+K7+K8+K9+K10+K11+K12+K13 -> 0 | ... AU14: =AU4+AU5+AU6+AU7+AU8+AU9+AU10+AU11+AU12+AU13 -> 0
A15: جمعيت غیر ایرانی
A16: 1 | B16: نوزاد غیر ایرانی ترم | D16: 0 | E16: 0 | F16: 0 | G16: 0 | H16: 0 | I16: 0 | J16: 0 | K16: 0 | L16: 0 | M16: 0 | N16: 0 | O16: 0 | P16: 0 | Q16: 0 | R16: 0 | S16: 0 | T16: 0 | U16: 0 | V16: 0 | W16: 0 | X16: 0 | Y16: 0 | Z16: 0 | AA16: 0 | AB16: 0 | AC16: 0 | AD16: 0 | AE16: 0 | AF16: 0 | AG16: 0 | AH16: 0 | AI16: 0 | AJ16: 0 | AK16: 0 | AL16: 0 | AM16: 0 | AN16: 0 | AO16: 0 | AP16: 0
A17: 2
A18: 3
A19: 4
A20: 5
A21: 1 | B21: نوزاد غیر ایرانی نارس | D21: 0 | E21: 0 | F21: 0 | G21: 0 | H21: 0 | I21: 0 | J21: 0 | K21: 0 | L21: 0 | M21: 0 | N21: 0 | O21: 0 | P21: 0 | Q21: 0 | R21: 0 | S21: 0 | T21: 0 | U21: 0 | V21: 0 | W21: 0 | X21: 0 | Y21: 0 | Z21: 0 | AA21: 0 | AB21: 0 | AC21: 0 | AD21: 0 | AE21: 0 | AF21: 0 | AG21: 0 | AH21: 0 | AI21: 0 | AJ21: 0 | AK21: 0 | AL21: 0 | AM21: 0 | AN21: 0 | AO21: 0 | AP21: 0 | AQ21: 0 | AR21: 0 | AS21: 0 | AT21: 0 | AU21: 0
A22: 2
A23: 3
A24: 4
A25: 5
A26: جمع کل غیر ایرانی | D26: =D16+D17+D18+D19+D20+D21+D22+D23+D24+D25 -> 0 | E26: =E16+E17+E18+E19+E20+E21+E22+E23+E24+E25 -> 0 | F26: =F16+F17+F18+F19+F20+F21+F22+F23+F24+F25 -> 0 | G26: =G16+G17+G18+G19+G20+G21+G22+G23+G24+G25 -> 0 | H26: =H16+H17+H18+H19+H20+H21+H22+H23+H24+H25 -> 0 | I26: =I16+I17+I18+I19+I20+I21+I22+I23+I24+I25 -> 0 | J26: =J16+J17+J18+J19+J20+J21+J22+J23+J24+J25 -> 0 | K26: =K16+K17+K18+K19+K20+K21+K22+K23+K24+K25 -> 0 | ... AU26: =AU16+AU17+AU18+AU19+AU20+AU21+AU22+AU23+AU24+AU25 -> 0
A27: جمع کل ایرانی و غیر ایرانی | D27: =D26+D14 -> 0 | E27: =E26+E14 -> 0 | F27: =F26+F14 -> 0 | G27: =G26+G14 -> 0 | H27: =H26+H14 -> 0 | I27: =I26+I14 -> 0 | J27: =J26+J14 -> 0 | K27: =K26+K14 -> 0 | ... AU27: =AU26+AU14 -> 0
E28: =E27+F27 -> 0 | G28: =G27+H27+I27 -> 0 | J28: =J27+K27+L27 -> 0 | M28: 0 | R28: =R27+S27+T27 -> 0 | U28: 0 | X28: 0 | AB28: =AB27+AC27+AD27 -> 0 | AE28: 0 | AH28: =AH27+AI27+AJ27+AK27+AL27+AM27+AN27+AO27+AP27 -> 0 | AR28: =AR27+AS27+AT27+AU27 -> 0

Sheet سه ماهه چهارم
A1: آمار غربالگري تيروئيد نوزادان : سال 1402 | E1: مركز خدمات جامع سلامت : ............... | J1: مركز بهداشت شهرستان قزوین
A2: رديف | C2: نام محل نمونه گيري | D2: تعداد نوزادان غربالگري شده باراول | E2: جنس | G2: زمان انجام نمونه گيري نوبت اول بر حسب سن نوزاد به روز | J2: زمان اعلام نتيجه آزمايش مشکوک نوبت اول برحسب سن نوزاد به روز | M2: سطح TSH نوبت اول | Q2: تعداد غربالگری بار دوم از پاشنه پا | R2: زمان انجام نمونه گيري نوبت دوم بر حسب سن نوزاد به روز | U2: زمان اعلام نتيجه آزمايش مشکوک نوبت دوم برحسب سن نوزاد به روز | X2: سطح TSH نوبت دوم | AB2: تشخيص نهايي | AE2: زمان شروع درمان برحسب سن نوزاد به روز | AH2: تعداد موارد غربالگری مجدد به تفکیک علت | AQ2: تعداد غربالگری نوبت سوم و چهارم | AR2: سطح TSH نوبت سوم و چهارم
E3: دختر | F3: پسر | G3: 3-5 روز | H3: 6-21 روز | I3: 22و بيشتر | J3: <13 | K3: روز 21-14 | L3: 22و بيشتر | M3: TSH<5 | N3: TSH 5-9 | O3: TSH>=10-19/9 | P3: TSH>20 | R3: <13 | S3: 14-21 روز | T3: 22و بيشتر | U3: <14 | V3: 15-21 | W3: 22و بيشتر | X3: TSH<5 | Y3: TSH 5-9 | Z3: TSH>=10-19/9 | AA3: TSH>20 | AB3: سالم | AC3: بيمار | AD3: عدم آزمایش | AE3: كمتر از 28 | AF3: 28-40 | AG3: 41و بيشتر | AH3: نمونه نامناسب | AI3: TSH= 5-9/9 | AJ3: نوزاد نارس | AK3: نوزاد با وزن کمتر از 2500 گرم | AL3: نوزاد با وزن بیش از 4000 گرم | AM3: دو قلویی یا چند قلویی | AN3: سابقه بستری در بیمارستان | AO3: تعویض یا دریافت خون | AP3: سابقه مصرف داروهای خاص | AR3: TSH<5 | AS3: TSH 5-9 | AT3: TSH>=10-19/9 | AU3: TSH>20
A4: 1 | B4: نوزاد ایرانی ترم | D4: =اسفند!D4+بهمن!D4+دی!D4 -> 0 | E4: =اسفند!E4+بهمن!E4+دی!E4 -> 0 | F4: =اسفند!F4+بهمن!F4+دی!F4 -> 0 | G4: =اسفند!G4+بهمن!G4+دی!G4 -> 0 | H4: =اسفند!H4+بهمن!H4+دی!H4 -> 0 | I4: =اسفند!I4+بهمن!I4+دی!I4 -> 0 | J4: =اسفند!J4+بهمن!J4+دی!J4 -> 0 | K4: =اسفند!K4+بهمن!K4+دی!K4 -> 0 | ... AU4: =اسفند!AU4+بهمن!AU4+دی!AU4 -> 0
A5: 2 | D5: =اسفند!D5+بهمن!D5+دی!D5 -> 0 | E5: =اسفند!E5+بهمن!E5+دی!E5 -> 0 | F5: =اسفند!F5+بهمن!F5+دی!F5 -> 0 | G5: =اسفند!G5+بهمن!G5+دی!G5 -> 0 | H5: =اسفند!H5+بهمن!H5+دی!H5 -> 0 | I5: =اسفند!I5+بهمن!I5+دی!I5 -> 0 | J5: =اسفند!J5+بهمن!J5+دی!J5 -> 0 | K5: =اسفند!K5+بهمن!K5+دی!K5 -> 0 | ... AU5: =اسفند!AU5+بهمن!AU5+دی!AU5 -> 0
A6: 3 | D6: =اسفند!D6+بهمن!D6+دی!D6 -> 0 | E6: =اسفند!E6+بهمن!E6+دی!E6 -> 0 | F6: =اسفند!F6+بهمن!F6+دی!F6 -> 0 | G6: =اسفند!G6+بهمن!G6+دی!G6 -> 0 | H6: =اسفند!H6+بهمن!H6+دی!H6 -> 0 | I6: =اسفند!I6+بهمن!I6+دی!I6 -> 0 | J6: =اسفند!J6+بهمن!J6+دی!J6 -> 0 | K6: =اسفند!K6+بهمن!K6+دی!K6 -> 0 | ... AU6: =اسفند!AU6+بهمن!AU6+دی!AU6 -> 0
A7: 4 | D7: =اسفند!D7+بهمن!D7+دی!D7 -> 0 | E7: =اسفند!E7+بهمن!E7+دی!E7 -> 0 | F7: =اسفند!F7+بهمن!F7+دی!F7 -> 0 | G7: =اسفند!G7+بهمن!G7+دی!G7 -> 0 | H7: =اسفند!H7+بهمن!H7+دی!H7 -> 0 | I7: =اسفند!I7+بهمن!I7+دی!I7 -> 0 | J7: =اسفند!J7+بهمن!J7+دی!J7 -> 0 | K7: =اسفند!K7+بهمن!K7+دی!K7 -> 0 | ... AU7: =اسفند!AU7+بهمن!AU7+دی!AU7 -> 0
A8: 5 | D8: =اسفند!D8+بهمن!D8+دی!D8 -> 0 | E8: =اسفند!E8+بهمن!E8+دی!E8 -> 0 | F8: =اسفند!F8+بهمن!F8+دی!F8 -> 0 | G8: =اسفند!G8+بهمن!G8+دی!G8 -> 0 | H8: =اسفند!H8+بهمن!H8+دی!H8 -> 0 | I8: =اسفند!I8+بهمن!I8+دی!I8 -> 0 | J8: =اسفند!J8+بهمن!J8+دی!J8 -> 0 | K8: =اسفند!K8+بهمن!K8+دی!K8 -> 0 | ... AU8: =اسفند!AU8+بهمن!AU8+دی!AU8 -> 0
A9: 6 | B9: نوزاد ایرانی نارس | D9: =اسفند!D9+بهمن!D9+دی!D9 -> 0 | E9: =اسفند!E9+بهمن!E9+دی!E9 -> 0 | F9: =اسفند!F9+بهمن!F9+دی!F9 -> 0 | G9: =اسفند!G9+بهمن!G9+دی!G9 -> 0 | H9: =اسفند!H9+بهمن!H9+دی!H9 -> 0 | I9: =اسفند!I9+بهمن!I9+دی!I9 -> 0 | J9: =اسفند!J9+بهمن!J9+دی!J9 -> 0 | K9: =اسفند!K9+بهمن!K9+دی!K9 -> 0 | ... AU9: =اسفند!AU9+بهمن!AU9+دی!AU9 -> 0
A10: 7 | D10: =اسفند!D10+بهمن!D10+دی!D10 -> 0 | E10: =اسفند!E10+بهمن!E10+دی!E10 -> 0 | F10: =اسفند!F10+بهمن!F10+دی!F10 -> 0 | G10: =اسفند!G10+بهمن!G10+دی!G10 -> 0 | H10: =اسفند!H10+بهمن!H10+دی!H10 -> 0 | I10: =اسفند!I10+بهمن!I10+دی!I10 -> 0 | J10: =اسفند!J10+بهمن!J10+دی!J10 -> 0 | K10: =اسفند!K10+بهمن!K10+دی!K10 -> 0 | ... AU10: =اسفند!AU10+بهمن!AU10+دی!AU10 -> 0
A11: 8 | D11: =اسفند!D11+بهمن!D11+دی!D11 -> 0 | E11: =اسفند!E11+بهمن!E11+دی!E11 -> 0 | F11: =اسفند!F11+بهمن!F11+دی!F11 -> 0 | G11: =اسفند!G11+بهمن!G11+دی!G11 -> 0 | H11: =اسفند!H11+بهمن!H11+دی!H11 -> 0 | I11: =اسفند!I11+بهمن!I11+دی!I11 -> 0 | J11: =اسفند!J11+بهمن!J11+دی!J11 -> 0 | K11: =اسفند!K11+بهمن!K11+دی!K11 -> 0 | ... AU11: =اسفند!AU11+بهمن!AU11+دی!AU11 -> 0
A12: 9 | D12: =اسفند!D12+بهمن!D12+دی!D12 -> 0 | E12: =اسفند!E12+بهمن!E12+دی!E12 -> 0 | F12: =اسفند!F12+بهمن!F12+دی!F12 -> 0 | G12: =اسفند!G12+بهمن!G12+دی!G12 -> 0 | H12: =اسفند!H12+بهمن!H12+دی!H12 -> 0 | I12: =اسفند!I12+بهمن!I12+دی!I12 -> 0 | J12: =اسفند!J12+بهمن!J12+دی!J12 -> 0 | K12: =اسفند!K12+بهمن!K12+دی!K12 -> 0 | ... AU12: =اسفند!AU12+بهمن!AU12+دی!AU12 -> 0
A13: 10 | D13: =اسفند!D13+بهمن!D13+دی!D13 -> 0 | E13: =اسفند!E13+بهمن!E13+دی!E13 -> 0 | F13: =اسفند!F13+بهمن!F13+دی!F13 -> 0 | G13: =اسفند!G13+بهمن!G13+دی!G13 -> 0 | H13: =اسفند!H13+بهمن!H13+دی!H13 -> 0 | I13: =اسفند!I13+بهمن!I13+دی!I13 -> 0 | J13: =اسفند!J13+بهمن!J13+دی!J13 -> 0 | K13: =اسفند!K13+بهمن!K13+دی!K13 -> 0 | ... AU13: =اسفند!AU13+بهمن!AU13+دی!AU13 -> 0
A14: جمع کل ایرانی | D14: =D4+D5+D6+D7+D8+D9+D10+D11+D12+D13 -> 0 | E14: =اسفند!E14+بهمن!E14+دی!E14 -> 0 | F14: =اسفند!F14+بهمن!F14+دی!F14 -> 0 | G14: =اسفند!G14+بهمن!G14+دی!G14 -> 0 | H14: =اسفند!H14+بهمن!H14+دی!H14 -> 0 | I14: =اسفند!I14+بهمن!I14+دی!I14 -> 0 | J14: =اسفند!J14+بهمن!J14+دی!J14 -> 0 | K14: =اسفند!K14+بهمن!K14+دی!K14 -> 0 | L14: =اسفند!L14+بهمن!L14+دی!L14 -> 0 | ... AU14: =اسفند!AU14+بهمن!AU14+دی!AU14 -> 0
A15: جمعيت غیر ایرانی
A16: 1 | B16: نوزاد ایرانی ترم | D16: =اسفند!D16+بهمن!D16+دی!D16 -> 0 | E16: =اسفند!E16+بهمن!E16+دی!E16 -> 0 | F16: =اسفند!F16+بهمن!F16+دی!F16 -> 0 | G16: =اسفند!G16+بهمن!G16+دی!G16 -> 0 | H16: =اسفند!H16+بهمن!H16+دی!H16 -> 0 | I16: =اسفند!I16+بهمن!I16+دی!I16 -> 0 | J16: =اسفند!J16+بهمن!J16+دی!J16 -> 0 | K16: =اسفند!K16+بهمن!K16+دی!K16 -> 0 | ... AU16: =اسفند!AU16+بهمن!AU16+دی!AU16 -> 0
A17: 2 | D17: =اسفند!D17+بهمن!D17+دی!D17 -> 0 | E17: =اسفند!E17+بهمن!E17+دی!E17 -> 0 | F17: =اسفند!F17+بهمن!F17+دی!F17 -> 0 | G17: =اسفند!G17+بهمن!G17+دی!G17 -> 0 | H17: =اسفند!H17+بهمن!H17+دی!H17 -> 0 | I17: =اسفند!I17+بهمن!I17+دی!I17 -> 0 | J17: =اسفند!J17+بهمن!J17+دی!J17 -> 0 | K17: =اسفند!K17+بهمن!K17+دی!K17 -> 0 | ... AU17: =اسفند!AU17+بهمن!AU17+دی!AU17 -> 0
A18: 3 | D18: =اسفند!D18+بهمن!D18+دی!D18 -> 0 | E18: =اسفند!E18+بهمن!E18+دی!E18 -> 0 | F18: =اسفند!F18+بهمن!F18+دی!F18 -> 0 | G18: =اسفند!G18+بهمن!G18+دی!G18 -> 0 | H18: =اسفند!H18+بهمن!H18+دی!H18 -> 0 | I18: =اسفند!I18+بهمن!I18+دی!I18 -> 0 | J18: =اسفند!J18+بهمن!J18+دی!J18 -> 0 | K18: =اسفند!K18+بهمن!K18+دی!K18 -> 0 | ... AU18: =اسفند!AU18+بهمن!AU18+دی!AU18 -> 0
A19: 4 | D19: =اسفند!D19+بهمن!D19+دی!D19 -> 0 | E19: =اسفند!E19+بهمن!E19+دی!E19 -> 0 | F19: =اسفند!F19+بهمن!F19+دی!F19 -> 0 | G19: =اسفند!G19+بهمن!G19+دی!G19 -> 0 | H19: =اسفند!H19+بهمن!H19+دی!H19 -> 0 | I19: =اسفند!I19+بهمن!I19+دی!I19 -> 0 | J19: =اسفند!J19+بهمن!J19+دی!J19 -> 0 | K19: =اسفند!K19+بهمن!K19+دی!K19 -> 0 | ... AU19: =اسفند!AU19+بهمن!AU19+دی!AU19 -> 0
A20: 5 | D20: =اسفند!D20+بهمن!D20+دی!D20 -> 0 | E20: =اسفند!E20+بهمن!E20+دی!E20 -> 0 | F20: =اسفند!F20+بهمن!F20+دی!F20 -> 0 | G20: =اسفند!G20+بهمن!G20+دی!G20 -> 0 | H20: =اسفند!H20+بهمن!H20+دی!H20 -> 0 | I20: =اسفند!I20+بهمن!I20+دی!I20 -> 0 | J20: =اسفند!J20+بهمن!J20+دی!J20 -> 0 | K20: =اسفند!K20+بهمن!K20+دی!K20 -> 0 | ... AU20: =اسفند!AU20+بهمن!AU20+دی!AU20 -> 0
A21: 1 | B21: نوزاد ایرانی نارس | D21: =اسفند!D21+بهمن!D21+دی!D21 -> 0 | E21: =اسفند!E21+بهمن!E21+دی!E21 -> 0 | F21: =اسفند!F21+بهمن!F21+دی!F21 -> 0 | G21: =اسفند!G21+بهمن!G21+دی!G21 -> 0 | H21: =اسفند!H21+بهمن!H21+دی!H21 -> 0 | I21: =اسفند!I21+بهمن!I21+دی!I21 -> 0 | J21: =اسفند!J21+بهمن!J21+دی!J21 -> 0 | K21: =اسفند!K21+بهمن!K21+دی!K21 -> 0 | ... AU21: =اسفند!AU21+بهمن!AU21+دی!AU21 -> 0
A22: 2 | D22: =اسفند!D22+بهمن!D22+دی!D22 -> 0 | E22: =اسفند!E22+بهمن!E22+دی!E22 -> 0 | F22: =اسفند!F22+بهمن!F22+دی!F22 -> 0 | G22: =اسفند!G22+بهمن!G22+دی!G22 -> 0 | H22: =اسفند!H22+بهمن!H22+دی!H22 -> 0 | I22: =اسفند!I22+بهمن!I22+دی!I22 -> 0 | J22: =اسفند!J22+بهمن!J22+دی!J22 -> 0 | K22: =اسفند!K22+بهمن!K22+دی!K22 -> 0 | ... AU22: =اسفند!AU22+بهمن!AU22+دی!AU22 -> 0
A23: 3 | D23: =اسفند!D23+بهمن!D23+دی!D23 -> 0 | E23: =اسفند!E23+بهمن!E23+دی!E23 -> 0 | F23: =اسفند!F23+بهمن!F23+دی!F23 -> 0 | G23: =اسفند!G23+بهمن!G23+دی!G23 -> 0 | H23: =اسفند!H23+بهمن!H23+دی!H23 -> 0 | I23: =اسفند!I23+بهمن!I23+دی!I23 -> 0 | J23: =اسفند!J23+بهمن!J23+دی!J23 -> 0 | K23: =اسفند!K23+بهمن!K23+دی!K23 -> 0 | ... AU23: =اسفند!AU23+بهمن!AU23+دی!AU23 -> 0
A24: 4 | D24: =اسفند!D24+بهمن!D24+دی!D24 -> 0 | E24: =اسفند!E24+بهمن!E24+دی!E24 -> 0 | F24: =اسفند!F24+بهمن!F24+دی!F24 -> 0 | G24: =اسفند!G24+بهمن!G24+دی!G24 -> 0 | H24: =اسفند!H24+بهمن!H24+دی!H24 -> 0 | I24: =اسفند!I24+بهمن!I24+دی!I24 -> 0 | J24: =اسفند!J24+بهمن!J24+دی!J24 -> 0 | K24: =اسفند!K24+بهمن!K24+دی!K24 -> 0 | ... AU24: =اسفند!AU24+بهمن!AU24+دی!AU24 -> 0
A25: 5 | D25: =اسفند!D25+بهمن!D25+دی!D25 -> 0 | E25: =اسفند!E25+بهمن!E25+دی!E25 -> 0 | F25: =اسفند!F25+بهمن!F25+دی!F25 -> 0 | G25: =اسفند!G25+بهمن!G25+دی!G25 -> 0 | H25: =اسفند!H25+بهمن!H25+دی!H25 -> 0 | I25: =اسفند!I25+بهمن!I25+دی!I25 -> 0 | J25: =اسفند!J25+بهمن!J25+دی!J25 -> 0 | K25: =اسفند!K25+بهمن!K25+دی!K25 -> 0 | ... AU25: =اسفند!AU25+بهمن!AU25+دی!AU25 -> 0
A26: جمع کل غیر ایرانی | D26: =D16+D17+D18+D19+D20+D21+D22+D23+D24+D25 -> 0 | E26: =E16+E17+E18+E19+E20+E21+E22+E23+E24+E25 -> 0 | F26: =F16+F17+F18+F19+F20+F21+F22+F23+F24+F25 -> 0 | G26: =G16+G17+G18+G19+G20+G21+G22+G23+G24+G25 -> 0 | H26: =H16+H17+H18+H19+H20+H21+H22+H23+H24+H25 -> 0 | I26: =I16+I17+I18+I19+I20+I21+I22+I23+I24+I25 -> 0 | J26: =J16+J17+J18+J19+J20+J21+J22+J23+J24+J25 -> 0 | K26: =K16+K17+K18+K19+K20+K21+K22+K23+K24+K25 -> 0 | ... AU26: =AU16+AU17+AU18+AU19+AU20+AU21+AU22+AU23+AU24+AU25 -> 0
A27: جمع کل ایرانی و غیر ایرانی | D27: =D14+D26 -> 0 | E27: =E14+E26 -> 0 | F27: =F14+F26 -> 0 | G27: =G14+G26 -> 0 | H27: =H14+H26 -> 0 | I27: =I14+I26 -> 0 | J27: =J14+J26 -> 0 | K27: =K14+K26 -> 0 | ... AU27: =AU14+AU26 -> 0
E28: =E27+F27 -> 0 | G28: =G27+H27+I27 -> 0 | J28: =J27+K27+L27 -> 0 | M28: =M27+N27+O27+P27 -> 0 | R28: =R27+S27+T27 -> 0 | U28: =U27+V27+W27 -> 0 | X28: =X27+Y27+Z27+AA27 -> 0 | AB28: =AB27+AC27+AD27 -> 0 | AE28: =AE27+AF27+AG27 -> 0 | AH28: =AH27+AI27+AJ27+AK27+AL27+AM27+AN27+AO27+AP27 -> 0 | AR28: =AR27+AS27+AT27+AU27 -> 0

Sheet کل سال
A1: آمار غربالگري تيروئيد نوزادان : سال14.3 | E1: مركز بهداشتي درماني : ................ | J1: مركز بهداشت شهرستان قزوین
A2: رديف | C2: نام محل نمونه گيري | D2: تعداد نوزادان غربالگري شده باراول | E2: جنس | G2: زمان انجام نمونه گيري نوبت اول بر حسب سن نوزاد به روز | J2: زمان اعلام نتيجه آزمايش مشکوک نوبت اول برحسب سن نوزاد به روز | M2: سطح TSH نوبت اول | Q2: تعداد غربالگری باردوم از پاشنه پا | R2: زمان انجام نمونه گيري نوبت دوم بر حسب سن نوزاد به روز | U2: زمان اعلام نتيجه آزمايش مشکوک نوبت دوم برحسب سن نوزاد به روز | X2: سطح TSH نوبت دوم | AB2: تشخيص نهايي | AE2: زمان شروع درمان برحسب سن نوزاد به روز | AH2: تعداد موارد غربالگری مجدد به تفکیک علت | AQ2: تعداد غربالگری نوبت سوم و چهارم | AR2: سطح TSH نوبت سوم و چهارم
E3: دختر | F3: پسر | G3: 3-5 روز | H3: 6-21 روز | I3: 22و بيشتر | J3: <13 | K3: روز 21-14 | L3: 22و بيشتر | M3: TSH<5 | N3: TSH 5-9 | O3: TSH>=10-19/9 | P3: TSH>20 | R3: <13 | S3: 14-21 روز | T3: 22و بيشتر | U3: <14 | V3: 15-21 | W3: 22و بيشتر | X3: TSH<5 | Y3: TSH 5-9 | Z3: TSH>=10-19/9 | AA3: TSH>20 | AB3: سالم | AC3: بيمار | AD3: عدم آزمایش | AE3: كمتر از 28 | AF3: 28-40 | AG3: 41و بيشتر | AH3: نمونه نامناسب | AI3: TSH= 5-9/9 | AJ3: نوزاد نارس | AK3: نوزاد با وزن کمتر از 2500 گرم | AL3: نوزاد با وزن بیش از 4000 گرم | AM3: دو قلویی یا چند قلویی | AN3: سابقه بستری در بیمارستان | AO3: تعویض یا دریافت خون | AP3: سابقه مصرف داروهای خاص | AR3: TSH<5 | AS3: TSH 5-9 | AT3: TSH>=10-19/9 | AU3: TSH>20
A4: 1 | B4: نوزاد ایرانی ترم | D4: ='سه ماهه چهارم'!D4+'نه ماهه اول'!D4 -> 0 | E4: ='سه ماهه چهارم'!E4+'نه ماهه اول'!E4 -> 0 | F4: ='سه ماهه چهارم'!F4+'نه ماهه اول'!F4 -> 0 | G4: ='سه ماهه چهارم'!G4+'نه ماهه اول'!G4 -> 0 | H4: ='سه ماهه چهارم'!H4+'نه ماهه اول'!H4 -> 0 | I4: ='سه ماهه چهارم'!I4+'نه ماهه اول'!I4 -> 0 | J4: ='سه ماهه چهارم'!J4+'نه ماهه اول'!J4 -> 0 | K4: ='سه ماهه چهارم'!K4+'نه ماهه اول'!K4 -> 0 | ... AU4: ='سه ماهه چهارم'!AU4+'نه ماهه اول'!AU4 -> 0
A5: 2 | D5: ='سه ماهه چهارم'!D5+'نه ماهه اول'!D5 -> 0 | E5: ='سه ماهه چهارم'!E5+'نه ماهه اول'!E5 -> 0 | F5: ='سه ماهه چهارم'!F5+'نه ماهه اول'!F5 -> 0 | G5: ='سه ماهه چهارم'!G5+'نه ماهه اول'!G5 -> 0 | H5: ='سه ماهه چهارم'!H5+'نه ماهه اول'!H5 -> 0 | I5: ='سه ماهه چهارم'!I5+'نه ماهه اول'!I5 -> 0 | J5: ='سه ماهه چهارم'!J5+'نه ماهه اول'!J5 -> 0 | K5: ='سه ماهه چهارم'!K5+'نه ماهه اول'!K5 -> 0 | ... AU5: ='سه ماهه چهارم'!AU5+'نه ماهه اول'!AU5 -> 0
A6: 3 | D6: ='سه ماهه چهارم'!D6+'نه ماهه اول'!D6 -> 0 | E6: ='سه ماهه چهارم'!E6+'نه ماهه اول'!E6 -> 0 | F6: ='سه ماهه چهارم'!F6+'نه ماهه اول'!F6 -> 0 | G6: ='سه ماهه چهارم'!G6+'نه ماهه اول'!G6 -> 0 | H6: ='سه ماهه چهارم'!H6+'نه ماهه اول'!H6 -> 0 | I6: ='سه ماهه چهارم'!I6+'نه ماهه اول'!I6 -> 0 | J6: ='سه ماهه چهارم'!J6+'نه ماهه اول'!J6 -> 0 | K6: ='سه ماهه چهارم'!K6+'نه ماهه اول'!K6 -> 0 | ... AU6: ='سه ماهه چهارم'!AU6+'نه ماهه اول'!AU6 -> 0
A7: 4 | D7: ='سه ماهه چهارم'!D7+'نه ماهه اول'!D7 -> 0 | E7: ='سه ماهه چهارم'!E7+'نه ماهه اول'!E7 -> 0 | F7: ='سه ماهه چهارم'!F7+'نه ماهه اول'!F7 -> 0 | G7: ='سه ماهه چهارم'!G7+'نه ماهه اول'!G7 -> 0 | H7: ='سه ماهه چهارم'!H7+'نه ماهه اول'!H7 -> 0 | I7: ='سه ماهه چهارم'!I7+'نه ماهه اول'!I7 -> 0 | J7: ='سه ماهه چهارم'!J7+'نه ماهه اول'!J7 -> 0 | K7: ='سه ماهه چهارم'!K7+'نه ماهه اول'!K7 -> 0 | ... AU7: ='سه ماهه چهارم'!AU7+'نه ماهه اول'!AU7 -> 0
A8: 5 | D8: ='سه ماهه چهارم'!D8+'نه ماهه اول'!D8 -> 0 | E8: ='سه ماهه چهارم'!E8+'نه ماهه اول'!E8 -> 0 | F8: ='سه ماهه چهارم'!F8+'نه ماهه اول'!F8 -> 0 | G8: ='سه ماهه چهارم'!G8+'نه ماهه اول'!G8 -> 0 | H8: ='سه ماهه چهارم'!H8+'نه ماهه اول'!H8 -> 0 | I8: ='سه ماهه چهارم'!I8+'نه ماهه اول'!I8 -> 0 | J8: ='سه ماهه چهارم'!J8+'نه ماهه اول'!J8 -> 0 | K8: ='سه ماهه چهارم'!K8+'نه ماهه اول'!K8 -> 0 | ... AU8: ='سه ماهه چهارم'!AU8+'نه ماهه اول'!AU8 -> 0
A9: 6 | B9: نوزاد ایرانی نارس | D9: ='سه ماهه چهارم'!D9+'نه ماهه اول'!D9 -> 0 | E9: ='سه ماهه چهارم'!E9+'نه ماهه اول'!E9 -> 0 | F9: ='سه ماهه چهارم'!F9+'نه ماهه اول'!F9 -> 0 | G9: ='سه ماهه چهارم'!G9+'نه ماهه اول'!G9 -> 0 | H9: ='سه ماهه چهارم'!H9+'نه ماهه اول'!H9 -> 0 | I9: ='سه ماهه چهارم'!I9+'نه ماهه اول'!I9 -> 0 | J9: ='سه ماهه چهارم'!J9+'نه ماهه اول'!J9 -> 0 | K9: ='سه ماهه چهارم'!K9+'نه ماهه اول'!K9 -> 0 | ... AU9: ='سه ماهه چهارم'!AU9+'نه ماهه اول'!AU9 -> 0
A10: 7 | D10: ='سه ماهه چهارم'!D10+'نه ماهه اول'!D10 -> 0 | E10: ='سه ماهه چهارم'!E10+'نه ماهه اول'!E10 -> 0 | F10: ='سه ماهه چهارم'!F10+'نه ماهه اول'!F10 -> 0 | G10: ='سه ماهه چهارم'!G10+'نه ماهه اول'!G10 -> 0 | H10: ='سه ماهه چهارم'!H10+'نه ماهه اول'!H10 -> 0 | I10: ='سه ماهه چهارم'!I10+'نه ماهه اول'!I10 -> 0 | J10: ='سه ماهه چهارم'!J10+'نه ماهه اول'!J10 -> 0 | K10: ='سه ماهه چهارم'!K10+'نه ماهه اول'!K10 -> 0 | ... AU10: ='سه ماهه چهارم'!AU10+'نه ماهه اول'!AU10 -> 0
A11: 8 | D11: ='سه ماهه چهارم'!D11+'نه ماهه اول'!D11 -> 0 | E11: ='سه ماهه چهارم'!E11+'نه ماهه اول'!E11 -> 0 | F11: ='سه ماهه چهارم'!F11+'نه ماهه اول'!F11 -> 0 | G11: ='سه ماهه چهارم'!G11+'نه ماهه اول'!G11 -> 0 | H11: ='سه ماهه چهارم'!H11+'نه ماهه اول'!H11 -> 0 | I11: ='سه ماهه چهارم'!I11+'نه ماهه اول'!I11 -> 0 | J11: ='سه ماهه چهارم'!J11+'نه ماهه اول'!J11 -> 0 | K11: ='سه ماهه چهارم'!K11+'نه ماهه اول'!K11 -> 0 | ... AU11: ='سه ماهه چهارم'!AU11+'نه ماهه اول'!AU11 -> 0
A12: 9 | D12: ='سه ماهه چهارم'!D12+'نه ماهه اول'!D12 -> 0 | E12: ='سه ماهه چهارم'!E12+'نه ماهه اول'!E12 -> 0 | F12: ='سه ماهه چهارم'!F12+'نه ماهه اول'!F12 -> 0 | G12: ='سه ماهه چهارم'!G12+'نه ماهه اول'!G12 -> 0 | H12: ='سه ماهه چهارم'!H12+'نه ماهه اول'!H12 -> 0 | I12: ='سه ماهه چهارم'!I12+'نه ماهه اول'!I12 -> 0 | J12: ='سه ماهه چهارم'!J12+'نه ماهه اول'!J12 -> 0 | K12: ='سه ماهه چهارم'!K12+'نه ماهه اول'!K12 -> 0 | ... AU12: ='سه ماهه چهارم'!AU12+'نه ماهه اول'!AU12 -> 0
A13: 10 | D13: ='سه ماهه چهارم'!D13+'نه ماهه اول'!D13 -> 0 | E13: ='سه ماهه چهارم'!E13+'نه ماهه اول'!E13 -> 0 | F13: ='سه ماهه چهارم'!F13+'نه ماهه اول'!F13 -> 0 | G13: ='سه ماهه چهارم'!G13+'نه ماهه اول'!G13 -> 0 | H13: ='سه ماهه چهارم'!H13+'نه ماهه اول'!H13 -> 0 | I13: ='سه ماهه چهارم'!I13+'نه ماهه اول'!I13 -> 0 | J13: ='سه ماهه چهارم'!J13+'نه ماهه اول'!J13 -> 0 | K13: ='سه ماهه چهارم'!K13+'نه ماهه اول'!K13 -> 0 | ... AU13: ='سه ماهه چهارم'!AU13+'نه ماهه اول'!AU13 -> 0
A14: جمع کل ایرانی | D14: ='سه ماهه چهارم'!D14+'نه ماهه اول'!D14 -> 0 | E14: ='سه ماهه چهارم'!E14+'نه ماهه اول'!E14 -> 0 | F14: ='سه ماهه چهارم'!F14+'نه ماهه اول'!F14 -> 0 | G14: ='سه ماهه چهارم'!G14+'نه ماهه اول'!G14 -> 0 | H14: ='سه ماهه چهارم'!H14+'نه ماهه اول'!H14 -> 0 | I14: ='سه ماهه چهارم'!I14+'نه ماهه اول'!I14 -> 0 | J14: ='سه ماهه چهارم'!J14+'نه ماهه اول'!J14 -> 0 | K14: ='سه ماهه چهارم'!K14+'نه ماهه اول'!K14 -> 0 | ... AU14: ='سه ماهه چهارم'!AU14+'نه ماهه اول'!AU14 -> 0
A15: جمعيت غیر ایرانی
A16: 1 | B16: نوزاد غیر ایرانی ترم | D16: ='سه ماهه چهارم'!D16+'نه ماهه اول'!D16 -> 0 | E16: ='سه ماهه چهارم'!E16+'نه ماهه اول'!E16 -> 0 | F16: ='سه ماهه چهارم'!F16+'نه ماهه اول'!F16 -> 0 | G16: ='سه ماهه چهارم'!G16+'نه ماهه اول'!G16 -> 0 | H16: ='سه ماهه چهارم'!H16+'نه ماهه اول'!H16 -> 0 | I16: ='سه ماهه چهارم'!I16+'نه ماهه اول'!I16 -> 0 | J16: ='سه ماهه چهارم'!J16+'نه ماهه اول'!J16 -> 0 | K16: ='سه ماهه چهارم'!K16+'نه ماهه اول'!K16 -> 0 | ... AU16: ='سه ماهه چهارم'!AU16+'نه ماهه اول'!AU16 -> 0
A17: 2 | D17: ='سه ماهه چهارم'!D17+'نه ماهه اول'!D17 -> 0 | E17: ='سه ماهه چهارم'!E17+'نه ماهه اول'!E17 -> 0 | F17: ='سه ماهه چهارم'!F17+'نه ماهه اول'!F17 -> 0 | G17: ='سه ماهه چهارم'!G17+'نه ماهه اول'!G17 -> 0 | H17: ='سه ماهه چهارم'!H17+'نه ماهه اول'!H17 -> 0 | I17: ='سه ماهه چهارم'!I17+'نه ماهه اول'!I17 -> 0 | J17: ='سه ماهه چهارم'!J17+'نه ماهه اول'!J17 -> 0 | K17: ='سه ماهه چهارم'!K17+'نه ماهه اول'!K17 -> 0 | ... AU17: ='سه ماهه چهارم'!AU17+'نه ماهه اول'!AU17 -> 0
A18: 3 | D18: ='سه ماهه چهارم'!D18+'نه ماهه اول'!D18 -> 0 | E18: ='سه ماهه چهارم'!E18+'نه ماهه اول'!E18 -> 0 | F18: ='سه ماهه چهارم'!F18+'نه ماهه اول'!F18 -> 0 | G18: ='سه ماهه چهارم'!G18+'نه ماهه اول'!G18 -> 0 | H18: ='سه ماهه چهارم'!H18+'نه ماهه اول'!H18 -> 0 | I18: ='سه ماهه چهارم'!I18+'نه ماهه اول'!I18 -> 0 | J18: ='سه ماهه چهارم'!J18+'نه ماهه اول'!J18 -> 0 | K18: ='سه ماهه چهارم'!K18+'نه ماهه اول'!K18 -> 0 | ... AU18: ='سه ماهه چهارم'!AU18+'نه ماهه اول'!AU18 -> 0
A19: 4 | D19: ='سه ماهه چهارم'!D19+'نه ماهه اول'!D19 -> 0 | E19: ='سه ماهه چهارم'!E19+'نه ماهه اول'!E19 -> 0 | F19: ='سه ماهه چهارم'!F19+'نه ماهه اول'!F19 -> 0 | G19: ='سه ماهه چهارم'!G19+'نه ماهه اول'!G19 -> 0 | H19: ='سه ماهه چهارم'!H19+'نه ماهه اول'!H19 -> 0 | I19: ='سه ماهه چهارم'!I19+'نه ماهه اول'!I19 -> 0 | J19: ='سه ماهه چهارم'!J19+'نه ماهه اول'!J19 -> 0 | K19: ='سه ماهه چهارم'!K19+'نه ماهه اول'!K19 -> 0 | ... AU19: ='سه ماهه چهارم'!AU19+'نه ماهه اول'!AU19 -> 0
A20: 5 | D20: ='سه ماهه چهارم'!D20+'نه ماهه اول'!D20 -> 0 | E20: ='سه ماهه چهارم'!E20+'نه ماهه اول'!E20 -> 0 | F20: ='سه ماهه چهارم'!F20+'نه ماهه اول'!F20 -> 0 | G20: ='سه ماهه چهارم'!G20+'نه ماهه اول'!G20 -> 0 | H20: ='سه ماهه چهارم'!H20+'نه ماهه اول'!H20 -> 0 | I20: ='سه ماهه چهارم'!I20+'نه ماهه اول'!I20 -> 0 | J20: ='سه ماهه چهارم'!J20+'نه ماهه اول'!J20 -> 0 | K20: ='سه ماهه چهارم'!K20+'نه ماهه اول'!K20 -> 0 | ... AU20: ='سه ماهه چهارم'!AU20+'نه ماهه اول'!AU20 -> 0
A21: 1 | B21: نوزاد غیر ایرانی نارس | D21: ='سه ماهه چهارم'!D21+'نه ماهه اول'!D21 -> 0 | E21: ='سه ماهه چهارم'!E21+'نه ماهه اول'!E21 -> 0 | F21: ='سه ماهه چهارم'!F21+'نه ماهه اول'!F21 -> 0 | G21: ='سه ماهه چهارم'!G21+'نه ماهه اول'!G21 -> 0 | H21: ='سه ماهه چهارم'!H21+'نه ماهه اول'!H21 -> 0 | I21: ='سه ماهه چهارم'!I21+'نه ماهه اول'!I21 -> 0 | J21: ='سه ماهه چهارم'!J21+'نه ماهه اول'!J21 -> 0 | K21: ='سه ماهه چهارم'!K21+'نه ماهه اول'!K21 -> 0 | ... AU21: ='سه ماهه چهارم'!AU21+'نه ماهه اول'!AU21 -> 0
A22: 2 | D22: ='سه ماهه چهارم'!D22+'نه ماهه اول'!D22 -> 0 | E22: ='سه ماهه چهارم'!E22+'نه ماهه اول'!E22 -> 0 | F22: ='سه ماهه چهارم'!F22+'نه ماهه اول'!F22 -> 0 | G22: ='سه ماهه چهارم'!G22+'نه ماهه اول'!G22 -> 0 | H22: ='سه ماهه چهارم'!H22+'نه ماهه اول'!H22 -> 0 | I22: ='سه ماهه چهارم'!I22+'نه ماهه اول'!I22 -> 0 | J22: ='سه ماهه چهارم'!J22+'نه ماهه اول'!J22 -> 0 | K22: ='سه ماهه چهارم'!K22+'نه ماهه اول'!K22 -> 0 | ... AU22: ='سه ماهه چهارم'!AU22+'نه ماهه اول'!AU22 -> 0
A23: 3 | D23: ='سه ماهه چهارم'!D23+'نه ماهه اول'!D23 -> 0 | E23: ='سه ماهه چهارم'!E23+'نه ماهه اول'!E23 -> 0 | F23: ='سه ماهه چهارم'!F23+'نه ماهه اول'!F23 -> 0 | G23: ='سه ماهه چهارم'!G23+'نه ماهه اول'!G23 -> 0 | H23: ='سه ماهه چهارم'!H23+'نه ماهه اول'!H23 -> 0 | I23: ='سه ماهه چهارم'!I23+'نه ماهه اول'!I23 -> 0 | J23: ='سه ماهه چهارم'!J23+'نه ماهه اول'!J23 -> 0 | K23: ='سه ماهه چهارم'!K23+'نه ماهه اول'!K23 -> 0 | ... AU23: ='سه ماهه چهارم'!AU23+'نه ماهه اول'!AU23 -> 0
A24: 4 | D24: ='سه ماهه چهارم'!D24+'نه ماهه اول'!D24 -> 0 | E24: ='سه ماهه چهارم'!E24+'نه ماهه اول'!E24 -> 0 | F24: ='سه ماهه چهارم'!F24+'نه ماهه اول'!F24 -> 0 | G24: ='سه ماهه چهارم'!G24+'نه ماهه اول'!G24 -> 0 | H24: ='سه ماهه چهارم'!H24+'نه ماهه اول'!H24 -> 0 | I24: ='سه ماهه چهارم'!I24+'نه ماهه اول'!I24 -> 0 | J24: ='سه ماهه چهارم'!J24+'نه ماهه اول'!J24 -> 0 | K24: ='سه ماهه چهارم'!K24+'نه ماهه اول'!K24 -> 0 | ... AU24: ='سه ماهه چهارم'!AU24+'نه ماهه اول'!AU24 -> 0
A25: 5 | D25: ='سه ماهه چهارم'!D25+'نه ماهه اول'!D25 -> 0 | E25: ='سه ماهه چهارم'!E25+'نه ماهه اول'!E25 -> 0 | F25: ='سه ماهه چهارم'!F25+'نه ماهه اول'!F25 -> 0 | G25: ='سه ماهه چهارم'!G25+'نه ماهه اول'!G25 -> 0 | H25: ='سه ماهه چهارم'!H25+'نه ماهه اول'!H25 -> 0 | I25: ='سه ماهه چهارم'!I25+'نه ماهه اول'!I25 -> 0 | J25: ='سه ماهه چهارم'!J25+'نه ماهه اول'!J25 -> 0 | K25: ='سه ماهه چهارم'!K25+'نه ماهه اول'!K25 -> 0 | ... AU25: ='سه ماهه چهارم'!AU25+'نه ماهه اول'!AU25 -> 0
A26: جمع کل غیر ایرانی | D26: ='سه ماهه چهارم'!D26+'نه ماهه اول'!D26 -> 0 | E26: ='سه ماهه چهارم'!E26+'نه ماهه اول'!E26 -> 0 | F26: ='سه ماهه چهارم'!F26+'نه ماهه اول'!F26 -> 0 | G26: ='سه ماهه چهارم'!G26+'نه ماهه اول'!G26 -> 0 | H26: ='سه ماهه چهارم'!H26+'نه ماهه اول'!H26 -> 0 | I26: ='سه ماهه چهارم'!I26+'نه ماهه اول'!I26 -> 0 | J26: ='سه ماهه چهارم'!J26+'نه ماهه اول'!J26 -> 0 | K26: ='سه ماهه چهارم'!K26+'نه ماهه اول'!K26 -> 0 | ... AU26: ='سه ماهه چهارم'!AU26+'نه ماهه اول'!AU26 -> 0
A27: جمع کل ایرانی و غیر ایرانی | D27: =D14+D26 -> 0 | E27: =E14+E26 -> 0 | F27: =F14+F26 -> 0 | G27: =G14+G26 -> 0 | H27: =H14+H26 -> 0 | I27: =I14+I26 -> 0 | J27: =J14+J26 -> 0 | K27: =K14+K26 -> 0 | ... AU27: =AU14+AU26 -> 0
E28: =E27+F27 -> 0 | G28: =G27+H27+I27 -> 0 | J28: =J27+K27+L27 -> 0 | M28: =M27+N27+O27+P27 -> 0 | R28: =R27+S27+T27 -> 0 | U28: =U27+V27+W27 -> 0 | X28: =X27+Y27+Z27+AA27 -> 0 | AB28: =AB27+AC27+AD27 -> 0 | AE28: =AE27+AF27+AG27 -> 0 | AH28: =AH27+AI27+AJ27+AK27+AL27+AM27+AN27+AO27+AP27 -> 0 | AR28: =AR27+AS27+AT27+AU27 -> 0

Sheet عملکردفصلی
A1: فرم عملکرد مراکز بهداشتی در خصوص غربالگری تیروئید نوزادان در سال 1402 | G1: 1403
A2: فصل ها | B2: تعداد کل غربالگری (ایرانی و غیر ایرانی) | C2: تعداد نوزادان غربالگری شده ایرانی بار اول | D2: تعداد تولد ( سامانه سیب) | E2: درصد پوشش برنامه | F2: تعداد و درصد زمان انجام نمونه گیری بر حسب سن نوزاد به روز | J2: علت غربالگری نابهنگام (بیشتر از 5 روز در نمونه گیری بار اول) | L2: تعداد بیماران شناسایی شده و زمان شروع درمان | N2: نمونه های غیراشباع | P2: متولدین تحت پوشش شما که درمراکز دیگرغربالگری شده اند؟ (اطلاعات این ستون از انتهای دفتر غربالگری به دست می آید) | R2: آیا غربالگری برای نوزاد مهمان انجام داده اید | V2: تعداد نوزادانی که غربالگری نشده اند | W2: علت
F3: روز 5-3 تولد | H3: بالای 6 روز | R3: مهمان داخل استان | T3: مهمان خارج استان
F4: تعداد | G4: درصد | H4: تعداد | I4: درصد | J4: تعداد | K4: علت | L4: تعداد بیماران | M4: درصددرمان کمتراز 28 روز | N4: تعداد | O4: درصد | P4: تعداد | Q4: مکان غربالگری(مراکز بهداشتی یا بیمارستانها) | R4: تعداد | S4: (نام شهر یا مرکز بهداشت ذکر شود) | T4: تعداد | U4: نام شهر یا استان ذکر شود
A5: سه ماهه اول | B5: ='سه ماهه اول'!D27 -> 0 | C5: ='سه ماهه اول'!D14 -> 0 | D5: 0 | E5: =C5/D5*100 -> #DIV/0! | F5: ='سه ماهه اول'!G27 -> 0 | G5: =F5/B5*100 -> #DIV/0! | H5: ='سه ماهه اول'!H27+'سه ماهه اول'!I27 -> 0 | I5: =H5/B5*100 -> #DIV/0! | J5: ='سه ماهه اول'!H27+'سه ماهه اول'!I27 -> 0 | L5: ='سه ماهه اول'!AC27 -> 0 | M5: ='سه ماهه اول'!AE27/'سه ماهه اول'!AC27*100 -> #DIV/0! | N5: ='سه ماهه اول'!AH27 -> 0 | O5: =N5/B5*100 -> #DIV/0!
A6: سه ماهه دوم | B6: ='سه ماهه دوم'!D27 -> 0 | C6: ='سه ماهه دوم'!D14 -> 0 | D6: 0 | E6: =C6/D6*100 -> #DIV/0! | F6: ='سه ماهه دوم'!G27 -> 0 | G6: =F6/B6*100 -> #DIV/0! | H6: ='سه ماهه دوم'!H27+'سه ماهه دوم'!I27 -> 0 | I6: =H6/B6*100 -> #DIV/0! | J6: ='سه ماهه دوم'!H27+'سه ماهه دوم'!I27 -> 0 | L6: ='سه ماهه دوم'!AC27 -> 0 | M6: ='سه ماهه دوم'!AE27/'سه ماهه دوم'!AC27*100 -> #DIV/0! | N6: ='سه ماهه دوم'!AH27 -> 0 | O6: =N6/B6*100 -> #DIV/0!
A7: سه ماهه سوم | B7: ='سه ماهه سوم'!D27 -> 0 | C7: ='سه ماهه سوم'!D14 -> 0 | D7: 0 | E7: =C7/D7*100 -> #DIV/0! | F7: ='سه ماهه سوم'!G27 -> 0 | G7: =F7/B7*100 -> #DIV/0! | H7: ='سه ماهه سوم'!H27+'سه ماهه سوم'!I27 -> 0 | I7: =H7/B7*100 -> #DIV/0! | J7: ='سه ماهه سوم'!H27+'سه ماهه سوم'!I27 -> 0 | L7: ='سه ماهه سوم'!AC27 -> 0 | M7: ='سه ماهه سوم'!AE27/'سه ماهه سوم'!AC27*100 -> #DIV/0! | N7: ='سه ماهه سوم'!AH27 -> 0 | O7: =N7/B7*100 -> #DIV/0!
A8: سه ماهه چهارم | B8: ='سه ماهه چهارم'!D27 -> 0 | C8: ='سه ماهه چهارم'!D14 -> 0 | D8: 0 | E8: =C8/D8*100 -> #DIV/0! | F8: ='سه ماهه چهارم'!G27 -> 0 | G8: =F8/B8*100 -> #DIV/0! | H8: ='سه ماهه چهارم'!H27+'سه ماهه چهارم'!I27 -> 0 | I8: =H8/B8*100 -> #DIV/0! | J8: ='سه ماهه چهارم'!H27+'سه ماهه چهارم'!I27 -> 0 | L8: ='سه ماهه چهارم'!AC27 -> 0 | M8: ='سه ماهه چهارم'!AE27/'سه ماهه چهارم'!AC27*100 -> #DIV/0! | N8: ='سه ماهه چهارم'!AH27 -> 0 | O8: =N8/B8*100 -> #DIV/0!
A9: کل سال | B9: ='کل سال'!D27 -> 0 | C9: ='کل سال'!D14 -> 0 | D9: =D5+D6+D7+D8 -> 0 | E9: =C9/D9*100 -> #DIV/0! | F9: =F5+F6+F7+F8 -> 0 | G9: =F9/B9*100 -> #DIV/0! | H9: =H5+H6+H7+H8 -> 0 | I9: =H9/B9*100 -> #DIV/0! | J9: ='کل سال'!H27+'کل سال'!I27 -> 0 | L9: =L5+L6+L7+L8 -> 0 | M9: ='کل سال'!AE27/'کل سال'!AC27*100 -> #DIV/0! | N9: =N5+N6+N7+N8 -> 0 | O9: =N9/B9*100 -> #DIV/0!
C39: آمارهای فصلی از شیتها حذف گردیده است لذا فرم فصلی فقط نیاز به تکمیل تعداد تولدها ودوستون آخر جدول دارد
C40: کلیه آمار های برنامه غربالگری تیروئید نوزادان در یک فرم جمع آوری شده است

Sheet فرم 5 بیمار
B1: سال 1403 | D1: فرم شماره 5 – گزارش آمار نوزادان بیمار تحت درمان كم كاري مادرزادي تيروئيد | S1: سال 1403 | U1: فرم شماره 5 – گزارش آمار نوزادان بیمار تحت درمان كم كاري مادرزادي تيروئيد | AJ1: سال 1403 | AL1: فرم شماره 5 – گزارش آمار نوزادان بیمار تحت درمان كم كاري مادرزادي تيروئيد
A2: رديف | B2: نام ونام خانوادگي كودك بيمار | C2: جنسیت | D2: تاريخ تولد نوزاد | E2: تاريخ آخرين آزمایش وریدی انجام شده | F2: سطح ازمایش وریدی انجام شده | H2: نتایج آخرین مراقبت | J2: وضعيت نوزاد دراين ماه | K2: دوز دارو | L2: تاريخ قطع درمان | M2: علت قطع درمان | N2: توضیحات | R2: رديف | S2: نام ونام خانوادگي كودك بيمار | T2: جنسیت | U2: تاريخ تولد نوزاد | V2: تاريخ آخرين آزمایش وریدی انجام شده | W2: سطح ازمایش وریدی انجام شده | Y2: نتایج آخرین مراقبت | AA2: وضعيت نوزاد دراين ماه | AB2: دوز دارو | AC2: تاريخ قطع درمان | AD2: علت قطع درمان | AE2: توضیحات | AI2: رديف | AJ2: نام ونام خانوادگي كودك بيمار | AK2: جنسیت | AL2: تاريخ تولد نوزاد | AM2: تاريخ آخرين آزمایش وریدی انجام شده | AN2: سطح ازمایش وریدی انجام شده | AP2: نتایج آخرین مراقبت | AR2: وضعيت نوزاد دراين ماه | AS2: دوز دارو | AT2: تاريخ قطع درمان | AU2: علت قطع درمان | AV2: توضیحات
F3: Tsh | G3: T4 | H3: قد به سانتی متر | I3: وزن به گرم | W3: Tsh | X3: T4 | Y3: قد به سانتی متر | Z3: وزن به گرم | AN3: Tsh | AO3: T4 | AP3: قد به سانتی متر | AQ3: وزن به گرم
A16: آدرس وشماره تلفن كودك در صورت كوچ : | E16: فروردین ماه 1403 | R16: آدرس وشماره تلفن كودك در صورت كوچ : | V16: اردیبهشت ماه 1400 | AA16: 1403 | AI16: آدرس وشماره تلفن كودك در صورت كوچ : | AM16: اردیبهشت ماه 1400 | AQ16: خرداد ماه 1400 | AR16: 1403
B21: سال 1403 | D21: فرم شماره 5 – گزارش آمار نوزادان بیمار تحت درمان كم كاري مادرزادي تيروئيد | S21: سال 1403 | U21: فرم شماره 5 – گزارش آمار نوزادان بیمار تحت درمان كم كاري مادرزادي تيروئيد | AJ21: سال 1403 | AL21: فرم شماره 5 – گزارش آمار نوزادان بیمار تحت درمان كم كاري مادرزادي تيروئيد
A22: رديف | B22: نام ونام خانوادگي كودك بيمار | C22: جنسیت | D22: تاريخ تولد نوزاد | E22: تاريخ آخرين آزمایش وریدی انجام شده | F22: سطح ازمایش وریدی انجام شده | H22: نتایج آخرین مراقبت | J22: وضعيت نوزاد دراين ماه | K22: دوز دارو | L22: تاريخ قطع درمان | M22: علت قطع درمان | N22: توضیحات | R22: رديف | S22: نام ونام خانوادگي كودك بيمار | T22: جنسیت | U22: تاريخ تولد نوزاد | V22: تاريخ آخرين آزمایش وریدی انجام شده | W22: سطح ازمایش وریدی انجام شده | Y22: نتایج آخرین مراقبت | AA22: وضعيت نوزاد دراين ماه | AB22: دوز دارو | AC22: تاريخ قطع درمان | AD22: علت قطع درمان | AE22: توضیحات | AI22: رديف | AJ22: نام ونام خانوادگي كودك بيمار | AK22: جنسیت | AL22: تاريخ تولد نوزاد | AM22: تاريخ آخرين آزمایش وریدی انجام شده | AN22: سطح ازمایش وریدی انجام شده | AP22: نتایج آخرین مراقبت | AR22: وضعيت نوزاد دراين ماه | AS22: دوز دارو | AT22: تاريخ قطع درمان | AU22: علت قطع درمان | AV22: توضیحات
F23: Tsh | G23: T4 | H23: قد به سانتی متر | I23: وزن به گرم | W23: Tsh | X23: T4 | Y23: قد به سانتی متر | Z23: وزن به گرم | AN23: Tsh | AO23: T4 | AP23: قد به سانتی متر | AQ23: وزن به گرم
A36: آدرس وشماره تلفن كودك در صورت كوچ : | E36: تیر ماه 1403 | R36: آدرس وشماره تلفن كودك در صورت كوچ : | V36: مرداد ماه 1403 | AI36: آدرس وشماره تلفن كودك در صورت كوچ : | AM36: شهریور ماه 1403
B40: سال 1403 | D40: فرم شماره 5 – گزارش آمار نوزادان بیمار تحت درمان كم كاري مادرزادي تيروئيد | R40: سال 1403 | U40: فرم شماره 5 – گزارش آمار نوزادان بیمار تحت درمان كم كاري مادرزادي تيروئيد | AI40: سال 1403 | AL40: فرم شماره 5 – گزارش آمار نوزادان بیمار تحت درمان كم كاري مادرزادي تيروئيد
A41: رديف | B41: نام ونام خانوادگي كودك بيمار | C41: جنسیت | D41: تاريخ تولد نوزاد | E41: تاريخ آخرين آزمایش وریدی انجام شده | F41: سطح ازمایش وریدی انجام شده | H41: نتایج آخرین مراقبت | J41: وضعيت نوزاد دراين ماه | K41: دوز دارو | L41: تاريخ قطع درمان | M41: علت قطع درمان | N41: توضیحات | R41: رديف | S41: نام ونام خانوادگي كودك بيمار | T41: جنسیت | U41: تاريخ تولد نوزاد | V41: تاريخ آخرين آزمایش وریدی انجام شده | W41: سطح ازمایش وریدی انجام شده | Y41: نتایج آخرین مراقبت | AA41: وضعيت نوزاد دراين ماه | AB41: دوز دارو | AC41: تاريخ قطع درمان | AD41: علت قطع درمان | AE41: توضیحات | AI41: رديف | AJ41: نام ونام خانوادگي كودك بيمار | AK41: جنسیت | AL41: تاريخ تولد نوزاد | AM41: تاريخ آخرين آزمایش وریدی انجام شده | AN41: سطح ازمایش وریدی انجام شده | AP41: نتایج آخرین مراقبت | AR41: وضعيت نوزاد دراين ماه | AS41: دوز دارو | AT41: تاريخ قطع درمان | AU41: علت قطع درمان | AV41: توضیحات
F42: Tsh | G42: T4 | H42: قد به سانتی متر | I42: وزن به گرم | W42: Tsh | X42: T4 | Y42: قد به سانتی متر | Z42: وزن به گرم | AN42: Tsh | AO42: T4 | AP42: قد به سانتی متر | AQ42: وزن به گرم
A55: آدرس وشماره تلفن كودك در صورت كوچ : | E55: مهر ماه 1403 | R55: آدرس وشماره تلفن كودك در صورت كوچ : | V55: آبان ماه 1403 | AI55: آدرس وشماره تلفن كودك در صورت كوچ : | AM55: آذر ماه 1403
A59: سال 1403 | D59: فرم شماره 5 – گزارش آمار نوزادان بیمار تحت درمان كم كاري مادرزادي تيروئيد | R59: سال 1403 | U59: فرم شماره 5 – گزارش آمار نوزادان بیمار تحت درمان كم كاري مادرزادي تيروئيد | AI59: سال 1403 | AL59: فرم شماره 5 – گزارش آمار نوزادان بیمار تحت درمان كم كاري مادرزادي تيروئيد
A60: رديف | B60: نام ونام خانوادگي كودك بيمار | C60: جنسیت | D60: تاريخ تولد نوزاد | E60: تاريخ آخرين آزمایش وریدی انجام شده | F60: سطح ازمایش وریدی انجام شده | H60: نتایج آخرین مراقبت | J60: وضعيت نوزاد دراين ماه | K60: دوز دارو | L60: تاريخ قطع درمان | M60: علت قطع درمان | N60: توضیحات | R60: رديف | S60: نام ونام خانوادگي كودك بيمار | T60: جنسیت | U60: تاريخ تولد نوزاد | V60: تاريخ آخرين آزمایش وریدی انجام شده | W60: سطح ازمایش وریدی انجام شده | Y60: نتایج آخرین مراقبت | AA60: وضعيت نوزاد دراين ماه | AB60: دوز دارو | AC60: تاريخ قطع درمان | AD60: علت قطع درمان | AE60: توضیحات | AI60: رديف | AJ60: نام ونام خانوادگي كودك بيمار | AK60: جنسیت | AL60: تاريخ تولد نوزاد | AM60: تاريخ آخرين آزمایش وریدی انجام شده | AN60: سطح ازمایش وریدی انجام شده | AP60: نتایج آخرین مراقبت | AR60: وضعيت نوزاد دراين ماه | AS60: دوز دارو | AT60: تاريخ قطع درمان | AU60: علت قطع درمان | AV60: توضیحات
F61: Tsh | G61: T4 | H61: قد به سانتی متر | I61: وزن به گرم | W61: Tsh | X61: T4 | Y61: قد به سانتی متر | Z61: وزن به گرم | AN61: Tsh | AO61: T4 | AP61: قد به سانتی متر | AQ61: وزن به گرم
A74: آدرس وشماره تلفن كودك در صورت كوچ : | E74: دی ماه 1403 | R74: آدرس وشماره تلفن كودك در صورت كوچ : | V74: بهمن ماه 1403 | AI74: آدرس وشماره تلفن كودك در صورت كوچ : | AM74: اسفند ماه 1403

Sheet Sheet4
K12: تحت درمان | M12: یک چهارم قرص
K13: قطع درمان | M13: یک دوم قرص
M14: سه چهارم قرص
M15: قرص کامل

Sheet Sheet2
I9: ایرانی
I10: غیرایرانی | L10: درجه 3 | N10: دختر | P10: مادر
L11: درجه 4 | N11: پسر | P11: پدر
L12: بدون نسبت فامیلی | P12: خواهر
P13: برادر
P14: هیچکدام | R14: ندارد
R15: شنوایی
R16: قلبی عروقی
L17: پره اکلامپسی | P17: طبیعی | R17: سایر
L18: بیماری قلبی | P18: سزارین
L19: دیابت
L20: تشنج
O22: نصف قرص
O23: یک چهارم قرص
O24: سه چهارم قرص
O25: قرص کامل

Sheet فرم 4 بیمارجدید
C1: فرم شماره 4 : مراقبت بیماران مبتلابه کم کاری تیروئید نوزادان
R2: فرم شماره 4 : مراقبت بیماران مبتلابه کم کاری تیروئید نوزادان | AF2: فرم شماره 4 : مراقبت بیماران مبتلابه کم کاری تیروئید نوزادان | AS2: فرم شماره 4 : مراقبت بیماران مبتلابه کم کاری تیروئید نوزادان
C4: عنوان | D4: نتیجه | G4: عنوان | L4: نتیجه
C5: نام ونام خانوادگی نوزاد | G5: زمان انجام غربالگری برحسب سن نوزاد به روز | K5: باراول | R5: عنوان | S5: نتیجه | V5: عنوان | AA5: نتیجه | AF5: عنوان | AG5: نتیجه | AJ5: عنوان | AO5: نتیجه | AS5: عنوان | AT5: نتیجه | AW5: عنوان | BB5: نتیجه
C6: تاریخ تولد | K6: باردوم | R6: نام ونام خانوادگی نوزاد | V6: زمان انجام غربالگری برحسب سن نوزاد به روز | Z6: باراول | AF6: نام ونام خانوادگی نوزاد | AJ6: زمان انجام غربالگری برحسب سن نوزاد به روز | AN6: باراول | AS6: نام ونام خانوادگی نوزاد | AW6: زمان انجام غربالگری برحسب سن نوزاد به روز | BA6: باراول
C7: جنس : | G7: نتیجه آزمایش های تایید تشخیص | K7: TSH | R7: تاریخ تولد | Z7: باردوم | AF7: تاریخ تولد | AN7: باردوم | AS7: تاریخ تولد | BA7: باردوم
C8: ابتلا به انومالی نوزاد : | K8: T4 | R8: جنس : | V8: نتیجه آزمایش های تایید تشخیص | Z8: TSH | AF8: جنس : | AJ8: نتیجه آزمایش های تایید تشخیص | AN8: TSH | AS8: جنس : | AW8: نتیجه آزمایش های تایید تشخیص | BA8: TSH
C9: ملیت نوزاد : | K9: Free T4 | R9: ابتلا به انومالی نوزاد : | Z9: T4 | AF9: ابتلا به انومالی نوزاد : | AN9: T4 | AS9: ابتلا به انومالی نوزاد : | BA9: T4
C10: محل صدور شناسنامه نوزاد | K10: T3RU | R10: ملیت نوزاد : | Z10: Free T4 | AF10: ملیت نوزاد : | AN10: Free T4 | AS10: ملیت نوزاد : | BA10: Free T4
C11: کد ملی نوزاد | G11: غلظت tshاولیه برکاغذ فیلتر | K11: مرحله اول: | R11: محل صدور شناسنامه نوزاد | Z11: T3RU | AF11: محل صدور شناسنامه نوزاد | AN11: T3RU | AS11: محل صدور شناسنامه نوزاد | BA11: T3RU
C12: وزن بدو تولد | K12: مرحله دوم : | R12: کد ملی نوزاد | V12: غلظت tshاولیه برکاغذ فیلتر | Z12: مرحله اول: | AF12: کد ملی نوزاد | AJ12: غلظت tshاولیه برکاغذ فیلتر | AN12: مرحله اول: | AS12: کد ملی نوزاد | AW12: غلظت tshاولیه برکاغذ فیلتر | BA12: مرحله اول:
C13: قد بدو تولد | G13: سن نوزاد درزمان شروع دارو | R13: وزن | Z13: مرحله دوم : | AF13: وزن | AN13: مرحله دوم : | AS13: وزن | BA13: مرحله دوم :
C14: دورسر بدو تولد | G14: اولین دوز لووتیروکسین تجویزشده : | R14: قد | V14: سن نوزاد درزمان شروع دارو | AF14: قد | AJ14: سن نوزاد درزمان شروع دارو | AS14: قد | AW14: سن نوزاد درزمان شروع دارو
C15: کد ملی سرپرست خانوار | G15: نام پزشک درمانگر | R15: دورسر | V15: اولین دوز لووتیروکسین تجویزشده : | AF15: دورسر | AJ15: اولین دوز لووتیروکسین تجویزشده : | AS15: دورسر | AW15: اولین دوز لووتیروکسین تجویزشده :
C16: نام پدر | G16: آدرس | R16: کد ملی سرپرست خانوار | V16: نام پزشک درمانگر | AF16: کد ملی سرپرست خانوار | AJ16: نام پزشک درمانگر | AS16: کد ملی سرپرست خانوار | AW16: نام پزشک درمانگر
C17: نام مادر | G17: شماره تلفن | R17: نام پدر | V17: آدرس | AF17: نام پدر | AJ17: آدرس | AS17: نام پدر | AW17: آدرس
C18: سن مادر | G18: تاریخ انجام آزمایش تائید تشخیص | R18: نام مادر | V18: شماره تلفن | AF18: نام مادر | AJ18: شماره تلفن | AS18: نام مادر | AW18: شماره تلفن
C19: نسبت فامیلی والدین : | G19: آیا نوزاد نارس می باشد | R19: سن مادر | AF19: سن مادر | AS19: سن مادر
C20: وجود بیماری تیروئیدی درفامیل درجه یک : | R20: نسبت فامیلی والدین : | AF20: نسبت فامیلی والدین : | AS20: نسبت فامیلی والدین :
C21: وجود بیماریهای مزمن در مادر: | H21: موارد نارنجی رنگ دارای فیلتر و پنجره انتخاب می باشد | R21: وجود بیماری تیروئیدی درفامیل درجه یک : | AF21: وجود بیماری تیروئیدی درفامیل درجه یک : | AS21: وجود بیماری تیروئیدی درفامیل درجه یک :
C22: نوع زایمان : | R22: وجود بیماریهای مزمن در مادر: | W22: موارد نارنجی رنگ دارای فیلتر و پنجره انتخاب می باشد | AF22: وجود بیماریهای مزمن در مادر: | AK22: موارد نارنجی رنگ دارای فیلتر و پنجره انتخاب می باشد | AS22: وجود بیماریهای مزمن در مادر: | AX22: موارد نارنجی رنگ دارای فیلتر و پنجره انتخاب می باشد
R23: نوع زایمان : | AF23: نوع زایمان : | AS23: نوع زایمان :

Sheet Sheet1
J4: 25میلی گرم1/4 قرص
J5: 1/4 قرص یا 25 میلی گرم
J6: نصف قرص یا 50 میلی گرم | M6: 25 میلی گرم
J7: 3/4 قرص یا 75 میلی گرم
J8: قرص کامل یا 100 میلی گرم
J10: پسر | L10: بهبودی
J11: دختر | L11: کوچ
L12: فوت
L13: سایر
L14: قطع آزمایش

Sheet Sheet3
