Workbook

Sheet فروردین
A1: آمار غربالگري تيروئيد نوزادان : سال 1403 | E1: مركز خدمات جامع سلامت : ............... | J1: مركز بهداشت شهرستان قزوین
A2: رديف | C2: نام محل نمونه گيري | D2: تعداد نوزادان غربالگري شده باراول | E2: جنس | G2: زمان انجام نمونه گيري نوبت اول بر حسب سن نوزاد به روز | J2: زمان اعلام نتيجه آزمايش مشکوک نوبت اول برحسب سن نوزاد به روز | M2: سطح TSH نوبت اول | Q2: تعداد غربالگری بار دوم | R2: زمان انجام نمونه گيري نوبت دوم بر حسب سن نوزاد به روز | U2: زمان اعلام نتيجه آزمايش مشکوک نوبت دوم برحسب سن نوزاد به روز | X2: سطح TSH نوبت دوم | AB2: تشخيص نهايي | AE2: زمان شروع درمان برحسب سن نوزاد به روز | AH2: علل غربالگری باردوم | AQ2: تعداد غربالگری نوبت سوم و چهارم | AR2: سطح TSH نوبت سوم و چهارم
E3: دختر | F3: پسر | G3: 3-5 روز | H3: 6-21 روز | I3: 22و بيشتر | J3: <13 | K3: روز 21-14 | L3: 22و بيشتر | M3: TSH<5 | N3: TSH 5-9 | O3: TSH>=10-19/9 | P3: TSH>20 | R3: <13 | S3: 14-21 روز | T3: 22و بيشتر | U3: <14 | V3: 15-21 | W3: 22و بيشتر | X3: TSH<5 | Y3: TSH 5-9 | Z3: TSH>=10-19/9 | AA3: TSH>20 | AB3: سالم | AC3: بيمار | AD3: عدم آزمایش | AE3: كمتر از 28 | AF3: 28-40 | AG3: 41و بيشتر | AH3: نمونه نامناسب | AI3: TSH= 5-9/9 | AJ3: نوزاد نارس | AK3: نوزاد با وزن کمتر از 2500 گرم | AL3: نوزاد با وزن بیش از 4000 گرم | AM3: دو قلویی یا چند قلویی | AN3: سابقه بستری در بیمارستان | AO3: تعویض یا دریافت خون | AP3: سابقه مصرف داروهای خاص | AR3: TSH<5 | AS3: TSH 5-9 | AT3: TSH>=10-19/9 | AU3: TSH>20
A4: 1 | B4: نوزاد ایرانی ترم | D4: 0 | E4: 0 | F4: 0 | G4: 0 | H4: 0 | I4: 0 | J4: 0 | K4: 0 | L4: 0 | M4: 0 | N4: 0 | O4: 0 | P4: 0 | Q4: 0 | R4: 0 | S4: 0 | T4: 0 | U4: 0 | V4: 0 | W4: 0 | X4: 0 | Y4: 0 | Z4: 0 | AA4: 0 | AB4: 0 | AC4: 0 | AD4: 0 | AE4: 0 | AF4: 0 | AG4: 0 | AH4: 0 | AI4: 0 | AJ4: 0 | AK4: 0 | AL4: 0 | AM4: 0 | AN4: 0 | AO4: 0 | AP4: 0 | AQ4: 0 | AR4: 0 | AS4: 0 | AT4: 0 | AU4: 0
A5: 2
A6: 3
A7: 4
A8: 5
A9: 1 | B9: نوزاد ایرانی نارس | D9: 0 | E9: 0 | F9: 0 | G9: 0 | H9: 0 | I9: 0 | J9: 0 | K9: 0 | L9: 0 | M9: 0 | N9: 0 | O9: 0 | P9: 0 | Q9: 0 | R9: 0 | S9: 0 | T9: 0 | U9: 0 | V9: 0 | W9: 0 | X9: 0 | Y9: 0 | Z9: 0 | AA9: 0 | AB9: 0 | AC9: 0 | AD9: 0 | AE9: 0 | AF9: 0 | AG9: 0 | AH9: 0 | AI9: 0 | AJ9: 0 | AK9: 0 | AL9: 0 | AM9: 0 | AN9: 0 | AO9: 0 | AP9: 0 | AQ9: 0 | AR9: 0 | AS9: 0 | AT9: 0 | AU9: 0
A10: 2
A11: 3
A12: 4
A13: 5
A14: جمع کل ایرانی | D14: =D4+D5+D6+D7+D8+D9+D10+D11+D12+D13 -> 0 | E14: =E4+E5+E6+E7+E8+E9+E10+E11+E12+E13 -> 0 | F14: =F4+F5+F6+F7+F8+F9+F10+F11+F12+F13 -> 0 | G14: =G4+G5+G6+G7+G8+G9+G10+G11+G12+G13 -> 0 | H14: =H4+H5+H6+H7+H8+H9+H10+H11+H12+H13 -> 0 | I14: =I4+I5+I6+I7+I8+I9+I10+I11+I12+I13 -> 0 | J14: =J4+J5+J6+J7+J8+J9+J10+J11+J12+J13 -> 0 | K14: =K4+K5+K6+K7+K8+K9+K10+K11+K12+K13 -> 0 | ... AU14: =AU4+AU5+AU6+AU7+AU8+AU9+AU10+AU11+AU12+AU13 -> 0
A15: جمعيت غیر ایرانی
A16: 1 | B16: نوزاد غیر ایرانی ترم | D16: 0 | E16: 0 | F16: 0 | G16: 0 | H16: 0 | I16: 0 | J16: 0 | K16: 0 | L16: 0 | M16: 0 | N16: 0 | O16: 0 | P16: 0 | Q16: 0 | R16: 0 | S16: 0 | T16: 0 | U16: 0 | V16: 0 | W16: 0 | X16: 0 | Y16: 0 | Z16: 0 | AA16: 0 | AB16: 0 | AC16: 0 | AD16: 0 | AE16: 0 | AF16: 0 | AG16: 0 | AH16: 0 | AI16: 0 | AJ16: 0 | AK16: 0 | AL16: 0 | AM16: 0 | AN16: 0 | AO16: 0 | AP16: 0
A17: 2
A18: 3
A19: 4
A20: 5
A21: 1 | B21: نوزاد غیر ایرانی ترم | D21: 0 | E21: 0 | F21: 0 | G21: 0 | H21: 0 | I21: 0 | J21: 0 | K21: 0 | L21: 0 | M21: 0 | N21: 0 | O21: 0 | P21: 0 | Q21: 0 | R21: 0 | S21: 0 | T21: 0 | U21: 0 | V21: 0 | W21: 0 | X21: 0 | Y21: 0 | Z21: 0 | AA21: 0 | AB21: 0 | AC21: 0 | AD21: 0 | AE21: 0 | AF21: 0 | AG21: 0 | AH21: 0 | AI21: 0 | AJ21: 0 | AK21: 0 | AL21: 0 | AM21: 0 | AN21: 0 | AO21: 0 | AP21: 0 | AQ21: 0 | AR21: 0 | AS21: 0 | AT21: 0 | AU21: 0
A22: 2
A23: 3
A24: 4
A25: 5
A26: جمع کل غیر ایرانی | D26: =D16+D17+D18+D19+D20+D21+D22+D23+D24+D25 -> 0 | E26: =E16+E17+E18+E19+E20+E21+E22+E23+E24+E25 -> 0 | F26: =F16+F17+F18+F19+F20+F21+F22+F23+F24+F25 -> 0 | G26: =G16+G17+G18+G19+G20+G21+G22+G23+G24+G25 -> 0 | H26: =H16+H17+H18+H19+H20+H21+H22+H23+H24+H25 -> 0 | I26: =I16+I17+I18+I19+I20+I21+I22+I23+I24+I25 -> 0 | J26: =J16+J17+J18+J19+J20+J21+J22+J23+J24+J25 -> 0 | K26: =K16+K17+K18+K19+K20+K21+K22+K23+K24+K25 -> 0 | ... AU26: =AU16+AU17+AU18+AU19+AU20+AU21+AU22+AU23+AU24+AU25 -> 0
A27: جمع کل ایرانی و غیر ایرانی | D27: =D26+D14 -> 0 | E27: =E26+E14 -> 0 | F27: =F26+F14 -> 0 | G27: =G26+G14 -> 0 | H27: =H26+H14 -> 0 | I27: =I26+I14 -> 0 | J27: =J26+J14 -> 0 | K27: =K26+K14 -> 0 | ... AU27: =AU26+AU14 -> 0
E28: =E27+F27 -> 0 | G28: =G27+H27+I27 -> 0 | J28: =J27+K27+L27 -> 0 | M28: 0 | R28: =R27+S27+T27 -> 0 | U28: 0 | X28: 0 | AB28: =AB27+AC27+AD27 -> 0 | AE28: 0 | AH28: =AH27+AI27+AJ27+AK27+AL27+AM27+AN27+AO27+AP27 -> 0 | AR28: =AR27+AS27+AT27+AU27 -> 0

Sheet اردیبهشت
A1: آمار غربالگري تيروئيد نوزادان : سال 1403 | E1: مركز خدمات جامع سلامت : ............... | J1: مركز بهداشت شهرستان قزوین
A2: رديف | C2: نام محل نمونه گيري | D2: تعداد نوزادان غربالگري شده باراول | E2: جنس | G2: زمان انجام نمونه گيري نوبت اول بر حسب سن نوزاد به روز | J2: زمان اعلام نتيجه آزمايش مشکوک نوبت اول برحسب سن نوزاد به روز | M2: سطح TSH نوبت اول | Q2: تعداد غربالگری بار دوم | R2: زمان انجام نمونه گيري نوبت دوم بر حسب سن نوزاد به روز | U2: زمان اعلام نتيجه آزمايش مشکوک نوبت دوم برحسب سن نوزاد به روز | X2: سطح TSH نوبت دوم | AB2: تشخيص نهايي | AE2: زمان شروع درمان برحسب سن نوزاد به روز | AH2: علل غربالگری باردوم | AQ2: تعداد غربالگری نوبت سوم و چهارم | AR2: سطح TSH نوبت سوم و چهارم
E3: دختر | F3: پسر | G3: 3-5 روز | H3: 6-21 روز | I3: 22و بيشتر | J3: <13 | K3: روز 21-14 | L3: 22و بيشتر | M3: TSH<5 | N3: TSH 5-9 | O3: TSH>=10-19/9 | P3: TSH>20 | R3: <13 | S3: 14-21 روز | T3: 22و بيشتر | U3: <14 | V3: 15-21 | W3: 22و بيشتر | X3: TSH<5 | Y3: TSH 5-9 | Z3: TSH>=10-19/9 | AA3: TSH>20 | AB3: سالم | AC3: بيمار | AD3: عدم آزمایش | AE3: كمتر از 28 | AF3: 28-40 | AG3: 41و بيشتر | AH3: نمونه نامناسب | AI3: TSH= 5-9/9 | AJ3: نوزاد نارس | AK3: نوزاد با وزن کمتر از 2500 گرم | AL3: نوزاد با وزن بیش از 4000 گرم | AM3: دو قلویی یا چند قلویی | AN3: سابقه بستری در بیمارستان | AO3: تعویض یا دریافت خون | AP3: سابقه مصرف داروهای خاص | AR3: TSH<5 | AS3: TSH 5-9 | AT3: TSH>=10-19/9 | AU3: TSH>20
A4: 1 | B4: نوزاد ایرانی ترم | D4: 0 | E4: 0 | F4: 0 | G4: 0 | H4: 0 | I4: 0 | J4: 0 | K4: 0 | L4: 0 | M4: 0 | N4: 0 | O4: 0 | P4: 0 | Q4: 0 | R4: 0 | S4: 0 | T4: 0 | U4: 0 | V4: 0 | W4: 0 | X4: 0 | Y4: 0 | Z4: 0 | AA4: 0 | AB4: 0 | AC4: 0 | AD4: 0 | AE4: 0 | AF4: 0 | AG4: 0 | AH4: 0 | AI4: 0 | AJ4: 0 | AK4: 0 | AL4: 0 | AM4: 0 | AN4: 0 | AO4: 0 | AP4: 0 | AQ4: 0 | AR4: 0 | AS4: 0 | AT4: 0 | AU4: 0
A5: 2
A6: 3
A7: 4
A8: 5
A9: 1 | B9: نوزاد ایرانی نارس | D9: 0 | E9: 0 | F9: 0 | G9: 0 | H9: 0 | I9: 0 | J9: 0 | K9: 0 | L9: 0 | M9: 0 | N9: 0 | O9: 0 | P9: 0 | Q9: 0 | R9: 0 | S9: 0 | T9: 0 | U9: 0 | V9: 0 | W9: 0 | X9: 0 | Y9: 0 | Z9: 0 | AA9: 0 | AB9: 0 | AC9: 0 | AD9: 0 | AE9: 0 | AF9: 0 | AG9: 0 | AH9: 0 | AI9: 0 | AJ9: 0 | AK9: 0 | AL9: 0 | AM9: 0 | AN9: 0 | AO9: 0 | AP9: 0 | AQ9: 0 | AR9: 0 | AS9: 0 | AT9: 0 | AU9: 0
A10: 2
A11: 3
A12: 4
A13: 5
A14: جمع کل ایرانی | D14: =D4+D5+D6+D7+D8+D9+D10+D11+D12+D13 -> 0 | E14: =E4+E5+E6+E7+E8+E9+E10+E11+E12+E13 -> 0 | F14: =F4+F5+F6+F7+F8+F9+F10+F11+F12+F13 -> 0 | G14: =G4+G5+G6+G7+G8+G9+G10+G11+G12+G13 -> 0 | H14: =H4+H5+H6+H7+H8+H9+H10+H11+H12+H13 -> 0 | I14: =I4+I5+I6+I7+I8+I9+I10+I11+I12+I13 -> 0 | J14: =J4+J5+J6+J7+J8+J9+J10+J11+J12+J13 -> 0 | K14: =K4+K5+K6+K7+K8+K9+K10+K11+K12+K13 -> 0 | ... AU14: =AU4+AU5+AU6+AU7+AU8+AU9+AU10+AU11+AU12+AU13 -> 0
A15: جمعيت غیر ایرانی
A16: 1 | B16: نوزاد غیر ایرانی ترم | D16: 0 | E16: 0 | F16: 0 | G16: 0 | H16: 0 | I16: 0 | J16: 0 | K16: 0 | L16: 0 | M16: 0 | N16: 0 | O16: 0 | P16: 0 | Q16: 0 | R16: 0 | S16: 0 | T16: 0 | U16: 0 | V16: 0 | W16: 0 | X16: 0 | Y16: 0 | Z16: 0 | AA16: 0 | AB16: 0 | AC16: 0 | AD16: 0 | AE16: 0 | AF16: 0 | AG16: 0 | AH16: 0 | AI16: 0 | AJ16: 0 | AK16: 0 | AL16: 0 | AM16: 0 | AN16: 0 | AO16: 0 | AP16: 0
A17: 2
A18: 3
A19: 4
A20: 5
A21: 1 | B21: نوزاد غیر ایرانی نارس | D21: 0 | E21: 0 | F21: 0 | G21: 0 | H21: 0 | I21: 0 | J21: 0 | K21: 0 | L21: 0 | M21: 0 | N21: 0 | O21: 0 | P21: 0 | Q21: 0 | R21: 0 | S21: 0 | T21: 0 | U21: 0 | V21: 0 | W21: 0 | X21: 0 | Y21: 0 | Z21: 0 | AA21: 0 | AB21: 0 | AC21: 0 | AD21: 0 | AE21: 0 | AF21: 0 | AG21: 0 | AH21: 0 | AI21: 0 | AJ21: 0 | AK21: 0 | AL21: 0 | AM21: 0 | AN21: 0 | AO21: 0 | AP21: 0 | AQ21: 0 | AR21: 0 | AS21: 0 | AT21: 0 | AU21: 0
A22: 2
A23: 3
A24: 4
A25: 5
A26: جمع کل غیر ایرانی | D26: =D16+D17+D18+D19+D20+D21+D22+D23+D24+D25 -> 0 | E26: =E16+E17+E18+E19+E20+E21+E22+E23+E24+E25 -> 0 | F26: =F16+F17+F18+F19+F20+F21+F22+F23+F24+F25 -> 0 | G26: =G16+G17+G18+G19+G20+G21+G22+G23+G24+G25 -> 0 | H26: =H16+H17+H18+H19+H20+H21+H22+H23+H24+H25 -> 0 | I26: =I16+I17+I18+I19+I20+I21+I22+I23+I24+I25 -> 0 | J26: =J16+J17+J18+J19+J20+J21+J22+J23+J24+J25 -> 0 | K26: =K16+K17+K18+K19+K20+K21+K22+K23+K24+K25 -> 0 | ... AU26: =AU16+AU17+AU18+AU19+AU20+AU21+AU22+AU23+AU24+AU25 -> 0
A27: جمع کل ایرانی و غیر ایرانی | D27: =D26+D14 -> 0 | E27: =E26+E14 -> 0 | F27: =F26+F14 -> 0 | G27: =G26+G14 -> 0 | H27: =H26+H14 -> 0 | I27: =I26+I14 -> 0 | J27: =J26+J14 -> 0 | K27: =K26+K14 -> 0 | ... AU27: =AU26+AU14 -> 0
E28: =E27+F27 -> 0 | G28: =G27+H27+I27 -> 0 | J28: =J27+K27+L27 -> 0 | M28: 0 | R28: =R27+S27+T27 -> 0 | U28: 0 | X28: 0 | AB28: =AB27+AC27+AD27 -> 0 | AE28: 0 | AH28: =AH27+AI27+AJ27+AK27+AL27+AM27+AN27+AO27+AP27 -> 0 | AR28: =AR27+AS27+AT27+AU27 -> 0

Sheet خرداد
A1: آمار غربالگري تيروئيد نوزادان : سال 1403 | E1: مركز خدمات جامع سلامت : ............... | J1: مركز بهداشت شهرستان قزوین
A2: رديف | C2: نام محل نمونه گيري | D2: تعداد نوزادان غربالگري شده باراول | E2: جنس | G2: زمان انجام نمونه گيري نوبت اول بر حسب سن نوزاد به روز | J2: زمان اعلام نتيجه آزمايش مشکوک نوبت اول برحسب سن نوزاد به روز | M2: سطح TSH نوبت اول | Q2: تعداد غربالگری بار دوم | R2: زمان انجام نمونه گيري نوبت دوم بر حسب سن نوزاد به روز | U2: زمان اعلام نتيجه آزمايش مشکوک نوبت دوم برحسب سن نوزاد به روز | X2: سطح TSH نوبت دوم | AB2: تشخيص نهايي | AE2: زمان شروع درمان برحسب سن نوزاد به روز | AH2: علل غربالگری باردوم | AQ2: تعداد غربالگری نوبت سوم و چهارم | AR2: سطح TSH نوبت سوم و چهارم
E3: دختر | F3: پسر | G3: 3-5 روز | H3: 6-21 روز | I3: 22و بيشتر | J3: <13 | K3: روز 21-14 | L3: 22و بيشتر | M3: TSH<5 | N3: TSH 5-9 | O3: TSH>=10-19/9 | P3: TSH>20 | R3: <13 | S3: 14-21 روز | T3: 22و بيشتر | U3: <14 | V3: 15-21 | W3: 22و بيشتر | X3: TSH<5 | Y3: TSH 5-9 | Z3: TSH>=10-19/9 | AA3: TSH>20 | AB3: سالم | AC3: بيمار | AD3: عدم آزمایش | AE3: كمتر از 28 | AF3: 28-40 | AG3: 41و بيشتر | AH3: نمونه نامناسب | AI3: TSH= 5-9/9 | AJ3: نوزاد نارس | AK3: نوزاد با وزن کمتر از 2500 گرم | AL3: نوزاد با وزن بیش از 4000 گرم | AM3: دو قلویی یا چند قلویی | AN3: سابقه بستری در بیمارستان | AO3: تعویض یا دریافت خون | AP3: سابقه مصرف داروهای خاص | AR3: TSH<5 | AS3: TSH 5-9 | AT3: TSH>=10-19/9 | AU3: TSH>20
A4: 1 | B4: نوزاد ایرانی ترم | D4: 0 | E4: 0 | F4: 0 | G4: 0 | H4: 0 | I4: 0 | J4: 0 | K4: 0 | L4: 0 | M4: 0 | N4: 0 | O4: 0 | P4: 0 | Q4: 0 | R4: 0 | S4: 0 | T4: 0 | U4: 0 | V4: 0 | W4: 0 | X4: 0 | Y4: 0 | Z4: 0 | AA4: 0 | AB4: 0 | AC4: 0 | AD4: 0 | AE4: 0 | AF4: 0 | AG4: 0 | AH4: 0 | AI4: 0 | AJ4: 0 | AK4: 0 | AL4: 0 | AM4: 0 | AN4: 0 | AO4: 0 | AP4: 0 | AQ4: 0 | AR4: 0 | AS4: 0 | AT4: 0 | AU4: 0
A5: 2
A6: 3
A7: 4
A8: 5
A9: 1 | B9: نوزاد ایرانی نارس | D9: 0 | E9: 0 | F9: 0 | G9: 0 | H9: 0 | I9: 0 | J9: 0 | K9: 0 | L9: 0 | M9: 0 | N9: 0 | O9: 0 | P9: 0 | Q9: 0 | R9: 0 | S9: 0 | T9: 0 | U9: 0 | V9: 0 | W9: 0 | X9: 0 | Y9: 0 | Z9: 0 | AA9: 0 | AB9: 0 | AC9: 0 | AD9: 0 | AE9: 0 | AF9: 0 | AG9: 0 | AH9: 0 | AI9: 0 | AJ9: 0 | AK9: 0 | AL9: 0 | AM9: 0 | AN9: 0 | AO9: 0 | AP9: 0 | AQ9: 0 | AR9: 0 | AS9: 0 | AT9: 0 | AU9: 0
A10: 2
A11: 3
A12: 4
A13: 5
A14: جمع کل ایرانی | D14: =D4+D5+D6+D7+D8+D9+D10+D11+D12+D13 -> 0 | E14: =E4+E5+E6+E7+E8+E9+E10+E11+E12+E13 -> 0 | F14: =F4+F5+F6+F7+F8+F9+F10+F11+F12+F13 -> 0 | G14: =G4+G5+G6+G7+G8+G9+G10+G11+G12+G13 -> 0 | H14: =H4+H5+H6+H7+H8+H9+H10+H11+H12+H13 -> 0 | I14: =I4+I5+I6+I7+I8+I9+I10+I11+I12+I13 -> 0 | J14: =J4+J5+J6+J7+J8+J9+J10+J11+J12+J13 -> 0 | K14: =K4+K5+K6+K7+K8+K9+K10+K11+K12+K13 -> 0 | ... AU14: =AU4+AU5+AU6+AU7+AU8+AU9+AU10+AU11+AU12+AU13 -> 0
A15: جمعيت غیر ایرانی
A16: 1 | B16: نوزاد غیر ایرانی ترم | D16: 0 | E16: 0 | F16: 0 | G16: 0 | H16: 0 | I16: 0 | J16: 0 | K16: 0 | L16: 0 | M16: 0 | N16: 0 | O16: 0 | P16: 0 | Q16: 0 | R16: 0 | S16: 0 | T16: 0 | U16: 0 | V16: 0 | W16: 0 | X16: 0 | Y16: 0 | Z16: 0 | AA16: 0 | AB16: 0 | AC16: 0 | AD16: 0 | AE16: 0 | AF16: 0 | AG16: 0 | AH16: 0 | AI16: 0 | AJ16: 0 | AK16: 0 | AL16: 0 | AM16: 0 | AN16: 0 | AO16: 0 | AP16: 0
A17: 2
A18: 3
A19: 4
A20: 5
A21: 1 | B21: نوزاد غیر ایرانی نارس | D21: 0 | E21: 0 | F21: 0 | G21: 0 | H21: 0 | I21: 0 | J21: 0 | K21: 0 | L21: 0 | M21: 0 | N21: 0 | O21: 0 | P21: 0 | Q21: 0 | R21: 0 | S21: 0 | T21: 0 | U21: 0 | V21: 0 | W21: 0 | X21: 0 | Y21: 0 | Z21: 0 | AA21: 0 | AB21: 0 | AC21: 0 | AD21: 0 | AE21: 0 | AF21: 0 | AG21: 0 | AH21: 0 | AI21: 0 | AJ21: 0 | AK21: 0 | AL21: 0 | AM21: 0 | AN21: 0 | AO21: 0 | AP21: 0 | AQ21: 0 | AR21: 0 | AS21: 0 | AT21: 0 | AU21: 0
A22: 2
A23: 3
A24: 4
A25: 5
A26: جمع کل غیر ایرانی | D26: =D16+D17+D18+D19+D20+D21+D22+D23+D24+D25 -> 0 | E26: =E16+E17+E18+E19+E20+E21+E22+E23+E24+E25 -> 0 | F26: =F16+F17+F18+F19+F20+F21+F22+F23+F24+F25 -> 0 | G26: =G16+G17+G18+G19+G20+G21+G22+G23+G24+G25 -> 0 | H26: =H16+H17+H18+H19+H20+H21+H22+H23+H24+H25 -> 0 | I26: =I16+I17+I18+I19+I20+I21+I22+I23+I24+I25 -> 0 | J26: =J16+J17+J18+J19+J20+J21+J22+J23+J24+J25 -> 0 | K26: =K16+K17+K18+K19+K20+K21+K22+K23+K24+K25 -> 0 | ... AU26: =AU16+AU17+AU18+AU19+AU20+AU21+AU22+AU23+AU24+AU25 -> 0
A27: جمع کل ایرانی و غیر ایرانی | D27: =D26+D14 -> 0 | E27: =E26+E14 -> 0 | F27: =F26+F14 -> 0 | G27: =G26+G14 -> 0 | H27: =H26+H14 -> 0 | I27: =I26+I14 -> 0 | J27: =J26+J14 -> 0 | K27: =K26+K14 -> 0 | ... AU27: =AU26+AU14 -> 0
E28: =E27+F27 -> 0 | G28: =G27+H27+I27 -> 0 | J28: =J27+K27+L27 -> 0 | M28: 0 | R28: =R27+S27+T27 -> 0 | U28: 0 | X28: 0 | AB28: =AB27+AC27+AD27 -> 0 | AE28: 0 | AH28: =AH27+AI27+AJ27+AK27+AL27+AM27+AN27+AO27+AP27 -> 0 | AR28: =AR27+AS27+AT27+AU27 -> 0

Sheet سه ماهه اول
A1: آمار غربالگري تيروئيد نوزادان : سال 1403 | E1: مركز خدمات جامع سلامت : ............... | J1: مركز بهداشت شهرستان قزوین
A2: رديف | C2: نام محل نمونه گيري | D2: تعداد نوزادان غربالگري شده باراول | E2: جنس | G2: زمان انجام نمونه گيري نوبت اول بر حسب سن نوزاد به روز | J2: زمان اعلام نتيجه آزمايش مشکوک نوبت اول برحسب سن نوزاد به روز | M2: سطح TSH نوبت اول | Q2: تعداد غربالگری باردوم از پاشنه پا | R2: زمان انجام نمونه گيري نوبت دوم بر حسب سن نوزاد به روز | U2: زمان اعلام نتيجه آزمايش مشکوک نوبت دوم برحسب سن نوزاد به روز | X2: سطح TSH نوبت دوم | AB2: تشخيص نهايي | AE2: زمان شروع درمان برحسب سن نوزاد به روز | AH2: تعداد موارد غربالگری مجدد به تفکیک علت | AQ2: تعداد غربالگری نوبت سوم و چهارم | AR2: سطح TSH نوبت سوم و چهارم
E3: دختر | F3: پسر | G3: 3-5 روز | H3: 6-21 روز | I3: 22و بيشتر | J3: <13 | K3: روز 21-14 | L3: 22و بيشتر | M3: TSH<5 | N3: TSH 5-9 | O3: TSH>=10-19/9 | P3: TSH>20 | R3: <13 | S3: 14-21 روز | T3: 22و بيشتر | U3: <14 | V3: 15-21 | W3: 22و بيشتر | X3: TSH<5 | Y3: TSH 5-9 | Z3: TSH>=10-19/9 | AA3: TSH>20 | AB3: سالم | AC3: بيمار | AD3: عدم آزمایش | AE3: كمتر از 28 | AF3: 28-40 | AG3: 41و بيشتر | AH3: نمونه نامناسب | AI3: TSH= 5-9/9 | AJ3: نوزاد نارس | AK3: نوزاد با وزن کمتر از 2500 گرم | AL3: نوزاد با وزن بیش از 4000 گرم | AM3: دو قلویی یا چند قلویی | AN3: سابقه بستری در بیمارستان | AO3: تعویض یا دریافت خون | AP3: سابقه مصرف داروهای خاص | AR3: TSH<5 | AS3: TSH 5-9 | AT3: TSH>=10-19/9 | AU3: TSH>20
A4: 1 | B4: نوزاد ایرانی ترم | D4: =خرداد!D4+اردیبهشت!D4+فروردین!D4 -> 0 | E4: =خرداد!E4+اردیبهشت!E4+فروردین!E4 -> 0 | F4: =خرداد!F4+اردیبهشت!F4+فروردین!F4 -> 0 | G4: =خرداد!G4+اردیبهشت!G4+فروردین!G4 -> 0 | H4: =خرداد!H4+اردیبهشت!H4+فروردین!H4 -> 0 | I4: =خرداد!I4+اردیبهشت!I4+فروردین!I4 -> 0 | J4: =خرداد!J4+اردیبهشت!J4+فروردین!J4 -> 0 | K4: =خرداد!K4+اردیبهشت!K4+فروردین!K4 -> 0 | ... AU4: =خرداد!AU4+اردیبهشت!AU4+فروردین!AU4 -> 0
A5: 2 | D5: =خرداد!D5+اردیبهشت!D5+فروردین!D5 -> 0 | E5: =خرداد!E5+اردیبهشت!E5+فروردین!E5 -> 0 | F5: =خرداد!F5+اردیبهشت!F5+فروردین!F5 -> 0 | G5: =خرداد!G5+اردیبهشت!G5+فروردین!G5 -> 0 | H5: =خرداد!H5+اردیبهشت!H5+فروردین!H5 -> 0 | I5: =خرداد!I5+اردیبهشت!I5+فروردین!I5 -> 0 | J5: =خرداد!J5+اردیبهشت!J5+فروردین!J5 -> 0 | K5: =خرداد!K5+اردیبهشت!K5+فروردین!K5 -> 0 | ... AU5: =خرداد!AU5+اردیبهشت!AU5+فروردین!AU5 -> 0
A6: 3 | D6: =خرداد!D6+اردیبهشت!D6+فروردین!D6 -> 0 | E6: =خرداد!E6+اردیبهشت!E6+فروردین!E6 -> 0 | F6: =خرداد!F6+اردیبهشت!F6+فروردین!F6 -> 0 | G6: =خرداد!G6+اردیبهشت!G6+فروردین!G6 -> 0 | H6: =خرداد!H6+اردیبهشت!H6+فروردین!H6 -> 0 | I6: =خرداد!I6+اردیبهشت!I6+فروردین!I6 -> 0 | J6: =خرداد!J6+اردیبهشت!J6+فروردین!J6 -> 0 | K6: =خرداد!K6+اردیبهشت!K6+فروردین!K6 -> 0 | ... AU6: =خرداد!AU6+اردیبهشت!AU6+فروردین!AU6 -> 0
A7: 4 | D7: =خرداد!D7+اردیبهشت!D7+فروردین!D7 -> 0 | E7: =خرداد!E7+اردیبهشت!E7+فروردین!E7 -> 0 | F7: =خرداد!F7+اردیبهشت!F7+فروردین!F7 -> 0 | G7: =خرداد!G7+اردیبهشت!G7+فروردین!G7 -> 0 | H7: =خرداد!H7+اردیبهشت!H7+فروردین!H7 -> 0 | I7: =خرداد!I7+اردیبهشت!I7+فروردین!I7 -> 0 | J7: =خرداد!J7+اردیبهشت!J7+فروردین!J7 -> 0 | K7: =خرداد!K7+اردیبهشت!K7+فروردین!K7 -> 0 | ... AU7: =خرداد!AU7+اردیبهشت!AU7+فروردین!AU7 -> 0
A8: 5 | D8: =خرداد!D8+اردیبهشت!D8+فروردین!D8 -> 0 | E8: =خرداد!E8+اردیبهشت!E8+فروردین!E8 -> 0 | F8: =خرداد!F8+اردیبهشت!F8+فروردین!F8 -> 0 | G8: =خرداد!G8+اردیبهشت!G8+فروردین!G8 -> 0 | H8: =خرداد!H8+اردیبهشت!H8+فروردین!H8 -> 0 | I8: =خرداد!I8+اردیبهشت!I8+فروردین!I8 -> 0 | J8: =خرداد!J8+اردیبهشت!J8+فروردین!J8 -> 0 | K8: =خرداد!K8+اردیبهشت!K8+فروردین!K8 -> 0 | ... AU8: =خرداد!AU8+اردیبهشت!AU8+فروردین!AU8 -> 0
A9: 1 | B9: نوزاد ایرانی نارس | D9: =خرداد!D9+اردیبهشت!D9+فروردین!D9 -> 0 | E9: =خرداد!E9+اردیبهشت!E9+فروردین!E9 -> 0 | F9: =خرداد!F9+اردیبهشت!F9+فروردین!F9 -> 0 | G9: =خرداد!G9+اردیبهشت!G9+فروردین!G9 -> 0 | H9: =خرداد!H9+اردیبهشت!H9+فروردین!H9 -> 0 | I9: =خرداد!I9+اردیبهشت!I9+فروردین!I9 -> 0 | J9: =خرداد!J9+اردیبهشت!J9+فروردین!J9 -> 0 | K9: =خرداد!K9+اردیبهشت!K9+فروردین!K9 -> 0 | ... AU9: =خرداد!AU9+اردیبهشت!AU9+فروردین!AU9 -> 0
A10: 2 | D10: =خرداد!D10+اردیبهشت!D10+فروردین!D10 -> 0 | E10: =خرداد!E10+اردیبهشت!E10+فروردین!E10 -> 0 | F10: =خرداد!F10+اردیبهشت!F10+فروردین!F10 -> 0 | G10: =خرداد!G10+اردیبهشت!G10+فروردین!G10 -> 0 | H10: =خرداد!H10+اردیبهشت!H10+فروردین!H10 -> 0 | I10: =خرداد!I10+اردیبهشت!I10+فروردین!I10 -> 0 | J10: =خرداد!J10+اردیبهشت!J10+فروردین!J10 -> 0 | K10: =خرداد!K10+اردیبهشت!K10+فروردین!K10 -> 0 | ... AU10: =خرداد!AU10+اردیبهشت!AU10+فروردین!AU10 -> 0
A11: 3 | D11: =خرداد!D11+اردیبهشت!D11+فروردین!D11 -> 0 | E11: =خرداد!E11+اردیبهشت!E11+فروردین!E11 -> 0 | F11: =خرداد!F11+اردیبهشت!F11+فروردین!F11 -> 0 | G11: =خرداد!G11+اردیبهشت!G11+فروردین!G11 -> 0 | H11: =خرداد!H11+اردیبهشت!H11+فروردین!H11 -> 0 | I11: =خرداد!I11+اردیبهشت!I11+فروردین!I11 -> 0 | J11: =خرداد!J11+اردیبهشت!J11+فروردین!J11 -> 0 | K11: =خرداد!K11+اردیبهشت!K11+فروردین!K11 -> 0 | ... AU11: =خرداد!AU11+اردیبهشت!AU11+فروردین!AU11 -> 0
A12: 4 | D12: =خرداد!D12+اردیبهشت!D12+فروردین!D12 -> 0 | E12: =خرداد!E12+اردیبهشت!E12+فروردین!E12 -> 0 | F12: =خرداد!F12+اردیبهشت!F12+فروردین!F12 -> 0 | G12: =خرداد!G12+اردیبهشت!G12+فروردین!G12 -> 0 | H12: =خرداد!H12+اردیبهشت!H12+فروردین!H12 -> 0 | I12: =خرداد!I12+اردیبهشت!I12+فروردین!I12 -> 0 | J12: =خرداد!J12+اردیبهشت!J12+فروردین!J12 -> 0 | K12: =خرداد!K12+اردیبهشت!K12+فروردین!K12 -> 0 | ... AU12: =خرداد!AU12+اردیبهشت!AU12+فروردین!AU12 -> 0
A13: 5 | D13: =خرداد!D13+اردیبهشت!D13+فروردین!D13 -> 0 | E13: =خرداد!E13+اردیبهشت!E13+فروردین!E13 -> 0 | F13: =خرداد!F13+اردیبهشت!F13+فروردین!F13 -> 0 | G13: =خرداد!G13+اردیبهشت!G13+فروردین!G13 -> 0 | H13: =خرداد!H13+اردیبهشت!H13+فروردین!H13 -> 0 | I13: =خرداد!I13+اردیبهشت!I13+فروردین!I13 -> 0 | J13: =خرداد!J13+اردیبهشت!J13+فروردین!J13 -> 0 | K13: =خرداد!K13+اردیبهشت!K13+فروردین!K13 -> 0 | ... AU13: =خرداد!AU13+اردیبهشت!AU13+فروردین!AU13 -> 0
A14: جمع کل ایرانی | D14: =D4+D5+D6+D7+D8+D9+D10+D11+D12+D13 -> 0 | E14: =E4+E5+E6+E7+E8+E9+E10+E11+E12+E13 -> 0 | F14: =F4+F5+F6+F7+F8+F9+F10+F11+F12+F13 -> 0 | G14: =G4+G5+G6+G7+G8+G9+G10+G11+G12+G13 -> 0 | H14: =H4+H5+H6+H7+H8+H9+H10+H11+H12+H13 -> 0 | I14: =I4+I5+I6+I7+I8+I9+I10+I11+I12+I13 -> 0 | J14: =J4+J5+J6+J7+J8+J9+J10+J11+J12+J13 -> 0 | K14: =K4+K5+K6+K7+K8+K9+K10+K11+K12+K13 -> 0 | ... AU14: =AU4+AU5+AU6+AU7+AU8+AU9+AU10+AU11+AU12+AU13 -> 0
A15: جمعيت غیر ایرانی
A16: 1 | B16: نوزاد غیر ایرانی ترم | D16: =خرداد!D16+اردیبهشت!D16+فروردین!D16 -> 0 | E16: =خرداد!E16+اردیبهشت!E16+فروردین!E16 -> 0 | F16: =خرداد!F16+اردیبهشت!F16+فروردین!F16 -> 0 | G16: =خرداد!G16+اردیبهشت!G16+فروردین!G16 -> 0 | H16: =خرداد!H16+اردیبهشت!H16+فروردین!H16 -> 0 | I16: =خرداد!I16+اردیبهشت!I16+فروردین!I16 -> 0 | J16: =خرداد!J16+اردیبهشت!J16+فروردین!J16 -> 0 | K16: =خرداد!K16+اردیبهشت!K16+فروردین!K16 -> 0 | ... AU16: =خرداد!AU16+اردیبهشت!AU16+فروردین!AU16 -> 0
A17: 2 | D17: =خرداد!D17+اردیبهشت!D17+فروردین!D17 -> 0 | E17: =خرداد!E17+اردیبهشت!E17+فروردین!E17 -> 0 | F17: =خرداد!F17+اردیبهشت!F17+فروردین!F17 -> 0 | G17: =خرداد!G17+اردیبهشت!G17+فروردین!G17 -> 0 | H17: =خرداد!H17+اردیبهشت!H17+فروردین!H17 -> 0 | I17: =خرداد!I17+اردیبهشت!I17+فروردین!I17 -> 0 | J17: =خرداد!J17+اردیبهشت!J17+فروردین!J17 -> 0 | K17: =خرداد!K17+اردیبهشت!K17+فروردین!K17 -> 0 | ... AU17: =خرداد!AU17+اردیبهشت!AU17+فروردین!AU17 -> 0
A18: 3 | D18: =خرداد!D18+اردیبهشت!D18+فروردین!D18 -> 0 | E18: =خرداد!E18+اردیبهشت!E18+فروردین!E18 -> 0 | F18: =خرداد!F18+اردیبهشت!F18+فروردین!F18 -> 0 | G18: =خرداد!G18+اردیبهشت!G18+فروردین!G18 -> 0 | H18: =خرداد!H18+اردیبهشت!H18+فروردین!H18 -> 0 | I18: =خرداد!I18+اردیبهشت!I18+فروردین!I18 -> 0 | J18: =خرداد!J18+اردیبهشت!J18+فروردین!J18 -> 0 | K18: =خرداد!K18+اردیبهشت!K18+فروردین!K18 -> 0 | ... AU18: =خرداد!AU18+اردیبهشت!AU18+فروردین!AU18 -> 0
A19: 4 | D19: =خرداد!D19+اردیبهشت!D19+فروردین!D19 -> 0 | E19: =خرداد!E19+اردیبهشت!E19+فروردین!E19 -> 0 | F19: =خرداد!F19+اردیبهشت!F19+فروردین!F19 -> 0 | G19: =خرداد!G19+اردیبهشت!G19+فروردین!G19 -> 0 | H19: =خرداد!H19+اردیبهشت!H19+فروردین!H19 -> 0 | I19: =خرداد!I19+اردیبهشت!I19+فروردین!I19 -> 0 | J19: =خرداد!J19+اردیبهشت!J19+فروردین!J19 -> 0 | K19: =خرداد!K19+اردیبهشت!K19+فروردین!K19 -> 0 | ... AU19: =خرداد!AU19+اردیبهشت!AU19+فروردین!AU19 -> 0
A20: 5 | D20: =خرداد!D20+اردیبهشت!D20+فروردین!D20 -> 0 | E20: =خرداد!E20+اردیبهشت!E20+فروردین!E20 -> 0 | F20: =خرداد!F20+اردیبهشت!F20+فروردین!F20 -> 0 | G20: =خرداد!G20+اردیبهشت!G20+فروردین!G20 -> 0 | H20: =خرداد!H20+اردیبهشت!H20+فروردین!H20 -> 0 | I20: =خرداد!I20+اردیبهشت!I20+فروردین!I20 -> 0 | J20: =خرداد!J20+اردیبهشت!J20+فروردین!J20 -> 0 | K20: =خرداد!K20+اردیبهشت!K20+فروردین!K20 -> 0 | ... AU20: =خرداد!AU20+اردیبهشت!AU20+فروردین!AU20 -> 0
A21: 1 | B21: نوزاد غیر ایرانی نارس | D21: =خرداد!D21+اردیبهشت!D21+فروردین!D21 -> 0 | E21: =خرداد!E21+اردیبهشت!E21+فروردین!E21 -> 0 | F21: =خرداد!F21+اردیبهشت!F21+فروردین!F21 -> 0 | G21: =خرداد!G21+اردیبهشت!G21+فروردین!G21 -> 0 | H21: =خرداد!H21+اردیبهشت!H21+فروردین!H21 -> 0 | I21: =خرداد!I21+اردیبهشت!I21+فروردین!I21 -> 0 | J21: =خرداد!J21+اردیبهشت!J21+فروردین!J21 -> 0 | K21: =خرداد!K21+اردیبهشت!K21+فروردین!K21 -> 0 | ... AU21: =خرداد!AU21+اردیبهشت!AU21+فروردین!AU21 -> 0
A22: 2 | D22: =خرداد!D22+اردیبهشت!D22+فروردین!D22 -> 0 | E22: =خرداد!E22+اردیبهشت!E22+فروردین!E22 -> 0 | F22: =خرداد!F22+اردیبهشت!F22+فروردین!F22 -> 0 | G22: =خرداد!G22+اردیبهشت!G22+فروردین!G22 -> 0 | H22: =خرداد!H22+اردیبهشت!H22+فروردین!H22 -> 0 | I22: =خرداد!I22+اردیبهشت!I22+فروردین!I22 -> 0 | J22: =خرداد!J22+اردیبهشت!J22+فروردین!J22 -> 0 | K22: =خرداد!K22+اردیبهشت!K22+فروردین!K22 -> 0 | ... AU22: =خرداد!AU22+اردیبهشت!AU22+فروردین!AU22 -> 0
A23: 3 | D23: =خرداد!D23+اردیبهشت!D23+فروردین!D23 -> 0 | E23: =خرداد!E23+اردیبهشت!E23+فروردین!E23 -> 0 | F23: =خرداد!F23+اردیبهشت!F23+فروردین!F23 -> 0 | G23: =خرداد!G23+اردیبهشت!G23+فروردین!G23 -> 0 | H23: =خرداد!H23+اردیبهشت!H23+فروردین!H23 -> 0 | I23: =خرداد!I23+اردیبهشت!I23+فروردین!I23 -> 0 | J23: =خرداد!J23+اردیبهشت!J23+فروردین!J23 -> 0 | K23: =خرداد!K23+اردیبهشت!K23+فروردین!K23 -> 0 | ... AU23: =خرداد!AU23+اردیبهشت!AU23+فروردین!AU23 -> 0
A24: 4 | D24: =خرداد!D24+اردیبهشت!D24+فروردین!D24 -> 0 | E24: =خرداد!E24+اردیبهشت!E24+فروردین!E24 -> 0 | F24: =خرداد!F24+اردیبهشت!F24+فروردین!F24 -> 0 | G24: =خرداد!G24+اردیبهشت!G24+فروردین!G24 -> 0 | H24: =خرداد!H24+اردیبهشت!H24+فروردین!H24 -> 0 | I24: =خرداد!I24+اردیبهشت!I24+فروردین!I24 -> 0 | J24: =خرداد!J24+اردیبهشت!J24+فروردین!J24 -> 0 | K24: =خرداد!K24+اردیبهشت!K24+فروردین!K24 -> 0 | ... AU24: =خرداد!AU24+اردیبهشت!AU24+فروردین!AU24 -> 0
A25: 5 | D25: =خرداد!D25+اردیبهشت!D25+فروردین!D25 -> 0 | E25: =خرداد!E25+اردیبهشت!E25+فروردین!E25 -> 0 | F25: =خرداد!F25+اردیبهشت!F25+فروردین!F25 -> 0 | G25: =خرداد!G25+اردیبهشت!G25+فروردین!G25 -> 0 | H25: =خرداد!H25+اردیبهشت!H25+فروردین!H25 -> 0 | I25: =خرداد!I25+اردیبهشت!I25+فروردین!I25 -> 0 | J25: =خرداد!J25+اردیبهشت!J25+فروردین!J25 -> 0 | K25: =خرداد!K25+اردیبهشت!K25+فروردین!K25 -> 0 | ... AU25: =خرداد!AU25+اردیبهشت!AU25+فروردین!AU25 -> 0
A26: جمع کل غیر ایرانی | D26: =D16+D17+D18+D19+D20+D21+D22+D23+D24+D25 -> 0 | E26: =خرداد!E26+اردیبهشت!E26+فروردین!E26 -> 0 | F26: =خرداد!F26+اردیبهشت!F26+فروردین!F26 -> 0 | G26: =خرداد!G26+اردیبهشت!G26+فروردین!G26 -> 0 | H26: =خرداد!H26+اردیبهشت!H26+فروردین!H26 -> 0 | I26: =خرداد!I26+اردیبهشت!I26+فروردین!I26 -> 0 | J26: =خرداد!J26+اردیبهشت!J26+فروردین!J26 -> 0 | K26: =خرداد!K26+اردیبهشت!K26+فروردین!K26 -> 0 | L26: =خرداد!L26+اردیبهشت!L26+فروردین!L26 -> 0 | ... AU26: =خرداد!AU26+اردیبهشت!AU26+فروردین!AU26 -> 0
A27: جمع کل ایرانی و غیر ایرانی | D27: =D14+D26 -> 0 | E27: =E26+E14 -> 0 | F27: =F26+F14 -> 0 | G27: =G26+G14 -> 0 | H27: =H26+H14 -> 0 | I27: =I26+I14 -> 0 | J27: =J26+J14 -> 0 | K27: =K26+K14 -> 0 | L27: =L26+L14 -> 0 | ... AU27: =AU26+AU14 -> 0
E28: =E27+F27 -> 0 | G28: =G27+H27+I27 -> 0 | J28: =J27+K27+L27 -> 0 | M28: =M27+N27+O27+P27 -> 0 | R28: =R27+S27+T27 -> 0 | U28: =U27+V27+W27 -> 0 | X28: =X27+Y27+Z27+AA27 -> 0 | AB28: =AB27+AC27+AD27 -> 0 | AE28: =AE27+AF27+AG27 -> 0 | AH28: =AH27+AI27+AJ27+AK27+AL27+AM27+AN27+AO27+AP27 -> 0 | AR28: =AR27+AS27+AT27+AU27 -> 0

Sheet تیر
A1: آمار غربالگري تيروئيد نوزادان : سال 1403 | E1: مركز خدمات جامع سلامت : ............... | J1: مركز بهداشت شهرستان قزوین
A2: رديف | C2: نام محل نمونه گيري | D2: تعداد نوزادان غربالگري شده باراول | E2: جنس | G2: زمان انجام نمونه گيري نوبت اول بر حسب سن نوزاد به روز | J2: زمان اعلام نتيجه آزمايش مشکوک نوبت اول برحسب سن نوزاد به روز | M2: سطح TSH نوبت اول | Q2: تعداد غربالگری بار دوم | R2: زمان انجام نمونه گيري نوبت دوم بر حسب سن نوزاد به روز | U2: زمان اعلام نتيجه آزمايش مشکوک نوبت دوم برحسب سن نوزاد به روز | X2: سطح TSH نوبت دوم | AB2: تشخيص نهايي | AE2: زمان شروع درمان برحسب سن نوزاد به روز | AH2: علل غربالگری باردوم | AQ2: تعداد غربالگری نوبت سوم و چهارم | AR2: سطح TSH نوبت سوم و چهارم
E3: دختر | F3: پسر | G3: 3-5 روز | H3: 6-21 روز | I3: 22و بيشتر | J3: <13 | K3: روز 21-14 | L3: 22و بيشتر | M3: TSH<5 | N3: TSH 5-9 | O3: TSH>=10-19/9 | P3: TSH>20 | R3: <13 | S3: 14-21 روز | T3: 22و بيشتر | U3: <14 | V3: 15-21 | W3: 22و بيشتر | X3: TSH<5 | Y3: TSH 5-9 | Z3: TSH>=10-19/9 | AA3: TSH>20 | AB3: سالم | AC3: بيمار | AD3: عدم آزمایش | AE3: كمتر از 28 | AF3: 28-40 | AG3: 41و بيشتر | AH3: نمونه نامناسب | AI3: TSH= 5-9/9 | AJ3: نوزاد نارس | AK3: نوزاد با وزن کمتر از 2500 گرم | AL3: نوزاد با وزن بیش از 4000 گرم | AM3: دو قلویی یا چند قلویی | AN3: سابقه بستری در بیمارستان | AO3: تعویض یا دریافت خون | AP3: سابقه مصرف داروهای خاص | AR3: TSH<5 | AS3: TSH 5-9 | AT3: TSH>=10-19/9 | AU3: TSH>20
A4: 1 | B4: نوزاد ایرانی ترم | D4: 0 | E4: 0 | F4: 0 | G4: 0 | H4: 0 | I4: 0 | J4: 0 | K4: 0 | L4: 0 | M4: 0 | N4: 0 | O4: 0 | P4: 0 | Q4: 0 | R4: 0 | S4: 0 | T4: 0 | U4: 0 | V4: 0 | W4: 0 | X4: 0 | Y4: 0 | Z4: 0 | AA4: 0 | AB4: 0 | AC4: 0 | AD4: 0 | AE4: 0 | AF4: 0 | AG4: 0 | AH4: 0 | AI4: 0 | AJ4: 0 | AK4: 0 | AL4: 0 | AM4: 0 | AN4: 0 | AO4: 0 | AP4: 0 | AQ4: 0 | AR4: 0 | AS4: 0 | AT4: 0 | AU4: 0
A5: 2
A6: 3
A7: 4
A8: 5
A9: 1 | B9: نوزاد ایرانی نارس | D9: 0 | E9: 0 | F9: 0 | G9: 0 | H9: 0 | I9: 0 | J9: 0 | K9: 0 | L9: 0 | M9: 0 | N9: 0 | O9: 0 | P9: 0 | Q9: 0 | R9: 0 | S9: 0 | T9: 0 | U9: 0 | V9: 0 | W9: 0 | X9: 0 | Y9: 0 | Z9: 0 | AA9: 0 | AB9: 0 | AC9: 0 | AD9: 0 | AE9: 0 | AF9: 0 | AG9: 0 | AH9: 0 | AI9: 0 | AJ9: 0 | AK9: 0 | AL9: 0 | AM9: 0 | AN9: 0 | AO9: 0 | AP9: 0 | AQ9: 0 | AR9: 0 | AS9: 0 | AT9: 0 | AU9: 0
A10: 2
A11: 3
A12: 4
A13: 5
A14: جمع کل ایرانی | D14: =D4+D5+D6+D7+D8+D9+D10+D11+D12+D13 -> 0 | E14: =E4+E5+E6+E7+E8+E9+E10+E11+E12+E13 -> 0 | F14: =F4+F5+F6+F7+F8+F9+F10+F11+F12+F13 -> 0 | G14: =G4+G5+G6+G7+G8+G9+G10+G11+G12+G13 -> 0 | H14: =H4+H5+H6+H7+H8+H9+H10+H11+H12+H13 -> 0 | I14: =I4+I5+I6+I7+I8+I9+I10+I11+I12+I13 -> 0 | J14: =J4+J5+J6+J7+J8+J9+J10+J11+J12+J13 -> 0 | K14: =K4+K5+K6+K7+K8+K9+K10+K11+K12+K13 -> 0 | ... AU14: =AU4+AU5+AU6+AU7+AU8+AU9+AU10+AU11+AU12+AU13 -> 0
A15: جمعيت غیر ایرانی
A16: 1 | B16: نوزاد غیر ایرانی ترم | D16: 0 | E16: 0 | F16: 0 | G16: 0 | H16: 0 | I16: 0 | J16: 0 | K16: 0 | L16: 0 | M16: 0 | N16: 0 | O16: 0 | P16: 0 | Q16: 0 | R16: 0 | S16: 0 | T16: 0 | U16: 0 | V16: 0 | W16: 0 | X16: 0 | Y16: 0 | Z16: 0 | AA16: 0 | AB16: 0 | AC16: 0 | AD16: 0 | AE16: 0 | AF16: 0 | AG16: 0 | AH16: 0 | AI16: 0 | AJ16: 0 | AK16: 0 | AL16: 0 | AM16: 0 | AN16: 0 | AO16: 0 | AP16: 0
A17: 2
A18: 3
A19: 4
A20: 5
A21: 1 | B21: نوزاد غیر ایرانی نارس | D21: 0 | E21: 0 | F21: 0 | G21: 0 | H21: 0 | I21: 0 | J21: 0 | K21: 0 | L21: 0 | M21: 0 | N21: 0 | O21: 0 | P21: 0 | Q21: 0 | R21: 0 | S21: 0 | T21: 0 | U21: 0 | V21: 0 | W21: 0 | X21: 0 | Y21: 0 | Z21: 0 | AA21: 0 | AB21: 0 | AC21: 0 | AD21: 0 | AE21: 0 | AF21: 0 | AG21: 0 | AH21: 0 | AI21: 0 | AJ21: 0 | AK21: 0 | AL21: 0 | AM21: 0 | AN21: 0 | AO21: 0 | AP21: 0 | AQ21: 0 | AR21: 0 | AS21: 0 | AT21: 0 | AU21: 0
A22: 2
A23: 3
A24: 4
A25: 5
A26: جمع کل غیر ایرانی | D26: =D16+D17+D18+D19+D20+D21+D22+D23+D24+D25 -> 0 | E26: =E16+E17+E18+E19+E20+E21+E22+E23+E24+E25 -> 0 | F26: =F16+F17+F18+F19+F20+F21+F22+F23+F24+F25 -> 0 | G26: =G16+G17+G18+G19+G20+G21+G22+G23+G24+G25 -> 0 | H26: =H16+H17+H18+H19+H20+H21+H22+H23+H24+H25 -> 0 | I26: =I16+I17+I18+I19+I20+I21+I22+I23+I24+I25 -> 0 | J26: =J16+J17+J18+J19+J20+J21+J22+J23+J24+J25 -> 0 | K26: =K16+K17+K18+K19+K20+K21+K22+K23+K24+K25 -> 0 | ... AU26: =AU16+AU17+AU18+AU19+AU20+AU21+AU22+AU23+AU24+AU25 -> 0
A27: جمع کل ایرانی و غیر ایرانی | D27: =D26+D14 -> 0 | E27: =E26+E14 -> 0 | F27: =F26+F14 -> 0 | G27: =G26+G14 -> 0 | H27: =H26+H14 -> 0 | I27: =I26+I14 -> 0 | J27: =J26+J14 -> 0 | K27: =K26+K14 -> 0 | ... AU27: =AU26+AU14 -> 0
E28: =E27+F27 -> 0 | G28: =G27+H27+I27 -> 0 | J28: =J27+K27+L27 -> 0 | M28: 0 | R28: =R27+S27+T27 -> 0 | U28: 0 | X28: 0 | AB28: =AB27+AC27+AD27 -> 0 | AE28: 0 | AH28: =AH27+AI27+AJ27+AK27+AL27+AM27+AN27+AO27+AP27 -> 0 | AR28: =AR27+AS27+AT27+AU27 -> 0

Sheet مرداد
A1: آمار غربالگري تيروئيد نوزادان : سال 1403 | E1: مركز خدمات جامع سلامت : ............... | J1: مركز بهداشت شهرستان قزوین
A2: رديف | C2: نام محل نمونه گيري | D2: تعداد نوزادان غربالگري شده باراول | E2: جنس | G2: زمان انجام نمونه گيري نوبت اول بر حسب سن نوزاد به روز | J2: زمان اعلام نتيجه آزمايش مشکوک نوبت اول برحسب سن نوزاد به روز | M2: سطح TSH نوبت اول | Q2: تعداد غربالگری بار دوم | R2: زمان انجام نمونه گيري نوبت دوم بر حسب سن نوزاد به روز | U2: زمان اعلام نتيجه آزمايش مشکوک نوبت دوم برحسب سن نوزاد به روز | X2: سطح TSH نوبت دوم | AB2: تشخيص نهايي | AE2: زمان شروع درمان برحسب سن نوزاد به روز | AH2: علل غربالگری باردوم | AQ2: تعداد غربالگری نوبت سوم و چهارم | AR2: سطح TSH نوبت سوم و چهارم
E3: دختر | F3: پسر | G3: 3-5 روز | H3: 6-21 روز | I3: 22و بيشتر | J3: <13 | K3: روز 21-14 | L3: 22و بيشتر | M3: TSH<5 | N3: TSH 5-9 | O3: TSH>=10-19/9 | P3: TSH>20 | R3: <13 | S3: 14-21 روز | T3: 22و بيشتر | U3: <14 | V3: 15-21 | W3: 22و بيشتر | X3: TSH<5 | Y3: TSH 5-9 | Z3: TSH>=10-19/9 | AA3: TSH>20 | AB3: سالم | AC3: بيمار | AD3: عدم آزمایش | AE3: كمتر از 28 | AF3: 28-40 | AG3: 41و بيشتر | AH3: نمونه نامناسب | AI3: TSH= 5-9/9 | AJ3: نوزاد نارس | AK3: نوزاد با وزن کمتر از 2500 گرم | AL3: نوزاد با وزن بیش از 4000 گرم | AM3: دو قلویی یا چند قلویی | AN3: سابقه بستری در بیمارستان | AO3: تعویض یا دریافت خون | AP3: سابقه مصرف داروهای خاص | AR3: TSH<5 | AS3: TSH 5-9 | AT3: TSH>=10-19/9 | AU3: TSH>20
A4: 1 | B4: نوزاد ایرانی ترم | D4: 0 | E4: 0 | F4: 0 | G4: 0 | H4: 0 | I4: 0 | J4: 0 | K4: 0 | L4: 0 | M4: 0 | N4: 0 | O4: 0 | P4: 0 | Q4: 0 | R4: 0 | S4: 0 | T4: 0 | U4: 0 | V4: 0 | W4: 0 | X4: 0 | Y4: 0 | Z4: 0 | AA4: 0 | AB4: 0 | AC4: 0 | AD4: 0 | AE4: 0 | AF4: 0 | AG4: 0 | AH4: 0 | AI4: 0 | AJ4: 0 | AK4: 0 | AL4: 0 | AM4: 0 | AN4: 0 | AO4: 0 | AP4: 0 | AQ4: 0 | AR4: 0 | AS4: 0 | AT4: 0 | AU4: 0
A5: 2
A6: 3
A7: 4
A8: 5
A9: 1 | B9: نوزاد ایرانی نارس | D9: 0 | E9: 0 | F9: 0 | G9: 0 | H9: 0 | I9: 0 | J9: 0 | K9: 0 | L9: 0 | M9: 0 | N9: 0 | O9: 0 | P9: 0 | Q9: 0 | R9: 0 | S9: 0 | T9: 0 | U9: 0 | V9: 0 | W9: 0 | X9: 0 | Y9: 0 | Z9: 0 | AA9: 0 | AB9: 0 | AC9: 0 | AD9: 0 | AE9: 0 | AF9: 0 | AG9: 0 | AH9: 0 | AI9: 0 | AJ9: 0 | AK9: 0 | AL9: 0 | AM9: 0 | AN9: 0 | AO9: 0 | AP9: 0 | AQ9: 0 | AR9: 0 | AS9: 0 | AT9: 0 | AU9: 0
A10: 2
A11: 3
A12: 4
A13: 5
A14: جمع کل ایرانی | D14: =D4+D5+D6+D7+D8+D9+D10+D11+D12+D13 -> 0 | E14: =E4+E5+E6+E7+E8+E9+E10+E11+E12+E13 -> 0 | F14: =F4+F5+F6+F7+F8+F9+F10+F11+F12+F13 -> 0 | G14: =G4+G5+G6+G7+G8+G9+G10+G11+G12+G13 -> 0 | H14: =H4+H5+H6+H7+H8+H9+H10+H11+H12+H13 -> 0 | I14: =I4+I5+I6+I7+I8+I9+I10+I11+I12+I13 -> 0 | J14: =J4+J5+J6+J7+J8+J9+J10+J11+J12+J13 -> 0 | K14: =K4+K5+K6+K7+K8+K9+K10+K11+K12+K13 -> 0 | ... AU14: =AU4+AU5+AU6+AU7+AU8+AU9+AU10+AU11+AU12+AU13 -> 0
A15: جمعيت غیر ایرانی
A16: 1 | B16: نوزاد غیر ایرانی ترم | D16: 0 | E16: 0 | F16: 0 | G16: 0 | H16: 0 | I16: 0 | J16: 0 | K16: 0 | L16: 0 | M16: 0 | N16: 0 | O16: 0 | P16: 0 | Q16: 0 | R16: 0 | S16: 0 | T16: 0 | U16: 0 | V16: 0 | W16: 0 | X16: 0 | Y16: 0 | Z16: 0 | AA16: 0 | AB16: 0 | AC16: 0 | AD16: 0 | AE16: 0 | AF16: 0 | AG16: 0 | AH16: 0 | AI16: 0 | AJ16: 0 | AK16: 0 | AL16: 0 | AM16: 0 | AN16: 0 | AO16: 0 | AP16: 0 | AQ16: 0 | AR16: 0 | AS16: 0 | AT16: 0 | AU16: 0
A17: 2
A18: 3
A19: 4
A20: 5
A21: 1 | B21: نوزاد غیر ایرانی نارس | D21: 0 | E21: 0 | F21: 0 | G21: 0 | H21: 0 | I21: 0 | J21: 0 | K21: 0 | L21: 0 | M21: 0 | N21: 0 | O21: 0 | P21: 0 | Q21: 0 | R21: 0 | S21: 0 | T21: 0 | U21: 0 | V21: 0 | W21: 0 | X21: 0 | Y21: 0 | Z21: 0 | AA21: 0 | AB21: 0 | AC21: 0 | AD21: 0 | AE21: 0 | AF21: 0 | AG21: 0 | AH21: 0 | AI21: 0 | AJ21: 0 | AK21: 0 | AL21: 0 | AM21: 0 | AN21: 0 | AO21: 0 | AP21: 0 | AQ21: 0 | AR21: 0 | AS21: 0 | AT21: 0 | AU21: 0
A22: 2
A23: 3
A24: 4
A25: 5
A26: جمع کل غیر ایرانی | D26: =D16+D17+D18+D19+D20+D21+D22+D23+D24+D25 -> 0 | E26: =E16+E17+E18+E19+E20+E21+E22+E23+E24+E25 -> 0 | F26: =F16+F17+F18+F19+F20+F21+F22+F23+F24+F25 -> 0 | G26: =G16+G17+G18+G19+G20+G21+G22+G23+G24+G25 -> 0 | H26: =H16+H17+H18+H19+H20+H21+H22+H23+H24+H25 -> 0 | I26: =I16+I17+I18+I19+I20+I21+I22+I23+I24+I25 -> 0 | J26: =J16+J17+J18+J19+J20+J21+J22+J23+J24+J25 -> 0 | K26: =K16+K17+K18+K19+K20+K21+K22+K23+K24+K25 -> 0 | ... AU26: =AU16+AU17+AU18+AU19+AU20+AU21+AU22+AU23+AU24+AU25 -> 0
A27: جمع کل ایرانی و غیر ایرانی | D27: =D26+D14 -> 0 | E27: =E26+E14 -> 0 | F27: =F26+F14 -> 0 | G27: =G26+G14 -> 0 | H27: =H26+H14 -> 0 | I27: =I26+I14 -> 0 | J27: =J26+J14 -> 0 | K27: =K26+K14 -> 0 | ... AU27: =AU26+AU14 -> 0
E28: =E27+F27 -> 0 | G28: =G27+H27+I27 -> 0 | J28: =J27+K27+L27 -> 0 | M28: 0 | R28: =R27+S27+T27 -> 0 | U28: 0 | X28: 0 | AB28: =AB27+AC27+AD27 -> 0 | AE28: 0 | AH28: =AH27+AI27+AJ27+AK27+AL27+AM27+AN27+AO27+AP27 -> 0 | AR28: =AR27+AS27+AT27+AU27 -> 0

Sheet شهریور
A1: آمار غربالگري تيروئيد نوزادان : سال1403 | E1: مركز خدمات جامع سلامت : ............... | J1: مركز بهداشت شهرستان قزوین
A2: رديف | C2: نام محل نمونه گيري | D2: تعداد نوزادان غربالگري شده باراول | E2: جنس | G2: زمان انجام نمونه گيري نوبت اول بر حسب سن نوزاد به روز | J2: زمان اعلام نتيجه آزمايش مشکوک نوبت اول برحسب سن نوزاد به روز | M2: سطح TSH نوبت اول | Q2: تعداد غربالگری بار دوم | R2: زمان انجام نمونه گيري نوبت دوم بر حسب سن نوزاد به روز | U2: زمان اعلام نتيجه آزمايش مشکوک نوبت دوم برحسب سن نوزاد به روز | X2: سطح TSH نوبت دوم | AB2: تشخيص نهايي | AE2: زمان شروع درمان برحسب سن نوزاد به روز | AH2: علل غربالگری باردوم | AQ2: تعداد غربالگری نوبت سوم و چهارم | AR2: سطح TSH نوبت سوم و چهارم
E3: دختر | F3: پسر | G3: 3-5 روز | H3: 6-21 روز | I3: 22و بيشتر | J3: <13 | K3: روز 21-14 | L3: 22و بيشتر | M3: TSH<5 | N3: TSH 5-9 | O3: TSH>=10-19/9 | P3: TSH>20 | R3: <13 | S3: 14-21 روز | T3: 22و بيشتر | U3: <14 | V3: 15-21 | W3: 22و بيشتر | X3: TSH<5 | Y3: TSH 5-9 | Z3: TSH>=10-19/9 | AA3: TSH>20 | AB3: سالم | AC3: بيمار | AD3: عدم آزمایش | AE3: كمتر از 28 | AF3: 28-40 | AG3: 41و بيشتر | AH3: نمونه نامناسب | AI3: TSH= 5-9/9 | AJ3: نوزاد نارس | AK3: نوزاد با وزن کمتر از 2500 گرم | AL3: نوزاد با وزن بیش از 4000 گرم | AM3: دو قلویی یا چند قلویی | AN3: سابقه بستری در بیمارستان | AO3: تعویض یا دریافت خون | AP3: سابقه مصرف داروهای خاص | AR3: TSH<5 | AS3: TSH 5-9 | AT3: TSH>=10-19/9 | AU3: TSH>20
A4: 1 | B4: نوزاد ایرانی ترم | D4: 0 | E4: 0 | F4: 0 | G4: 0 | H4: 0 | I4: 0 | J4: 0 | K4: 0 | L4: 0 | M4: 0 | N4: 0 | O4: 0 | P4: 0 | Q4: 0 | R4: 0 | S4: 0 | T4: 0 | U4: 0 | V4: 0 | W4: 0 | X4: 0 | Y4: 0 | Z4: 0 | AA4: 0 | AB4: 0 | AC4: 0 | AD4: 0 | AE4: 0 | AF4: 0 | AG4: 0 | AH4: 0 | AI4: 0 | AJ4: 0 | AK4: 0 | AL4: 0 | AM4: 0 | AN4: 0 | AO4: 0 | AP4: 0 | AQ4: 0 | AR4: 0 | AS4: 0 | AT4: 0 | AU4: 0
A5: 2
A6: 3
A7: 4
A8: 5
A9: 1 | B9: نوزاد ایرانی نارس | D9: 0 | E9: 0 | F9: 0 | G9: 0 | H9: 0 | I9: 0 | J9: 0 | K9: 0 | L9: 0 | M9: 0 | N9: 0 | O9: 0 | P9: 0 | Q9: 0 | R9: 0 | S9: 0 | T9: 0 | U9: 0 | V9: 0 | W9: 0 | X9: 0 | Y9: 0 | Z9: 0 | AA9: 0 | AB9: 0 | AC9: 0 | AD9: 0 | AE9: 0 | AF9: 0 | AG9: 0 | AH9: 0 | AI9: 0 | AJ9: 0 | AK9: 0 | AL9: 0 | AM9: 0 | AN9: 0 | AO9: 0 | AP9: 0 | AQ9: 0 | AR9: 0 | AS9: 0 | AT9: 0 | AU9: 0
A10: 2
A11: 3
A12: 4
A13: 5
A14: جمع کل ایرانی | D14: =D4+D5+D6+D7+D8+D9+D10+D11+D12+D13 -> 0 | E14: =E4+E5+E6+E7+E8+E9+E10+E11+E12+E13 -> 0 | F14: =F4+F5+F6+F7+F8+F9+F10+F11+F12+F13 -> 0 | G14: =G4+G5+G6+G7+G8+G9+G10+G11+G12+G13 -> 0 | H14: =H4+H5+H6+H7+H8+H9+H10+H11+H12+H13 -> 0 | I14: =I4+I5+I6+I7+I8+I9+I10+I11+I12+I13 -> 0 | J14: =J4+J5+J6+J7+J8+J9+J10+J11+J12+J13 -> 0 | K14: =K4+K5+K6+K7+K8+K9+K10+K11+K12+K13 -> 0 | ... AU14: =AU4+AU5+AU6+AU7+AU8+AU9+AU10+AU11+AU12+AU13 -> 0
A15: جمعيت غیر ایرانی
A16: 1 | B16: نوزاد غیر ایرانی ترم | D16: 0 | E16: 0 | F16: 0 | G16: 0 | H16: 0 | I16: 0 | J16: 0 | K16: 0 | L16: 0 | M16: 0 | N16: 0 | O16: 0 | P16: 0 | Q16: 0 | R16: 0 | S16: 0 | T16: 0 | U16: 0 | V16: 0 | W16: 0 | X16: 0 | Y16: 0 | Z16: 0 | AA16: 0 | AB16: 0 | AC16: 0 | AD16: 0 | AE16: 0 | AF16: 0 | AG16: 0 | AH16: 0 | AI16: 0 | AJ16: 0 | AK16: 0 | AL16: 0 | AM16: 0 | AN16: 0 | AO16: 0 | AP16: 0
A17: 2
A18: 3
A19: 4
A20: 5
A21: 1 | B21: نوزاد غیر ایرانی نارس | D21: 0 | E21: 0 | F21: 0 | G21: 0 | H21: 0 | I21: 0 | J21: 0 | K21: 0 | L21: 0 | M21: 0 | N21: 0 | O21: 0 | P21: 0 | Q21: 0 | R21: 0 | S21: 0 | T21: 0 | U21: 0 | V21: 0 | W21: 0 | X21: 0 | Y21: 0 | Z21: 0 | AA21: 0 | AB21: 0 | AC21: 0 | AD21: 0 | AE21: 0 | AF21: 0 | AG21: 0 | AH21: 0 | AI21: 0 | AJ21: 0 | AK21: 0 | AL21: 0 | AM21: 0 | AN21: 0 | AO21: 0 | AP21: 0 | AQ21: 0 | AR21: 0 | AS21: 0 | AT21: 0 | AU21: 0
A22: 2
A23: 3
A24: 4
A25: 5
A26: جمع کل غیر ایرانی | D26: =D16+D17+D18+D19+D20+D21+D22+D23+D24+D25 -> 0 | E26: =E16+E17+E18+E19+E20+E21+E22+E23+E24+E25 -> 0 | F26: =F16+F17+F18+F19+F20+F21+F22+F23+F24+F25 -> 0 | G26: =G16+G17+G18+G19+G20+G21+G22+G23+G24+G25 -> 0 | H26: =H16+H17+H18+H19+H20+H21+H22+H23+H24+H25 -> 0 | I26: =I16+I17+I18+I19+I20+I21+I22+I23+I24+I25 -> 0 | J26: =J16+J17+J18+J19+J20+J21+J22+J23+J24+J25 -> 0 | K26: =K16+K17+K18+K19+K20+K21+K22+K23+K24+K25 -> 0 | ... AU26: =AU16+AU17+AU18+AU19+AU20+AU21+AU22+AU23+AU24+AU25 -> 0
A27: جمع کل ایرانی و غیر ایرانی | D27: =D26+D14 -> 0 | E27: =E26+E14 -> 0 | F27: =F26+F14 -> 0 | G27: =G26+G14 -> 0 | H27: =H26+H14 -> 0 | I27: =I26+I14 -> 0 | J27: =J26+J14 -> 0 | K27: =K26+K14 -> 0 | ... AU27: =AU26+AU14 -> 0
E28: =E27+F27 -> 0 | G28: =G27+H27+I27 -> 0 | J28: =J27+K27+L27 -> 0 | M28: 0 | R28: =R27+S27+T27 -> 0 | U28: 0 | X28: 0 | AB28: =AB27+AC27+AD27 -> 0 | AE28: 0 | AH28: =AH27+AI27+AJ27+AK27+AL27+AM27+AN27+AO27+AP27 -> 0 | AR28: =AR27+AS27+AT27+AU27 -> 0

Sheet سه ماهه دوم
A1: آمار غربالگري تيروئيد نوزادان : سال 1403 | E1: مركز خدمات جامع سلامت : ............... | J1: مركز بهداشت شهرستان قزوین
A2: رديف | C2: نام محل نمونه گيري | D2: تعداد نوزادان غربالگري شده باراول | E2: جنس | G2: زمان انجام نمونه گيري نوبت اول بر حسب سن نوزاد به روز | J2: زمان اعلام نتيجه آزمايش مشکوک نوبت اول برحسب سن نوزاد به روز | M2: سطح TSH نوبت اول | Q2: تعداد غربالگری باردوم از پاشنه پا | R2: زمان انجام نمونه گيري نوبت دوم بر حسب سن نوزاد به روز | U2: زمان اعلام نتيجه آزمايش مشکوک نوبت دوم برحسب سن نوزاد به روز | X2: سطح TSH نوبت دوم | AB2: تشخيص نهايي | AE2: زمان شروع درمان برحسب سن نوزاد به روز | AH2: تعداد موارد غربالگری مجدد به تفکیک علت | AQ2: تعداد غربالگری نوبت سوم و چهارم | AR2: سطح TSH نوبت سوم و چهارم
E3: دختر | F3: پسر | G3: 3-5 روز | H3: 6-21 روز | I3: 22و بيشتر | J3: <13 | K3: روز 21-14 | L3: 22و بيشتر | M3: TSH<5 | N3: TSH 5-9 | O3: TSH>=10-19/9 | P3: TSH>20 | R3: <13 | S3: 14-21 روز | T3: 22و بيشتر | U3: <14 | V3: 15-21 | W3: 22و بيشتر | X3: TSH<5 | Y3: TSH 5-9 | Z3: TSH>=10-19/9 | AA3: TSH>20 | AB3: سالم | AC3: بيمار | AD3: عدم آزمایش | AE3: كمتر از 28 | AF3: 28-40 | AG3: 41و بيشتر | AH3: نمونه نامناسب | AI3: TSH= 5-9/9 | AJ3: نوزاد نارس | AK3: نوزاد با وزن کمتر از 2500 گرم | AL3: نوزاد با وزن بیش از 4000 گرم | AM3: دو قلویی یا چند قلویی | AN3: سابقه بستری در بیمارستان | AO3: تعویض یا دریافت خون | AP3: سابقه مصرف داروهای خاص | AR3: TSH<5 | AS3: TSH 5-9 | AT3: TSH>=10-19/9 | AU3: TSH>20
A4: 1 | B4: نوزاد ایرانی ترم | D4: =شهریور!D4+مرداد!D4+تیر!D4 -> 0 | E4: =شهریور!E4+مرداد!E4+تیر!E4 -> 0 | F4: =شهریور!F4+مرداد!F4+تیر!F4 -> 0 | G4: =شهریور!G4+مرداد!G4+تیر!G4 -> 0 | H4: =شهریور!H4+مرداد!H4+تیر!H4 -> 0 | I4: =شهریور!I4+مرداد!I4+تیر!I4 -> 0 | J4: =شهریور!J4+مرداد!J4+تیر!J4 -> 0 | K4: =شهریور!K4+مرداد!K4+تیر!K4 -> 0 | ... AU4: =شهریور!AU4+مرداد!AU4+تیر!AU4 -> 0
A5: 2 | D5: =شهریور!D5+مرداد!D5+تیر!D5 -> 0 | E5: =شهریور!E5+مرداد!E5+تیر!E5 -> 0 | F5: =شهریور!F5+مرداد!F5+تیر!F5 -> 0 | G5: =شهریور!G5+مرداد!G5+تیر!G5 -> 0 | H5: =شهریور!H5+مرداد!H5+تیر!H5 -> 0 | I5: =شهریور!I5+مرداد!I5+تیر!I5 -> 0 | J5: =شهریور!J5+مرداد!J5+تیر!J5 -> 0 | K5: =شهریور!K5+مرداد!K5+تیر!K5 -> 0 | ... AU5: =شهریور!AU5+مرداد!AU5+تیر!AU5 -> 0
A6: 3 | D6: =شهریور!D6+مرداد!D6+تیر!D6 -> 0 | E6: =شهریور!E6+مرداد!E6+تیر!E6 -> 0 | F6: =شهریور!F6+مرداد!F6+تیر!F6 -> 0 | G6: =شهریور!G6+مرداد!G6+تیر!G6 -> 0 | H6: =شهریور!H6+مرداد!H6+تیر!H6 -> 0 | I6: =شهریور!I6+مرداد!I6+تیر!I6 -> 0 | J6: =شهریور!J6+مرداد!J6+تیر!J6 -> 0 | K6: =شهریور!K6+مرداد!K6+تیر!K6 -> 0 | ... AU6: =شهریور!AU6+مرداد!AU6+تیر!AU6 -> 0
A7: 4 | D7: =شهریور!D7+مرداد!D7+تیر!D7 -> 0 | E7: =شهریور!E7+مرداد!E7+تیر!E7 -> 0 | F7: =شهریور!F7+مرداد!F7+تیر!F7 -> 0 | G7: =شهریور!G7+مرداد!G7+تیر!G7 -> 0 | H7: =شهریور!H7+مرداد!H7+تیر!H7 -> 0 | I7: =شهریور!I7+مرداد!I7+تیر!I7 -> 0 | J7: =شهریور!J7+مرداد!J7+تیر!J7 -> 0 | K7: =شهریور!K7+مرداد!K7+تیر!K7 -> 0 | ... AU7: =شهریور!AU7+مرداد!AU7+تیر!AU7 -> 0
A8: 5 | D8: =شهریور!D8+مرداد!D8+تیر!D8 -> 0 | E8: =شهریور!E8+مرداد!E8+تیر!E8 -> 0 | F8: =شهریور!F8+مرداد!F8+تیر!F8 -> 0 | G8: =شهریور!G8+مرداد!G8+تیر!G8 -> 0 | H8: =شهریور!H8+مرداد!H8+تیر!H8 -> 0 | I8: =شهریور!I8+مرداد!I8+تیر!I8 -> 0 | J8: =شهریور!J8+مرداد!J8+تیر!J8 -> 0 | K8: =شهریور!K8+مرداد!K8+تیر!K8 -> 0 | ... AU8: =شهریور!AU8+مرداد!AU8+تیر!AU8 -> 0
A9: 1 | B9: نوزاد ایرانی نارس | D9: =شهریور!D9+مرداد!D9+تیر!D9 -> 0 | E9: =شهریور!E9+مرداد!E9+تیر!E9 -> 0 | F9: =شهریور!F9+مرداد!F9+تیر!F9 -> 0 | G9: =شهریور!G9+مرداد!G9+تیر!G9 -> 0 | H9: =شهریور!H9+مرداد!H9+تیر!H9 -> 0 | I9: =شهریور!I9+مرداد!I9+تیر!I9 -> 0 | J9: =شهریور!J9+مرداد!J9+تیر!J9 -> 0 | K9: =شهریور!K9+مرداد!K9+تیر!K9 -> 0 | ... AU9: =شهریور!AU9+مرداد!AU9+تیر!AU9 -> 0
A10: 2 | D10: =شهریور!D10+مرداد!D10+تیر!D10 -> 0 | E10: =شهریور!E10+مرداد!E10+تیر!E10 -> 0 | F10: =شهریور!F10+مرداد!F10+تیر!F10 -> 0 | G10: =شهریور!G10+مرداد!G10+تیر!G10 -> 0 | H10: =شهریور!H10+مرداد!H10+تیر!H10 -> 0 | I10: =شهریور!I10+مرداد!I10+تیر!I10 -> 0 | J10: =شهریور!J10+مرداد!J10+تیر!J10 -> 0 | K10: =شهریور!K10+مرداد!K10+تیر!K10 -> 0 | ... AU10: =شهریور!AU10+مرداد!AU10+تیر!AU10 -> 0
A11: 3 | D11: =شهریور!D11+مرداد!D11+تیر!D11 -> 0 | E11: =شهریور!E11+مرداد!E11+تیر!E11 -> 0 | F11: =شهریور!F11+مرداد!F11+تیر!F11 -> 0 | G11: =شهریور!G11+مرداد!G11+تیر!G11 -> 0 | H11: =شهریور!H11+مرداد!H11+تیر!H11 -> 0 | I11: =شهریور!I11+مرداد!I11+تیر!I11 -> 0 | J11: =شهریور!J11+مرداد!J11+تیر!J11 -> 0 | K11: =شهریور!K11+مرداد!K11+تیر!K11 -> 0 | ... AU11: =شهریور!AU11+مرداد!AU11+تیر!AU11 -> 0
A12: 4 | D12: =شهریور!D12+مرداد!D12+تیر!D12 -> 0 | E12: =شهریور!E12+مرداد!E12+تیر!E12 -> 0 | F12: =شهریور!F12+مرداد!F12+تیر!F12 -> 0 | G12: =شهریور!G12+مرداد!G12+تیر!G12 -> 0 | H12: =شهریور!H12+مرداد!H12+تیر!H12 -> 0 | I12: =شهریور!I12+مرداد!I12+تیر!I12 -> 0 | J12: =شهریور!J12+مرداد!J12+تیر!J12 -> 0 | K12: =شهریور!K12+مرداد!K12+تیر!K12 -> 0 | ... AU12: =شهریور!AU12+مرداد!AU12+تیر!AU12 -> 0
A13: 5 | D13: =شهریور!D13+مرداد!D13+تیر!D13 -> 0 | E13: =شهریور!E13+مرداد!E13+تیر!E13 -> 0 | F13: =شهریور!F13+مرداد!F13+تیر!F13 -> 0 | G13: =شهریور!G13+مرداد!G13+تیر!G13 -> 0 | H13: =شهریور!H13+مرداد!H13+تیر!H13 -> 0 | I13: =شهریور!I13+مرداد!I13+تیر!I13 -> 0 | J13: =شهریور!J13+مرداد!J13+تیر!J13 -> 0 | K13: =شهریور!K13+مرداد!K13+تیر!K13 -> 0 | ... AU13: =شهریور!AU13+مرداد!AU13+تیر!AU13 -> 0
A14: جمع کل ایرانی | D14: =D4+D5+D6+D7+D8+D9+D10+D11+D12+D13 -> 0 | E14: =E4+E5+E6+E7+E8+E9+E10+E11+E12+E13 -> 0 | F14: =F4+F5+F6+F7+F8+F9+F10+F11+F12+F13 -> 0 | G14: =G4+G5+G6+G7+G8+G9+G10+G11+G12+G13 -> 0 | H14: =H4+H5+H6+H7+H8+H9+H10+H11+H12+H13 -> 0 | I14: =I4+I5+I6+I7+I8+I9+I10+I11+I12+I13 -> 0 | J14: =J4+J5+J6+J7+J8+J9+J10+J11+J12+J13 -> 0 | K14: =K4+K5+K6+K7+K8+K9+K10+K11+K12+K13 -> 0 | ... AU14: =AU4+AU5+AU6+AU7+AU8+AU9+AU10+AU11+AU12+AU13 -> 0
A15: جمعيت غیر ایرانی
A16: 1 | B16: نوزاد غیر ایرانی ترم | D16: =شهریور!D16+مرداد!D16+تیر!D16 -> 0 | E16: =شهریور!E16+مرداد!E16+تیر!E16 -> 0 | F16: =شهریور!F16+مرداد!F16+تیر!F16 -> 0 | G16: =شهریور!G16+مرداد!G16+تیر!G16 -> 0 | H16: =شهریور!H16+مرداد!H16+تیر!H16 -> 0 | I16: =شهریور!I16+مرداد!I16+تیر!I16 -> 0 | J16: =شهریور!J16+مرداد!J16+تیر!J16 -> 0 | K16: =شهریور!K16+مرداد!K16+تیر!K16 -> 0 | ... AU16: =شهریور!AU16+مرداد!AU16+تیر!AU16 -> 0
A17: 2 | D17: =شهریور!D17+مرداد!D17+تیر!D17 -> 0 | E17: =شهریور!E17+مرداد!E17+تیر!E17 -> 0 | F17: =شهریور!F17+مرداد!F17+تیر!F17 -> 0 | G17: =شهریور!G17+مرداد!G17+تیر!G17 -> 0 | H17: =شهریور!H17+مرداد!H17+تیر!H17 -> 0 | I17: =شهریور!I17+مرداد!I17+تیر!I17 -> 0 | J17: =شهریور!J17+مرداد!J17+تیر!J17 -> 0 | K17: =شهریور!K17+مرداد!K17+تیر!K17 -> 0 | ... AU17: =شهریور!AU17+مرداد!AU17+تیر!AU17 -> 0
A18: 3 | D18: =شهریور!D18+مرداد!D18+تیر!D18 -> 0 | E18: =شهریور!E18+مرداد!E18+تیر!E18 -> 0 | F18: =شهریور!F18+مرداد!F18+تیر!F18 -> 0 | G18: =شهریور!G18+مرداد!G18+تیر!G18 -> 0 | H18: =شهریور!H18+مرداد!H18+تیر!H18 -> 0 | I18: =شهریور!I18+مرداد!I18+تیر!I18 -> 0 | J18: =شهریور!J18+مرداد!J18+تیر!J18 -> 0 | K18: =شهریور!K18+مرداد!K18+تیر!K18 -> 0 | ... AU18: =شهریور!AU18+مرداد!AU18+تیر!AU18 -> 0
A19: 4 | D19: =شهریور!D19+مرداد!D19+تیر!D19 -> 0 | E19: =شهریور!E19+مرداد!E19+تیر!E19 -> 0 | F19: =شهریور!F19+مرداد!F19+تیر!F19 -> 0 | G19: =شهریور!G19+مرداد!G19+تیر!G19 -> 0 | H19: =شهریور!H19+مرداد!H19+تیر!H19 -> 0 | I19: =شهریور!I19+مرداد!I19+تیر!I19 -> 0 | J19: =شهریور!J19+مرداد!J19+تیر!J19 -> 0 | K19: =شهریور!K19+مرداد!K19+تیر!K19 -> 0 | ... AU19: =شهریور!AU19+مرداد!AU19+تیر!AU19 -> 0
A20: 5 | D20: =شهریور!D20+مرداد!D20+تیر!D20 -> 0 | E20: =شهریور!E20+مرداد!E20+تیر!E20 -> 0 | F20: =شهریور!F20+مرداد!F20+تیر!F20 -> 0 | G20: =شهریور!G20+مرداد!G20+تیر!G20 -> 0 | H20: =شهریور!H20+مرداد!H20+تیر!H20 -> 0 | I20: =شهریور!I20+مرداد!I20+تیر!I20 -> 0 | J20: =شهریور!J20+مرداد!J20+تیر!J20 -> 0 | K20: =شهریور!K20+مرداد!K20+تیر!K20 -> 0 | ... AU20: =شهریور!AU20+مرداد!AU20+تیر!AU20 -> 0
A21: 1 | B21: نوزاد غیر ایرانی نارس | D21: =شهریور!D21+مرداد!D21+تیر!D21 -> 0 | E21: =شهریور!E21+مرداد!E21+تیر!E21 -> 0 | F21: =شهریور!F21+مرداد!F21+تیر!F21 -> 0 | G21: =شهریور!G21+مرداد!G21+تیر!G21 -> 0 | H21: =شهریور!H21+مرداد!H21+تیر!H21 -> 0 | I21: =شهریور!I21+مرداد!I21+تیر!I21 -> 0 | J21: =شهریور!J21+مرداد!J21+تیر!J21 -> 0 | K21: =شهریور!K21+مرداد!K21+تیر!K21 -> 0 | ... AU21: =شهریور!AU21+مرداد!AU21+تیر!AU21 -> 0
A22: 2 | D22: =شهریور!D22+مرداد!D22+تیر!D22 -> 0 | E22: =شهریور!E22+مرداد!E22+تیر!E22 -> 0 | F22: =شهریور!F22+مرداد!F22+تیر!F22 -> 0 | G22: =شهریور!G22+مرداد!G22+تیر!G22 -> 0 | H22: =شهریور!H22+مرداد!H22+تیر!H22 -> 0 | I22: =شهریور!I22+مرداد!I22+تیر!I22 -> 0 | J22: =شهریور!J22+مرداد!J22+تیر!J22 -> 0 | K22: =شهریور!K22+مرداد!K22+تیر!K22 -> 0 | ... AU22: =شهریور!AU22+مرداد!AU22+تیر!AU22 -> 0
A23: 3 | D23: =شهریور!D23+مرداد!D23+تیر!D23 -> 0 | E23: =شهریور!E23+مرداد!E23+تیر!E23 -> 0 | F23: =شهریور!F23+مرداد!F23+تیر!F23 -> 0 | G23: =شهریور!G23+مرداد!G23+تیر!G23 -> 0 | H23: =شهریور!H23+مرداد!H23+تیر!H23 -> 0 | I23: =شهریور!I23+مرداد!I23+تیر!I23 -> 0 | J23: =شهریور!J23+مرداد!J23+تیر!J23 -> 0 | K23: =شهریور!K23+مرداد!K23+تیر!K23 -> 0 | ... AU23: =شهریور!AU23+مرداد!AU23+تیر!AU23 -> 0
A24: 4 | D24: =شهریور!D24+مرداد!D24+تیر!D24 -> 0 | E24: =شهریور!E24+مرداد!E24+تیر!E24 -> 0 | F24: =شهریور!F24+مرداد!F24+تیر!F24 -> 0 | G24: =شهریور!G24+مرداد!G24+تیر!G24 -> 0 | H24: =شهریور!H24+مرداد!H24+تیر!H24 -> 0 | I24: =شهریور!I24+مرداد!I24+تیر!I24 -> 0 | J24: =شهریور!J24+مرداد!J24+تیر!J24 -> 0 | K24: =شهریور!K24+مرداد!K24+تیر!K24 -> 0 | ... AU24: =شهریور!AU24+مرداد!AU24+تیر!AU24 -> 0
A25: 5 | D25: =شهریور!D25+مرداد!D25+تیر!D25 -> 0 | E25: =شهریور!E25+مرداد!E25+تیر!E25 -> 0 | F25: =شهریور!F25+مرداد!F25+تیر!F25 -> 0 | G25: =شهریور!G25+مرداد!G25+تیر!G25 -> 0 | H25: =شهریور!H25+مرداد!H25+تیر!H25 -> 0 | I25: =شهریور!I25+مرداد!I25+تیر!I25 -> 0 | J25: =شهریور!J25+مرداد!J25+تیر!J25 -> 0 | K25: =شهریور!K25+مرداد!K25+تیر!K25 -> 0 | ... AU25: =شهریور!AU25+مرداد!AU25+تیر!AU25 -> 0
A26: جمع کل غیر ایرانی | D26: =D16+D17+D18+D19+D20+D21+D22+D23+D24+D25 -> 0 | E26: =E16+E17+E18+E19+E20+E21+E22+E23+E24+E25 -> 0 | F26: =F16+F17+F18+F19+F20+F21+F22+F23+F24+F25 -> 0 | G26: =G16+G17+G18+G19+G20+G21+G22+G23+G24+G25 -> 0 | H26: =H16+H17+H18+H19+H20+H21+H22+H23+H24+H25 -> 0 | I26: =I16+I17+I18+I19+I20+I21+I22+I23+I24+I25 -> 0 | J26: =J16+J17+J18+J19+J20+J21+J22+J23+J24+J25 -> 0 | K26: =K16+K17+K18+K19+K20+K21+K22+K23+K24+K25 -> 0 | ... AU26: =AU16+AU17+AU18+AU19+AU20+AU21+AU22+AU23+AU24+AU25 -> 0
A27: جمع کل ایرانی و غیر ایرانی | D27: =D14+D26 -> 0 | E27: =E14+E26 -> 0 | F27: =F14+F26 -> 0 | G27: =G14+G26 -> 0 | H27: =H14+H26 -> 0 | I27: =I14+I26 -> 0 | J27: =J14+J26 -> 0 | K27: =K14+K26 -> 0 | ... AU27: =AU14+AU26 -> 0
E28: =E27+F27 -> 0 | G28: =G27+H27+I27 -> 0 | J28: =J27+K27+L27 -> 0 | M28: =M27+N27+O27+P27 -> 0 | R28: =R27+S27+T27 -> 0 | U28: =U27+V27+W27 -> 0 | X28: =X27+Y27+Z27+AA27 -> 0 | AB28: =AB27+AC27+AD27 -> 0 | AE28: =AE27+AF27+AG27 -> 0 | AH28: =AH27+AI27+AJ27+AK27+AL27+AM27+AN27+AO27+AP27 -> 0 | AR28: =AR27+AS27+AT27+AU27 -> 0

Sheet شش ماهه اول
A1: آمار غربالگري تيروئيد نوزادان : سال 1403 | E1: مركز خدمات جامع سلامت : ............... | J1: مركز بهداشت شهرستان :..................
A2: رديف | C2: نام محل نمونه گيري | D2: تعداد نوزادان غربالگري شده نوبت اول | E2: جنس | G2: زمان انجام نمونه گيري نوبت اول بر حسب سن نوزاد به روز | J2: زمان اعلام نتيجه آزمايش مشکوک نوبت اول برحسب سن نوزاد به روز | M2: سطح TSH نوبت اول | Q2: تعداد غربالگری نوبت دوم از پاشنه پا | R2: زمان انجام نمونه گيري نوبت دوم بر حسب سن نوزاد به روز | U2: زمان اعلام نتيجه آزمايش مشکوک نوبت دوم برحسب سن نوزاد به روز | X2: سطح TSH نوبت دوم | AB2: تشخيص نهايي | AE2: زمان شروع درمان برحسب سن نوزاد به روز | AH2: تعداد موارد غربالگری مجدد به تفکیک علت | AQ2: تعداد غربالگری نوبت سوم و چهارم | AR2: سطح TSH نوبت سوم و چهارم
E3: دختر | F3: پسر | G3: 3-5 روز | H3: 6-21 روز | I3: 22و بيشتر | J3: <13 | K3: روز 21-14 | L3: 22و بيشتر | M3: TSH<5 | N3: TSH 5-9 | O3: TSH>=10-19/9 | P3: TSH>20 | R3: <13 | S3: 14-21 روز | T3: 22و بيشتر | U3: <14 | V3: 15-21 | W3: 22و بيشتر | X3: TSH<5 | Y3: TSH 5-9 | Z3: TSH>=10-19/9 | AA3: TSH>20 | AB3: سالم | AC3: بيمار | AD3: عدم آزمایش | AE3: كمتر از 28 | AF3: 28-40 | AG3: 41و بيشتر | AH3: نمونه نامناسب | AI3: TSH= 5-9/9 | AJ3: نوزاد نارس | AK3: نوزاد با وزن کمتر از 2500 گرم | AL3: نوزاد با وزن بیش از 4000 گرم | AM3: دو قلویی یا چند قلویی | AN3: سابقه بستری در بیمارستان | AO3: تعویض یا دریافت خون | AP3: سابقه مصرف داروهای خاص | AR3: TSH<5 | AS3: TSH 5-9 | AT3: TSH>=10-19/9 | AU3: TSH>20
A4: 1 | B4: نوزاد ایرانی ترم | D4: ='سه ماهه دوم'!D4+'سه ماهه اول'!D4 -> 0 | E4: ='سه ماهه دوم'!E4+'سه ماهه اول'!E4 -> 0 | F4: ='سه ماهه دوم'!F4+'سه ماهه اول'!F4 -> 0 | G4: ='سه ماهه دوم'!G4+'سه ماهه اول'!G4 -> 0 | H4: ='سه ماهه دوم'!H4+'سه ماهه اول'!H4 -> 0 | I4: ='سه ماهه دوم'!I4+'سه ماهه اول'!I4 -> 0 | J4: ='سه ماهه دوم'!J4+'سه ماهه اول'!J4 -> 0 | K4: ='سه ماهه دوم'!K4+'سه ماهه اول'!K4 -> 0 | ... AU4: ='سه ماهه دوم'!AU4+'سه ماهه اول'!AU4 -> 0
A5: 2 | D5: ='سه ماهه دوم'!D5+'سه ماهه اول'!D5 -> 0 | E5: ='سه ماهه دوم'!E5+'سه ماهه اول'!E5 -> 0 | F5: ='سه ماهه دوم'!F5+'سه ماهه اول'!F5 -> 0 | G5: ='سه ماهه دوم'!G5+'سه ماهه اول'!G5 -> 0 | H5: ='سه ماهه دوم'!H5+'سه ماهه اول'!H5 -> 0 | I5: ='سه ماهه دوم'!I5+'سه ماهه اول'!I5 -> 0 | J5: ='سه ماهه دوم'!J5+'سه ماهه اول'!J5 -> 0 | K5: ='سه ماهه دوم'!K5+'سه ماهه اول'!K5 -> 0 | ... AU5: ='سه ماهه دوم'!AU5+'سه ماهه اول'!AU5 -> 0
A6: 3 | D6: ='سه ماهه دوم'!D6+'سه ماهه اول'!D6 -> 0 | E6: ='سه ماهه دوم'!E6+'سه ماهه اول'!E6 -> 0 | F6: ='سه ماهه دوم'!F6+'سه ماهه اول'!F6 -> 0 | G6: ='سه ماهه دوم'!G6+'سه ماهه اول'!G6 -> 0 | H6: ='سه ماهه دوم'!H6+'سه ماهه اول'!H6 -> 0 | I6: ='سه ماهه دوم'!I6+'سه ماهه اول'!I6 -> 0 | J6: ='سه ماهه دوم'!J6+'سه ماهه اول'!J6 -> 0 | K6: ='سه ماهه دوم'!K6+'سه ماهه اول'!K6 -> 0 | ... AU6: ='سه ماهه دوم'!AU6+'سه ماهه اول'!AU6 -> 0
A7: 4 | D7: ='سه ماهه دوم'!D7+'سه ماهه اول'!D7 -> 0 | E7: ='سه ماهه دوم'!E7+'سه ماهه اول'!E7 -> 0 | F7: ='سه ماهه دوم'!F7+'سه ماهه اول'!F7 -> 0 | G7: ='سه ماهه دوم'!G7+'سه ماهه اول'!G7 -> 0 | H7: ='سه ماهه دوم'!H7+'سه ماهه اول'!H7 -> 0 | I7: ='سه ماهه دوم'!I7+'سه ماهه اول'!I7 -> 0 | J7: ='سه ماهه دوم'!J7+'سه ماهه اول'!J7 -> 0 | K7: ='سه ماهه دوم'!K7+'سه ماهه اول'!K7 -> 0 | ... AU7: ='سه ماهه دوم'!AU7+'سه ماهه اول'!AU7 -> 0
A8: 5 | D8: ='سه ماهه دوم'!D8+'سه ماهه اول'!D8 -> 0 | E8: ='سه ماهه دوم'!E8+'سه ماهه اول'!E8 -> 0 | F8: ='سه ماهه دوم'!F8+'سه ماهه اول'!F8 -> 0 | G8: ='سه ماهه دوم'!G8+'سه ماهه اول'!G8 -> 0 | H8: ='سه ماهه دوم'!H8+'سه ماهه اول'!H8 -> 0 | I8: ='سه ماهه دوم'!I8+'سه ماهه اول'!I8 -> 0 | J8: ='سه ماهه دوم'!J8+'سه ماهه اول'!J8 -> 0 | K8: ='سه ماهه دوم'!K8+'سه ماهه اول'!K8 -> 0 | ... AU8: ='سه ماهه دوم'!AU8+'سه ماهه اول'!AU8 -> 0
A9: 1 | B9: نوزاد ایرانی نارس | D9: ='سه ماهه دوم'!D9+'سه ماهه اول'!D9 -> 0 | E9: ='سه ماهه دوم'!E9+'سه ماهه اول'!E9 -> 0 | F9: ='سه ماهه دوم'!F9+'سه ماهه اول'!F9 -> 0 | G9: ='سه ماهه دوم'!G9+'سه ماهه اول'!G9 -> 0 | H9: ='سه ماهه دوم'!H9+'سه ماهه اول'!H9 -> 0 | I9: ='سه ماهه دوم'!I9+'سه ماهه اول'!I9 -> 0 | J9: ='سه ماهه دوم'!J9+'سه ماهه اول'!J9 -> 0 | K9: ='سه ماهه دوم'!K9+'سه ماهه اول'!K9 -> 0 | ... AU9: ='سه ماهه دوم'!AU9+'سه ماهه اول'!AU9 -> 0
A10: 2 | D10: ='سه ماهه دوم'!D10+'سه ماهه اول'!D10 -> 0 | E10: ='سه ماهه دوم'!E10+'سه ماهه اول'!E10 -> 0 | F10: ='سه ماهه دوم'!F10+'سه ماهه اول'!F10 -> 0 | G10: ='سه ماهه دوم'!G10+'سه ماهه اول'!G10 -> 0 | H10: ='سه ماهه دوم'!H10+'سه ماهه اول'!H10 -> 0 | I10: ='سه ماهه دوم'!I10+'سه ماهه اول'!I10 -> 0 | J10: ='سه ماهه دوم'!J10+'سه ماهه اول'!J10 -> 0 | K10: ='سه ماهه دوم'!K10+'سه ماهه اول'!K10 -> 0 | ... AU10: ='سه ماهه دوم'!AU10+'سه ماهه اول'!AU10 -> 0
A11: 3 | D11: ='سه ماهه دوم'!D11+'سه ماهه اول'!D11 -> 0 | E11: ='سه ماهه دوم'!E11+'سه ماهه اول'!E11 -> 0 | F11: ='سه ماهه دوم'!F11+'سه ماهه اول'!F11 -> 0 | G11: ='سه ماهه دوم'!G11+'سه ماهه اول'!G11 -> 0 | H11: ='سه ماهه دوم'!H11+'سه ماهه اول'!H11 -> 0 | I11: ='سه ماهه دوم'!I11+'سه ماهه اول'!I11 -> 0 | J11: ='سه ماهه دوم'!J11+'سه ماهه اول'!J11 -> 0 | K11: ='سه ماهه دوم'!K11+'سه ماهه اول'!K11 -> 0 | ... AU11: ='سه ماهه دوم'!AU11+'سه ماهه اول'!AU11 -> 0
A12: 4 | D12: ='سه ماهه دوم'!D12+'سه ماهه اول'!D12 -> 0 | E12: ='سه ماهه دوم'!E12+'سه ماهه اول'!E12 -> 0 | F12: ='سه ماهه دوم'!F12+'سه ماهه اول'!F12 -> 0 | G12: ='سه ماهه دوم'!G12+'سه ماهه اول'!G12 -> 0 | H12: ='سه ماهه دوم'!H12+'سه ماهه اول'!H12 -> 0 | I12: ='سه ماهه دوم'!I12+'سه ماهه اول'!I12 -> 0 | J12: ='سه ماهه دوم'!J12+'سه ماهه اول'!J12 -> 0 | K12: ='سه ماهه دوم'!K12+'سه ماهه اول'!K12 -> 0 | ... AU12: ='سه ماهه دوم'!AU12+'سه ماهه اول'!AU12 -> 0
A13: 5 | D13: ='سه ماهه دوم'!D13+'سه ماهه اول'!D13 -> 0 | E13: ='سه ماهه دوم'!E13+'سه ماهه اول'!E13 -> 0 | F13: ='سه ماهه دوم'!F13+'سه ماهه اول'!F13 -> 0 | G13: ='سه ماهه دوم'!G13+'سه ماهه اول'!G13 -> 0 | H13: ='سه ماهه دوم'!H13+'سه ماهه اول'!H13 -> 0 | I13: ='سه ماهه دوم'!I13+'سه ماهه اول'!I13 -> 0 | J13: ='سه ماهه دوم'!J13+'سه ماهه اول'!J13 -> 0 | K13: ='سه ماهه دوم'!K13+'سه ماهه اول'!K13 -> 0 | ... AU13: ='سه ماهه دوم'!AU13+'سه ماهه اول'!AU13 -> 0
A14: جمع کل ایرانی | D14: ='سه ماهه دوم'!D14+'سه ماهه اول'!D14 -> 0 | E14: ='سه ماهه دوم'!E14+'سه ماهه اول'!E14 -> 0 | F14: ='سه ماهه دوم'!F14+'سه ماهه اول'!F14 -> 0 | G14: ='سه ماهه دوم'!G14+'سه ماهه اول'!G14 -> 0 | H14: ='سه ماهه دوم'!H14+'سه ماهه اول'!H14 -> 0 | I14: ='سه ماهه دوم'!I14+'سه ماهه اول'!I14 -> 0 | J14: ='سه ماهه دوم'!J14+'سه ماهه اول'!J14 -> 0 | K14: ='سه ماهه دوم'!K14+'سه ماهه اول'!K14 -> 0 | ... AU14: ='سه ماهه دوم'!AU14+'سه ماهه اول'!AU14 -> 0
A15: جمعيت غیر ایرانی
A16: 1 | B16: نوزاد غیر ایرانی ترم | D16: ='سه ماهه دوم'!D16+'سه ماهه اول'!D16 -> 0 | E16: ='سه ماهه دوم'!E16+'سه ماهه اول'!E16 -> 0 | F16: ='سه ماهه دوم'!F16+'سه ماهه اول'!F16 -> 0 | G16: ='سه ماهه دوم'!G16+'سه ماهه اول'!G16 -> 0 | H16: ='سه ماهه دوم'!H16+'سه ماهه اول'!H16 -> 0 | I16: ='سه ماهه دوم'!I16+'سه ماهه اول'!I16 -> 0 | J16: ='سه ماهه دوم'!J16+'سه ماهه اول'!J16 -> 0 | K16: ='سه ماهه دوم'!K16+'سه ماهه اول'!K16 -> 0 | ... AU16: ='سه ماهه دوم'!AU16+'سه ماهه اول'!AU16 -> 0
A17: 2 | D17: ='سه ماهه دوم'!D17+'سه ماهه اول'!D17 -> 0 | E17: ='سه ماهه دوم'!E17+'سه ماهه اول'!E17 -> 0 | F17: ='سه ماهه دوم'!F17+'سه ماهه اول'!F17 -> 0 | G17: ='سه ماهه دوم'!G17+'سه ماهه اول'!G17 -> 0 | H17: ='سه ماهه دوم'!H17+'سه ماهه اول'!H17 -> 0 | I17: ='سه ماهه دوم'!I17+'سه ماهه اول'!I17 -> 0 | J17: ='سه ماهه دوم'!J17+'سه ماهه اول'!J17 -> 0 | K17: ='سه ماهه دوم'!K17+'سه ماهه اول'!K17 -> 0 | ... AU17: ='سه ماهه دوم'!AU17+'سه ماهه اول'!AU17 -> 0
A18: 3 | D18: ='سه ماهه دوم'!D18+'سه ماهه اول'!D18 -> 0 | E18: ='سه ماهه دوم'!E18+'سه ماهه اول'!E18 -> 0 | F18: ='سه ماهه دوم'!F18+'سه ماهه اول'!F18 -> 0 | G18: ='سه ماهه دوم'!G18+'سه ماهه اول'!G18 -> 0 | H18: ='سه ماهه دوم'!H18+'سه ماهه اول'!H18 -> 0 | I18: ='سه ماهه دوم'!I18+'سه ماهه اول'!I18 -> 0 | J18: ='سه ماهه دوم'!J18+'سه ماهه اول'!J18 -> 0 | K18: ='سه ماهه دوم'!K18+'سه ماهه اول'!K18 -> 0 | ... AU18: ='سه ماهه دوم'!AU18+'سه ماهه اول'!AU18 -> 0
A19: 4 | D19: ='سه ماهه دوم'!D19+'سه ماهه اول'!D19 -> 0 | E19: ='سه ماهه دوم'!E19+'سه ماهه اول'!E19 -> 0 | F19: ='سه ماهه دوم'!F19+'سه ماهه اول'!F19 -> 0 | G19: ='سه ماهه دوم'!G19+'سه ماهه اول'!G19 -> 0 | H19: ='سه ماهه دوم'!H19+'سه ماهه اول'!H19 -> 0 | I19: ='سه ماهه دوم'!I19+'سه ماهه اول'!I19 -> 0 | J19: ='سه ماهه دوم'!J19+'سه ماهه اول'!J19 -> 0 | K19: ='سه ماهه دوم'!K19+'سه ماهه اول'!K19 -> 0 | ... AU19: ='سه ماهه دوم'!AU19+'سه ماهه اول'!AU19 -> 0
A20: 5 | D20: ='سه ماهه دوم'!D20+'سه ماهه اول'!D20 -> 0 | E20: ='سه ماهه دوم'!E20+'سه ماهه اول'!E20 -> 0 | F20: ='سه ماهه دوم'!F20+'سه ماهه اول'!F20 -> 0 | G20: ='سه ماهه دوم'!G20+'سه ماهه اول'!G20 -> 0 | H20: ='سه ماهه دوم'!H20+'سه ماهه اول'!H20 -> 0 | I20: ='سه ماهه دوم'!I20+'سه ماهه اول'!I20 -> 0 | J20: ='سه ماهه دوم'!J20+'سه ماهه اول'!J20 -> 0 | K20: ='سه ماهه دوم'!K20+'سه ماهه اول'!K20 -> 0 | ... AU20: ='سه ماهه دوم'!AU20+'سه ماهه اول'!AU20 -> 0
A21: 1 | B21: نوزاد غیر ایرانی نارس | D21: ='سه ماهه دوم'!D21+'سه ماهه اول'!D21 -> 0 | E21: ='سه ماهه دوم'!E21+'سه ماهه اول'!E21 -> 0 | F21: ='سه ماهه دوم'!F21+'سه ماهه اول'!F21 -> 0 | G21: ='سه ماهه دوم'!G21+'سه ماهه اول'!G21 -> 0 | H21: ='سه ماهه دوم'!H21+'سه ماهه اول'!H21 -> 0 | I21: ='سه ماهه دوم'!I21+'سه ماهه اول'!I21 -> 0 | J21: ='سه ماهه دوم'!J21+'سه ماهه اول'!J21 -> 0 | K21: ='سه ماهه دوم'!K21+'سه ماهه اول'!K21 -> 0 | ... AU21: ='سه ماهه دوم'!AU21+'سه ماهه اول'!AU21 -> 0
