Workbook

Sheet فروردين
A1: آمارغربالگري p.k.u نوزادان سال 1403- ایرانی | C1: دانشگاه: قزوين مركز بهداشت شهيد بلنديان قزوين | H1: مركز بهداشتي درماني /پايگاه بهداشتي :
A2: رديف | B2: نام مركز/ پايگاه | C2: تعداد نوزادان غربالگري شده باراول | D2: جنس | F2: زمان انجام نمونه گيري نوبت اول بر حسب سن نوزاد به روز | J2: تعداد موارد زمان اعلام آزمايش مثبت غربالگري برحسب سن نوزاد به روز | N2: تعداد نتايج آزمايشات غربالگري p.k.u | Q2: تعداد موارد نمونه گيري مجدد براي بيماري p.k.u به تفكيك علت | T2: تعداد موارد نمونه گيري مجدد برحسب سن نوزاد به روز براي p.k.u | W2: تعداد موارد زمان اعلام آزمايش غربالگري مثبت (phe>4) نمونه هاي مجدد بر حسب سن | Z2: تعداد نتايج آزمايشات نوبت دوم
D3: دختر | E3: پسر | F3: 3-5 روز | G3: 6-14 روز | H3: 15-21 | I3: 22 وبيشتر | J3: 7-9 | K3: 10-14 | L3: 15-21 | M3: 22وبيشتر | N3: كمتر از 4 | O3: 4-19/9 | P3: 20وبيشتر | Q3: بستري دربيمارستان | R3: حالت خاص | S3: نمونه نامناسب | T3: كمتر از 14 | U3: 15-21 | V3: 22و بيشتر | W3: كمتر از 14 | X3: 15-21 | Y3: 22بيشتر | Z3: كمتر از 4 | AA3: 4-19/9 | AB3: >20
A4: 1
A5: 2
A6: 3
A7: 4
A8: 5
A9: 6
A10: 7
A11: 8
A12: 9
A13: 10
A14: جمع کل ایرانی | C14: =SUM(C4:C13) -> 0 | D14: =SUM(D4:D13) -> 0 | E14: =SUM(E4:E13) -> 0 | F14: =SUM(F4:F13) -> 0 | G14: =SUM(G4:G13) -> 0 | H14: =SUM(H4:H13) -> 0 | I14: =SUM(I4:I13) -> 0 | J14: =SUM(J4:J13) -> 0 | ... AB14: =SUM(AB4:AB13) -> 0
A15: 1 | B15: افاغنه
A16: 2
A17: 3
A18: 4
A19: 5
A20: 6
A21: 7
A22: 8
A23: 9
A24: 10
A25: جمع کل غیر ایرانی | C25: =SUM(C15:C24) -> 0 | D25: =SUM(D15:D24) -> 0 | E25: =SUM(E15:E24) -> 0 | F25: =SUM(F15:F24) -> 0 | G25: =SUM(G15:G24) -> 0 | H25: =SUM(H15:H24) -> 0 | I25: =SUM(I15:I24) -> 0 | J25: =SUM(J15:J24) -> 0 | ... AB25: =SUM(AB15:AB24) -> 0
A26: جمع کل ایرانی و غیر ایرانی | C26: =SUM(C14+C25) -> 0 | D26: =SUM(D14+D25) -> 0 | E26: =SUM(E14+E25) -> 0 | F26: =SUM(F14+F25) -> 0 | G26: =SUM(G14+G25) -> 0 | H26: =SUM(H14+H25) -> 0 | I26: =SUM(I14+I25) -> 0 | J26: =SUM(J14+J25) -> 0 | ... N26: =SUM(N14+N25) -> 0 | Z26: =SUM(Z14+Z25) -> 0 | AA26: =SUM(AA14+AA25) -> 0 | AB26: =SUM(AB14+AB25) -> 0
D27: =SUM(D26:E26) -> 0 | F27: =I26+H26+G26+F26 -> 0 | J27: =M26+L26+K26+J26 -> 0 | N27: =SUM(N26:P26) -> 0 | Q27: =SUM(Q26:S26) -> 0 | T27: =SUM(T26:V26) -> 0 | W27: =SUM(W26:Y26) -> 0 | Z27: =SUM(Z26:AB26) -> 0
C29: موارد خاص : بستری در بیمارستان (حتی یک روز )- انواع بیماریها-عدم شیرخوردن- دیالیز - تزریق خون- تغذیه خوراکی یا وریدی کم پروتئین -npo -بیماری کبدی -نارسی - مادرpku-هیپرالمانتاسیون

Sheet ارديبهشت
A1: آمارغربالگري p.k.u نوزادان سال 1403- ایرانی | C1: دانشگاه: قزوين مركز بهداشت شهيد بلنديان قزوين | H1: مركز بهداشتي درماني /پايگاه بهداشتي :
A2: رديف | B2: نام مركز/ پايگاه | C2: تعداد نوزادان غربالگري شده باراول | D2: جنس | F2: زمان انجام نمونه گيري نوبت اول بر حسب سن نوزاد به روز | J2: تعداد موارد زمان اعلام آزمايش مثبت غربالگري برحسب سن نوزاد به روز | N2: تعداد نتايج آزمايشات غربالگري p.k.u | Q2: تعداد موارد نمونه گيري مجدد براي بيماري p.k.u به تفكيك علت | T2: تعداد موارد نمونه گيري مجدد برحسب سن نوزاد به روز براي p.k.u | W2: تعداد موارد زمان اعلام آزمايش غربالگري مثبت (phe>4) نمونه هاي مجدد بر حسب سن | Z2: تعداد نتايج آزمايشات نوبت دوم
D3: دختر | E3: پسر | F3: 3-5 روز | G3: 6-14 روز | H3: 15-21 | I3: 22 وبيشتر | J3: 7-9 | K3: 10-14 | L3: 15-21 | M3: 22وبيشتر | N3: كمتر از 4 | O3: 4-19/9 | P3: 20وبيشتر | Q3: بستري دربيمارستان | R3: حالت خاص | S3: نمونه نامناسب | T3: كمتر از 14 | U3: 15-21 | V3: 22و بيشتر | W3: كمتر از 14 | X3: 15-21 | Y3: 22بيشتر | Z3: كمتر از 4 | AA3: 4-19/9 | AB3: >20
A4: 1
A5: 2
A6: 3
A7: 4
A8: 5
A9: 6
A10: 7
A11: 8
A12: 9
A13: 10
A14: جمع کل ایرانی | C14: =SUM(C4:C13) -> 0 | D14: =SUM(D4:D13) -> 0 | E14: =SUM(E4:E13) -> 0 | F14: =SUM(F4:F13) -> 0 | G14: =SUM(G4:G13) -> 0 | H14: =SUM(H4:H13) -> 0 | I14: =SUM(I4:I13) -> 0 | J14: =SUM(J4:J13) -> 0 | ... AB14: =SUM(AB4:AB13) -> 0
A15: 1 | B15: افاغنه
A16: 2
A17: 3
A18: 4
A19: 5
A20: 6
A21: 7
A22: 8
A23: 9
A24: 10
A25: جمع کل غیر ایرانی | C25: =SUM(C15:C24) -> 0 | D25: =SUM(D15:D24) -> 0 | E25: =SUM(E15:E24) -> 0 | F25: =SUM(F15:F24) -> 0 | G25: =SUM(G15:G24) -> 0 | H25: =SUM(H15:H24) -> 0 | I25: =SUM(I15:I24) -> 0 | J25: =SUM(J15:J24) -> 0 | ... AB25: =SUM(AB15:AB24) -> 0
A26: جمع کل ایرانی و غیر ایرانی | C26: =SUM(C14+C25) -> 0 | D26: =SUM(D14+D25) -> 0 | E26: =SUM(E14+E25) -> 0 | F26: =SUM(F14+F25) -> 0 | G26: =SUM(G14+G25) -> 0 | H26: =SUM(H14+H25) -> 0 | I26: =SUM(I14+I25) -> 0 | J26: =SUM(J14+J25) -> 0 | ... AB26: =SUM(AB14+AB25) -> 0
D27: =SUM(D26:E26) -> 0 | F27: =I26+H26+G26+F26 -> 0 | J27: =M26+L26+K26+J26 -> 0 | N27: =SUM(N26:P26) -> 0 | Q27: =SUM(Q26:S26) -> 0 | T27: =SUM(T26:V26) -> 0 | W27: =SUM(W26:Y26) -> 0 | Z27: =SUM(Z26:AB26) -> 0
C29: موارد خاص : بستری در بیمارستان (حتی یک روز )- انواع بیماریها-عدم شیرخوردن- دیالیز - تزریق خون- تغذیه خوراکی یا وریدی کم پروتئین -npo -بیماری کبدی -نارسی - مادرpku-هیپرالمانتاسیون

Sheet خرداد
A1: آمارغربالگري p.k.u نوزادان سال 1403- ایرانی | C1: دانشگاه: قزوين مركز بهداشت شهيد بلنديان قزوين | H1: مركز بهداشتي درماني /پايگاه بهداشتي :
A2: رديف | B2: نام مركز/ پايگاه | C2: تعداد نوزادان غربالگري شده باراول | D2: جنس | F2: زمان انجام نمونه گيري نوبت اول بر حسب سن نوزاد به روز | J2: تعداد موارد زمان اعلام آزمايش مثبت غربالگري برحسب سن نوزاد به روز | N2: تعداد نتايج آزمايشات غربالگري p.k.u | Q2: تعداد موارد نمونه گيري مجدد براي بيماري p.k.u به تفكيك علت | T2: تعداد موارد نمونه گيري مجدد برحسب سن نوزاد به روز براي p.k.u | W2: تعداد موارد زمان اعلام آزمايش غربالگري مثبت (phe>4) نمونه هاي مجدد بر حسب سن | Z2: تعداد نتايج آزمايشات نوبت دوم
D3: دختر | E3: پسر | F3: 3-5 روز | G3: 6-14 روز | H3: 15-21 | I3: 22 وبيشتر | J3: 7-9 | K3: 10-14 | L3: 15-21 | M3: 22وبيشتر | N3: كمتر از 4 | O3: 4-19/9 | P3: 20وبيشتر | Q3: بستري دربيمارستان | R3: حالت خاص | S3: نمونه نامناسب | T3: كمتر از 14 | U3: 15-21 | V3: 22و بيشتر | W3: كمتر از 14 | X3: 15-21 | Y3: 22بيشتر | Z3: كمتر از 4 | AA3: 4-19/9 | AB3: >20
A4: 1
A5: 2
A6: 3
A7: 4
A8: 5
A9: 6
A10: 7
A11: 8
A12: 9
A13: 10
A14: جمع کل ایرانی | C14: =SUM(C4:C13) -> 0 | D14: =SUM(D4:D13) -> 0 | E14: =SUM(E4:E13) -> 0 | F14: =SUM(F4:F13) -> 0 | G14: =SUM(G4:G13) -> 0 | H14: =SUM(H4:H13) -> 0 | I14: =SUM(I4:I13) -> 0 | J14: =SUM(J4:J13) -> 0 | ... AB14: =SUM(AB4:AB13) -> 0
A15: 1 | B15: افاغنه
A16: 2
A17: 3
A18: 4
A19: 5
A20: 6
A21: 7
A22: 8
A23: 9
A24: 10
A25: جمع کل غیر ایرانی | C25: =SUM(C15:C24) -> 0 | D25: =SUM(D15:D24) -> 0 | E25: =SUM(E15:E24) -> 0 | F25: =SUM(F15:F24) -> 0 | G25: =SUM(G15:G24) -> 0 | H25: =SUM(H15:H24) -> 0 | I25: =SUM(I15:I24) -> 0 | J25: =SUM(J15:J24) -> 0 | ... AB25: =SUM(AB15:AB24) -> 0
A26: جمع کل ایرانی و غیر ایرانی | C26: =SUM(C14+C25) -> 0 | D26: =SUM(D14+D25) -> 0 | E26: =SUM(E14+E25) -> 0 | F26: =SUM(F14+F25) -> 0 | G26: =SUM(G14+G25) -> 0 | H26: =SUM(H14+H25) -> 0 | I26: =SUM(I14+I25) -> 0 | J26: =SUM(J14+J25) -> 0 | ... AB26: =SUM(AB14+AB25) -> 0
D27: =SUM(D26:E26) -> 0 | F27: =I26+H26+G26+F26 -> 0 | J27: =M26+L26+K26+J26 -> 0 | N27: =SUM(N26:P26) -> 0 | Q27: =SUM(Q26:S26) -> 0 | T27: =SUM(T26:V26) -> 0 | W27: =SUM(W26:Y26) -> 0 | Z27: =SUM(Z26:AB26) -> 0
C29: موارد خاص : بستری در بیمارستان (حتی یک روز )- انواع بیماریها-عدم شیرخوردن- دیالیز - تزریق خون- تغذیه خوراکی یا وریدی کم پروتئین -npo -بیماری کبدی -نارسی - مادرpku-هیپرالمانتاسیون

Sheet سه ماهه اول
A1: آمارغربالگري p.k.u نوزادان سال1403- ایرانی | C1: دانشگاه: قزوين مركز بهداشت شهيد بلنديان قزوين | H1: مركز بهداشتي درماني /پايگاه بهداشتي :
A2: رديف | B2: نام مركز/ پايگاه | C2: تعداد نوزادان غربالگري شده باراول | D2: جنس | F2: زمان انجام نمونه گيري نوبت اول بر حسب سن نوزاد به روز | J2: تعداد موارد زمان اعلام آزمايش مثبت غربالگري برحسب سن نوزاد به روز | N2: تعداد نتايج آزمايشات غربالگري p.k.u | Q2: تعداد موارد نمونه گيري مجدد براي بيماري p.k.u به تفكيك علت | T2: تعداد موارد نمونه گيري مجدد برحسب سن نوزاد به روز براي p.k.u | W2: تعداد موارد زمان اعلام آزمايش غربالگري مثبت (phe>4) نمونه هاي مجدد بر حسب سن | Z2: تعداد نتايج آزمايشات نوبت دوم
D3: دختر | E3: پسر | F3: 3-5 روز | G3: 6-14 روز | H3: 15-21 | I3: 22 وبيشتر | J3: 7-9 | K3: 10-14 | L3: 15-21 | M3: 22وبيشتر | N3: كمتر از 4 | O3: 4-19/9 | P3: 20وبيشتر | Q3: بستري دربيمارستان | R3: حالت خاص | S3: نمونه نامناسب | T3: كمتر از 14 | U3: 15-21 | V3: 22و بيشتر | W3: كمتر از 14 | X3: 15-21 | Y3: 22بيشتر | Z3: كمتر از 4 | AA3: 4-19/9 | AB3: >20
A4: 1 | C4: =خرداد!C4+ارديبهشت!C4+فروردين!C4 -> 0 | D4: =خرداد!D4+ارديبهشت!D4+فروردين!D4 -> 0 | E4: =خرداد!E4+ارديبهشت!E4+فروردين!E4 -> 0 | F4: =خرداد!F4+ارديبهشت!F4+فروردين!F4 -> 0 | G4: =خرداد!G4+ارديبهشت!G4+فروردين!G4 -> 0 | H4: =خرداد!H4+ارديبهشت!H4+فروردين!H4 -> 0 | I4: =خرداد!I4+ارديبهشت!I4+فروردين!I4 -> 0 | J4: =خرداد!J4+ارديبهشت!J4+فروردين!J4 -> 0 | ... AB4: =خرداد!AB4+ارديبهشت!AB4+فروردين!AB4 -> 0
A5: 2 | C5: =خرداد!C5+ارديبهشت!C5+فروردين!C5 -> 0 | D5: =خرداد!D5+ارديبهشت!D5+فروردين!D5 -> 0 | E5: =خرداد!E5+ارديبهشت!E5+فروردين!E5 -> 0 | F5: =خرداد!F5+ارديبهشت!F5+فروردين!F5 -> 0 | G5: =خرداد!G5+ارديبهشت!G5+فروردين!G5 -> 0 | H5: =خرداد!H5+ارديبهشت!H5+فروردين!H5 -> 0 | I5: =خرداد!I5+ارديبهشت!I5+فروردين!I5 -> 0 | J5: =خرداد!J5+ارديبهشت!J5+فروردين!J5 -> 0 | ... AB5: =خرداد!AB5+ارديبهشت!AB5+فروردين!AB5 -> 0
A6: 3 | C6: =خرداد!C6+ارديبهشت!C6+فروردين!C6 -> 0 | D6: =خرداد!D6+ارديبهشت!D6+فروردين!D6 -> 0 | E6: =خرداد!E6+ارديبهشت!E6+فروردين!E6 -> 0 | F6: =خرداد!F6+ارديبهشت!F6+فروردين!F6 -> 0 | G6: =خرداد!G6+ارديبهشت!G6+فروردين!G6 -> 0 | H6: =خرداد!H6+ارديبهشت!H6+فروردين!H6 -> 0 | I6: =خرداد!I6+ارديبهشت!I6+فروردين!I6 -> 0 | J6: =خرداد!J6+ارديبهشت!J6+فروردين!J6 -> 0 | ... AB6: =خرداد!AB6+ارديبهشت!AB6+فروردين!AB6 -> 0
A7: 4 | C7: =خرداد!C7+ارديبهشت!C7+فروردين!C7 -> 0 | D7: =خرداد!D7+ارديبهشت!D7+فروردين!D7 -> 0 | E7: =خرداد!E7+ارديبهشت!E7+فروردين!E7 -> 0 | F7: =خرداد!F7+ارديبهشت!F7+فروردين!F7 -> 0 | G7: =خرداد!G7+ارديبهشت!G7+فروردين!G7 -> 0 | H7: =خرداد!H7+ارديبهشت!H7+فروردين!H7 -> 0 | I7: =خرداد!I7+ارديبهشت!I7+فروردين!I7 -> 0 | J7: =خرداد!J7+ارديبهشت!J7+فروردين!J7 -> 0 | ... AB7: =خرداد!AB7+ارديبهشت!AB7+فروردين!AB7 -> 0
A8: 5 | C8: =خرداد!C8+ارديبهشت!C8+فروردين!C8 -> 0 | D8: =خرداد!D8+ارديبهشت!D8+فروردين!D8 -> 0 | E8: =خرداد!E8+ارديبهشت!E8+فروردين!E8 -> 0 | F8: =خرداد!F8+ارديبهشت!F8+فروردين!F8 -> 0 | G8: =خرداد!G8+ارديبهشت!G8+فروردين!G8 -> 0 | H8: =خرداد!H8+ارديبهشت!H8+فروردين!H8 -> 0 | I8: =خرداد!I8+ارديبهشت!I8+فروردين!I8 -> 0 | J8: =خرداد!J8+ارديبهشت!J8+فروردين!J8 -> 0 | ... AB8: =خرداد!AB8+ارديبهشت!AB8+فروردين!AB8 -> 0
A9: 6 | C9: =خرداد!C9+ارديبهشت!C9+فروردين!C9 -> 0 | D9: =خرداد!D9+ارديبهشت!D9+فروردين!D9 -> 0 | E9: =خرداد!E9+ارديبهشت!E9+فروردين!E9 -> 0 | F9: =خرداد!F9+ارديبهشت!F9+فروردين!F9 -> 0 | G9: =خرداد!G9+ارديبهشت!G9+فروردين!G9 -> 0 | H9: =خرداد!H9+ارديبهشت!H9+فروردين!H9 -> 0 | I9: =خرداد!I9+ارديبهشت!I9+فروردين!I9 -> 0 | J9: =خرداد!J9+ارديبهشت!J9+فروردين!J9 -> 0 | ... AB9: =خرداد!AB9+ارديبهشت!AB9+فروردين!AB9 -> 0
A10: 7 | C10: =خرداد!C10+ارديبهشت!C10+فروردين!C10 -> 0 | D10: =خرداد!D10+ارديبهشت!D10+فروردين!D10 -> 0 | E10: =خرداد!E10+ارديبهشت!E10+فروردين!E10 -> 0 | F10: =خرداد!F10+ارديبهشت!F10+فروردين!F10 -> 0 | G10: =خرداد!G10+ارديبهشت!G10+فروردين!G10 -> 0 | H10: =خرداد!H10+ارديبهشت!H10+فروردين!H10 -> 0 | I10: =خرداد!I10+ارديبهشت!I10+فروردين!I10 -> 0 | J10: =خرداد!J10+ارديبهشت!J10+فروردين!J10 -> 0 | ... AB10: =خرداد!AB10+ارديبهشت!AB10+فروردين!AB10 -> 0
A11: 8 | C11: =خرداد!C11+ارديبهشت!C11+فروردين!C11 -> 0 | D11: =خرداد!D11+ارديبهشت!D11+فروردين!D11 -> 0 | E11: =خرداد!E11+ارديبهشت!E11+فروردين!E11 -> 0 | F11: =خرداد!F11+ارديبهشت!F11+فروردين!F11 -> 0 | G11: =خرداد!G11+ارديبهشت!G11+فروردين!G11 -> 0 | H11: =خرداد!H11+ارديبهشت!H11+فروردين!H11 -> 0 | I11: =خرداد!I11+ارديبهشت!I11+فروردين!I11 -> 0 | J11: =خرداد!J11+ارديبهشت!J11+فروردين!J11 -> 0 | ... AB11: =خرداد!AB11+ارديبهشت!AB11+فروردين!AB11 -> 0
A12: 9 | C12: =خرداد!C12+ارديبهشت!C12+فروردين!C12 -> 0 | D12: =خرداد!D12+ارديبهشت!D12+فروردين!D12 -> 0 | E12: =خرداد!E12+ارديبهشت!E12+فروردين!E12 -> 0 | F12: =خرداد!F12+ارديبهشت!F12+فروردين!F12 -> 0 | G12: =خرداد!G12+ارديبهشت!G12+فروردين!G12 -> 0 | H12: =خرداد!H12+ارديبهشت!H12+فروردين!H12 -> 0 | I12: =خرداد!I12+ارديبهشت!I12+فروردين!I12 -> 0 | J12: =خرداد!J12+ارديبهشت!J12+فروردين!J12 -> 0 | ... AB12: =خرداد!AB12+ارديبهشت!AB12+فروردين!AB12 -> 0
A13: 10 | C13: =خرداد!C13+ارديبهشت!C13+فروردين!C13 -> 0 | D13: =خرداد!D13+ارديبهشت!D13+فروردين!D13 -> 0 | E13: =خرداد!E13+ارديبهشت!E13+فروردين!E13 -> 0 | F13: =خرداد!F13+ارديبهشت!F13+فروردين!F13 -> 0 | G13: =خرداد!G13+ارديبهشت!G13+فروردين!G13 -> 0 | H13: =خرداد!H13+ارديبهشت!H13+فروردين!H13 -> 0 | I13: =خرداد!I13+ارديبهشت!I13+فروردين!I13 -> 0 | J13: =خرداد!J13+ارديبهشت!J13+فروردين!J13 -> 0 | ... AB13: =خرداد!AB13+ارديبهشت!AB13+فروردين!AB13 -> 0
A14: جمع کل ایرانی | C14: =SUM(C4:C13) -> 0 | D14: =SUM(D4:D13) -> 0 | E14: =SUM(E4:E13) -> 0 | F14: =SUM(F4:F13) -> 0 | G14: =SUM(G4:G13) -> 0 | H14: =SUM(H4:H13) -> 0 | I14: =SUM(I4:I13) -> 0 | J14: =SUM(J4:J13) -> 0 | ... AB14: =SUM(AB4:AB13) -> 0
A15: 1 | B15: افاغنه | C15: =خرداد!C15+ارديبهشت!C15+فروردين!C15 -> 0 | D15: =خرداد!D15+ارديبهشت!D15+فروردين!D15 -> 0 | E15: =خرداد!E15+ارديبهشت!E15+فروردين!E15 -> 0 | F15: =خرداد!F15+ارديبهشت!F15+فروردين!F15 -> 0 | G15: =خرداد!G15+ارديبهشت!G15+فروردين!G15 -> 0 | H15: =خرداد!H15+ارديبهشت!H15+فروردين!H15 -> 0 | I15: =خرداد!I15+ارديبهشت!I15+فروردين!I15 -> 0 | J15: =خرداد!J15+ارديبهشت!J15+فروردين!J15 -> 0 | ... AB15: =خرداد!AB15+ارديبهشت!AB15+فروردين!AB15 -> 0
A16: 2 | C16: =خرداد!C16+ارديبهشت!C16+فروردين!C16 -> 0 | D16: =خرداد!D16+ارديبهشت!D16+فروردين!D16 -> 0 | E16: =خرداد!E16+ارديبهشت!E16+فروردين!E16 -> 0 | F16: =خرداد!F16+ارديبهشت!F16+فروردين!F16 -> 0 | G16: =خرداد!G16+ارديبهشت!G16+فروردين!G16 -> 0 | H16: =خرداد!H16+ارديبهشت!H16+فروردين!H16 -> 0 | I16: =خرداد!I16+ارديبهشت!I16+فروردين!I16 -> 0 | J16: =خرداد!J16+ارديبهشت!J16+فروردين!J16 -> 0 | ... AB16: =خرداد!AB16+ارديبهشت!AB16+فروردين!AB16 -> 0
A17: 3 | C17: =خرداد!C17+ارديبهشت!C17+فروردين!C17 -> 0 | D17: =خرداد!D17+ارديبهشت!D17+فروردين!D17 -> 0 | E17: =خرداد!E17+ارديبهشت!E17+فروردين!E17 -> 0 | F17: =خرداد!F17+ارديبهشت!F17+فروردين!F17 -> 0 | G17: =خرداد!G17+ارديبهشت!G17+فروردين!G17 -> 0 | H17: =خرداد!H17+ارديبهشت!H17+فروردين!H17 -> 0 | I17: =خرداد!I17+ارديبهشت!I17+فروردين!I17 -> 0 | J17: =خرداد!J17+ارديبهشت!J17+فروردين!J17 -> 0 | ... AB17: =خرداد!AB17+ارديبهشت!AB17+فروردين!AB17 -> 0
A18: 4 | C18: =خرداد!C18+ارديبهشت!C18+فروردين!C18 -> 0 | D18: =خرداد!D18+ارديبهشت!D18+فروردين!D18 -> 0 | E18: =خرداد!E18+ارديبهشت!E18+فروردين!E18 -> 0 | F18: =خرداد!F18+ارديبهشت!F18+فروردين!F18 -> 0 | G18: =خرداد!G18+ارديبهشت!G18+فروردين!G18 -> 0 | H18: =خرداد!H18+ارديبهشت!H18+فروردين!H18 -> 0 | I18: =خرداد!I18+ارديبهشت!I18+فروردين!I18 -> 0 | J18: =خرداد!J18+ارديبهشت!J18+فروردين!J18 -> 0 | ... AB18: =خرداد!AB18+ارديبهشت!AB18+فروردين!AB18 -> 0
A19: 5 | C19: =خرداد!C19+ارديبهشت!C19+فروردين!C19 -> 0 | D19: =خرداد!D19+ارديبهشت!D19+فروردين!D19 -> 0 | E19: =خرداد!E19+ارديبهشت!E19+فروردين!E19 -> 0 | F19: =خرداد!F19+ارديبهشت!F19+فروردين!F19 -> 0 | G19: =خرداد!G19+ارديبهشت!G19+فروردين!G19 -> 0 | H19: =خرداد!H19+ارديبهشت!H19+فروردين!H19 -> 0 | I19: =خرداد!I19+ارديبهشت!I19+فروردين!I19 -> 0 | J19: =خرداد!J19+ارديبهشت!J19+فروردين!J19 -> 0 | ... AB19: =خرداد!AB19+ارديبهشت!AB19+فروردين!AB19 -> 0
A20: 6 | C20: =خرداد!C20+ارديبهشت!C20+فروردين!C20 -> 0 | D20: =خرداد!D20+ارديبهشت!D20+فروردين!D20 -> 0 | E20: =خرداد!E20+ارديبهشت!E20+فروردين!E20 -> 0 | F20: =خرداد!F20+ارديبهشت!F20+فروردين!F20 -> 0 | G20: =خرداد!G20+ارديبهشت!G20+فروردين!G20 -> 0 | H20: =خرداد!H20+ارديبهشت!H20+فروردين!H20 -> 0 | I20: =خرداد!I20+ارديبهشت!I20+فروردين!I20 -> 0 | J20: =خرداد!J20+ارديبهشت!J20+فروردين!J20 -> 0 | ... AB20: =خرداد!AB20+ارديبهشت!AB20+فروردين!AB20 -> 0
A21: 7 | C21: =خرداد!C21+ارديبهشت!C21+فروردين!C21 -> 0 | D21: =خرداد!D21+ارديبهشت!D21+فروردين!D21 -> 0 | E21: =خرداد!E21+ارديبهشت!E21+فروردين!E21 -> 0 | F21: =خرداد!F21+ارديبهشت!F21+فروردين!F21 -> 0 | G21: =خرداد!G21+ارديبهشت!G21+فروردين!G21 -> 0 | H21: =خرداد!H21+ارديبهشت!H21+فروردين!H21 -> 0 | I21: =خرداد!I21+ارديبهشت!I21+فروردين!I21 -> 0 | J21: =خرداد!J21+ارديبهشت!J21+فروردين!J21 -> 0 | ... AB21: =خرداد!AB21+ارديبهشت!AB21+فروردين!AB21 -> 0
A22: 8 | C22: =خرداد!C22+ارديبهشت!C22+فروردين!C22 -> 0 | D22: =خرداد!D22+ارديبهشت!D22+فروردين!D22 -> 0 | E22: =خرداد!E22+ارديبهشت!E22+فروردين!E22 -> 0 | F22: =خرداد!F22+ارديبهشت!F22+فروردين!F22 -> 0 | G22: =خرداد!G22+ارديبهشت!G22+فروردين!G22 -> 0 | H22: =خرداد!H22+ارديبهشت!H22+فروردين!H22 -> 0 | I22: =خرداد!I22+ارديبهشت!I22+فروردين!I22 -> 0 | J22: =خرداد!J22+ارديبهشت!J22+فروردين!J22 -> 0 | ... AB22: =خرداد!AB22+ارديبهشت!AB22+فروردين!AB22 -> 0
A23: 9 | C23: =خرداد!C23+ارديبهشت!C23+فروردين!C23 -> 0 | D23: =خرداد!D23+ارديبهشت!D23+فروردين!D23 -> 0 | E23: =خرداد!E23+ارديبهشت!E23+فروردين!E23 -> 0 | F23: =خرداد!F23+ارديبهشت!F23+فروردين!F23 -> 0 | G23: =خرداد!G23+ارديبهشت!G23+فروردين!G23 -> 0 | H23: =خرداد!H23+ارديبهشت!H23+فروردين!H23 -> 0 | I23: =خرداد!I23+ارديبهشت!I23+فروردين!I23 -> 0 | J23: =خرداد!J23+ارديبهشت!J23+فروردين!J23 -> 0 | ... AB23: =خرداد!AB23+ارديبهشت!AB23+فروردين!AB23 -> 0
A24: 10 | C24: =خرداد!C24+ارديبهشت!C24+فروردين!C24 -> 0 | D24: =خرداد!D24+ارديبهشت!D24+فروردين!D24 -> 0 | E24: =خرداد!E24+ارديبهشت!E24+فروردين!E24 -> 0 | F24: =خرداد!F24+ارديبهشت!F24+فروردين!F24 -> 0 | G24: =خرداد!G24+ارديبهشت!G24+فروردين!G24 -> 0 | H24: =خرداد!H24+ارديبهشت!H24+فروردين!H24 -> 0 | I24: =خرداد!I24+ارديبهشت!I24+فروردين!I24 -> 0 | J24: =خرداد!J24+ارديبهشت!J24+فروردين!J24 -> 0 | ... AB24: =خرداد!AB24+ارديبهشت!AB24+فروردين!AB24 -> 0
A25: جمع کل غیر ایرانی | C25: =SUM(C15:C24) -> 0 | D25: =SUM(D15:D24) -> 0 | E25: =SUM(E15:E24) -> 0 | F25: =SUM(F15:F24) -> 0 | G25: =SUM(G15:G24) -> 0 | H25: =SUM(H15:H24) -> 0 | I25: =SUM(I15:I24) -> 0 | J25: =SUM(J15:J24) -> 0 | ... AB25: =SUM(AB15:AB24) -> 0
A26: جمع کل ایرانی و غیر ایرانی | C26: =SUM(C14+C25) -> 0 | D26: =SUM(D14+D25) -> 0 | E26: =SUM(E14+E25) -> 0 | F26: =SUM(F14+F25) -> 0 | G26: =SUM(G14+G25) -> 0 | H26: =SUM(H14+H25) -> 0 | I26: =SUM(I14+I25) -> 0 | J26: =SUM(J14+J25) -> 0 | ... AB26: =SUM(AB14+AB25) -> 0
D27: =SUM(D26:E26) -> 0 | F27: =I26+H26+G26+F26 -> 0 | J27: =M26+L26+K26+J26 -> 0 | N27: =SUM(N26:P26) -> 0 | Q27: =SUM(Q26:S26) -> 0 | T27: =SUM(T26:V26) -> 0 | W27: =SUM(W26:Y26) -> 0 | Z27: =SUM(Z26:AB26) -> 0
C29: موارد خاص : بستری در بیمارستان (حتی یک روز )- انواع بیماریها-عدم شیرخوردن- دیالیز - تزریق خون- تغذیه خوراکی یا وریدی کم پروتئین -npo -بیماری کبدی -نارسی - مادرpku-هیپرالمانتاسیون

Sheet تير
A1: آمارغربالگري p.k.u نوزادان سال 14.3 ایرانی | C1: دانشگاه: قزوين مركز بهداشت شهيد بلنديان قزوين | H1: مركز بهداشتي درماني /پايگاه بهداشتي :
A2: رديف | B2: نام مركز/ پايگاه | C2: تعداد نوزادان غربالگري شده باراول | D2: جنس | F2: زمان انجام نمونه گيري نوبت اول بر حسب سن نوزاد به روز | J2: تعداد موارد زمان اعلام آزمايش مثبت غربالگري برحسب سن نوزاد به روز | N2: تعداد نتايج آزمايشات غربالگري p.k.u | Q2: تعداد موارد نمونه گيري مجدد براي بيماري p.k.u به تفكيك علت | T2: تعداد موارد نمونه گيري مجدد برحسب سن نوزاد به روز براي p.k.u | W2: تعداد موارد زمان اعلام آزمايش غربالگري مثبت (phe>4) نمونه هاي مجدد بر حسب سن | Z2: تعداد نتايج آزمايشات نوبت دوم
D3: دختر | E3: پسر | F3: 3-5 روز | G3: 6-14 روز | H3: 15-21 | I3: 22 وبيشتر | J3: 7-9 | K3: 10-14 | L3: 15-21 | M3: 22وبيشتر | N3: كمتر از 4 | O3: 4-19/9 | P3: 20وبيشتر | Q3: بستري دربيمارستان | R3: حالت خاص | S3: نمونه نامناسب | T3: كمتر از 14 | U3: 15-21 | V3: 22و بيشتر | W3: كمتر از 14 | X3: 15-21 | Y3: 22بيشتر | Z3: كمتر از 4 | AA3: 4-19/9 | AB3: >20
A4: 1
A5: 2
A6: 3
A7: 4
A8: 5
A9: 6
A10: 7
A11: 8
A12: 9
A13: 10
A14: جمع کل ایرانی | C14: =SUM(C4:C13) -> 0 | D14: =SUM(D4:D13) -> 0 | E14: =SUM(E4:E13) -> 0 | F14: =SUM(F4:F13) -> 0 | G14: =SUM(G4:G13) -> 0 | H14: =SUM(H4:H13) -> 0 | I14: =SUM(I4:I13) -> 0 | J14: =SUM(J4:J13) -> 0 | ... AB14: =SUM(AB4:AB13) -> 0
A15: 1 | B15: افاغنه
A16: 2
A17: 3
A18: 4
A19: 5
A20: 6
A21: 7
A22: 8
A23: 9
A24: 10
A25: جمع کل غیر ایرانی | C25: =SUM(C15:C24) -> 0 | D25: =SUM(D15:D24) -> 0 | E25: =SUM(E15:E24) -> 0 | F25: =SUM(F15:F24) -> 0 | G25: =SUM(G15:G24) -> 0 | H25: =SUM(H15:H24) -> 0 | I25: =SUM(I15:I24) -> 0 | J25: =SUM(J15:J24) -> 0 | ... AB25: =SUM(AB15:AB24) -> 0
A26: جمع کل ایرانی و غیر ایرانی | C26: =SUM(C14+C25) -> 0 | D26: =SUM(D14+D25) -> 0 | E26: =SUM(E14+E25) -> 0 | F26: =SUM(F14+F25) -> 0 | G26: =SUM(G14+G25) -> 0 | H26: =SUM(H14+H25) -> 0 | I26: =SUM(I14+I25) -> 0 | J26: =SUM(J14+J25) -> 0 | ... AB26: =SUM(AB14+AB25) -> 0
D27: =SUM(D26:E26) -> 0 | F27: =I26+H26+G26+F26 -> 0 | J27: =M26+L26+K26+J26 -> 0 | N27: =SUM(N26:P26) -> 0 | Q27: =SUM(Q26:S26) -> 0 | T27: =SUM(T26:V26) -> 0 | W27: =SUM(W26:Y26) -> 0 | Z27: =SUM(Z26:AB26) -> 0
C29: موارد خاص : بستری در بیمارستان (حتی یک روز )- انواع بیماریها-عدم شیرخوردن- دیالیز - تزریق خون- تغذیه خوراکی یا وریدی کم پروتئین -npo -بیماری کبدی -نارسی - مادرpku-هیپرالمانتاسیون

Sheet مرداد
A1: آمارغربالگري p.k.u نوزادان سال 1403 ایرانی | C1: دانشگاه: قزوين مركز بهداشت شهيد بلنديان قزوين | H1: مركز بهداشتي درماني /پايگاه بهداشتي :
A2: رديف | B2: نام مركز/ پايگاه | C2: تعداد نوزادان غربالگري شده باراول | D2: جنس | F2: زمان انجام نمونه گيري نوبت اول بر حسب سن نوزاد به روز | J2: تعداد موارد زمان اعلام آزمايش مثبت غربالگري برحسب سن نوزاد به روز | N2: تعداد نتايج آزمايشات غربالگري p.k.u | Q2: تعداد موارد نمونه گيري مجدد براي بيماري p.k.u به تفكيك علت | T2: تعداد موارد نمونه گيري مجدد برحسب سن نوزاد به روز براي p.k.u | W2: تعداد موارد زمان اعلام آزمايش غربالگري مثبت (phe>4) نمونه هاي مجدد بر حسب سن | Z2: تعداد نتايج آزمايشات نوبت دوم
D3: دختر | E3: پسر | F3: 3-5 روز | G3: 6-14 روز | H3: 15-21 | I3: 22 وبيشتر | J3: 7-9 | K3: 10-14 | L3: 15-21 | M3: 22وبيشتر | N3: كمتر از 4 | O3: 4-19/9 | P3: 20وبيشتر | Q3: بستري دربيمارستان | R3: حالت خاص | S3: نمونه نامناسب | T3: كمتر از 14 | U3: 15-21 | V3: 22و بيشتر | W3: كمتر از 14 | X3: 15-21 | Y3: 22بيشتر | Z3: كمتر از 4 | AA3: 4-19/9 | AB3: >20
A4: 1
A5: 2
A6: 3
A7: 4
A8: 5
A9: 6
A10: 7
A11: 8
A12: 9
A13: 10
A14: جمع کل ایرانی | C14: =SUM(C4:C13) -> 0 | D14: =SUM(D4:D13) -> 0 | E14: =SUM(E4:E13) -> 0 | F14: =SUM(F4:F13) -> 0 | G14: =SUM(G4:G13) -> 0 | H14: =SUM(H4:H13) -> 0 | I14: =SUM(I4:I13) -> 0 | J14: =SUM(J4:J13) -> 0 | ... AB14: =SUM(AB4:AB13) -> 0
A15: 1
A16: 2
A17: 3
A18: 4
A19: 5
A20: 6
A21: 7
A22: 8
A23: 9
A24: 10
A25: جمع کل غیر ایرانی | C25: =SUM(C15:C24) -> 0 | D25: =SUM(D15:D24) -> 0 | E25: =SUM(E15:E24) -> 0 | F25: =SUM(F15:F24) -> 0 | G25: =SUM(G15:G24) -> 0 | H25: =SUM(H15:H24) -> 0 | I25: =SUM(I15:I24) -> 0 | J25: =SUM(J15:J24) -> 0 | ... AB25: =SUM(AB15:AB24) -> 0
A26: جمع کل ایرانی و غیر ایرانی | C26: =SUM(C14+C25) -> 0 | D26: =SUM(D14+D25) -> 0 | E26: =SUM(E14+E25) -> 0 | F26: =SUM(F14+F25) -> 0 | G26: =SUM(G14+G25) -> 0 | H26: =SUM(H14+H25) -> 0 | I26: =SUM(I14+I25) -> 0 | J26: =SUM(J14+J25) -> 0 | ... AB26: =SUM(AB14+AB25) -> 0
D27: =SUM(D26:E26) -> 0 | F27: =I26+H26+G26+F26 -> 0 | J27: =M26+L26+K26+J26 -> 0 | N27: =SUM(N26:P26) -> 0 | Q27: =SUM(Q26:S26) -> 0 | T27: =SUM(T26:V26) -> 0 | W27: =SUM(W26:Y26) -> 0 | Z27: =SUM(Z26:AB26) -> 0
C29: موارد خاص : بستری در بیمارستان (حتی یک روز )- انواع بیماریها-عدم شیرخوردن- دیالیز - تزریق خون- تغذیه خوراکی یا وریدی کم پروتئین -npo -بیماری کبدی -نارسی - مادرpku-هیپرالمانتاسیون

Sheet شهريور
A1: آمارغربالگري p.k.u نوزادان سال 1403 ایرانی | C1: دانشگاه: قزوين مركز بهداشت شهيد بلنديان قزوين | H1: مركز بهداشتي درماني /پايگاه بهداشتي :
A2: رديف | B2: نام مركز/ پايگاه | C2: تعداد نوزادان غربالگري شده باراول | D2: جنس | F2: زمان انجام نمونه گيري نوبت اول بر حسب سن نوزاد به روز | J2: تعداد موارد زمان اعلام آزمايش مثبت غربالگري برحسب سن نوزاد به روز | N2: تعداد نتايج آزمايشات غربالگري p.k.u | Q2: تعداد موارد نمونه گيري مجدد براي بيماري p.k.u به تفكيك علت | T2: تعداد موارد نمونه گيري مجدد برحسب سن نوزاد به روز براي p.k.u | W2: تعداد موارد زمان اعلام آزمايش غربالگري مثبت (phe>4) نمونه هاي مجدد بر حسب سن | Z2: تعداد نتايج آزمايشات نوبت دوم
D3: دختر | E3: پسر | F3: 3-5 روز | G3: 6-14 روز | H3: 15-21 | I3: 22 وبيشتر | J3: 7-9 | K3: 10-14 | L3: 15-21 | M3: 22وبيشتر | N3: كمتر از 4 | O3: 4-19/9 | P3: 20وبيشتر | Q3: بستري دربيمارستان | R3: حالت خاص | S3: نمونه نامناسب | T3: كمتر از 14 | U3: 15-21 | V3: 22و بيشتر | W3: كمتر از 14 | X3: 15-21 | Y3: 22بيشتر | Z3: كمتر از 4 | AA3: 4-19/9 | AB3: >20
A4: 1
A5: 2
A6: 3
A7: 4
A8: 5
A9: 6
A10: 7
A11: 8
A12: 9
A13: 10
A14: جمع کل ایرانی | C14: =SUM(C4:C13) -> 0 | D14: =SUM(D4:D13) -> 0 | E14: =SUM(E4:E13) -> 0 | F14: =SUM(F4:F13) -> 0 | G14: =SUM(G4:G13) -> 0 | H14: =SUM(H4:H13) -> 0 | I14: =SUM(I4:I13) -> 0 | J14: =SUM(J4:J13) -> 0 | ... AB14: =SUM(AB4:AB13) -> 0
A15: 1 | B15: افاغنه
A16: 2
A17: 3
A18: 4
A19: 5
A20: 6
A21: 7
A22: 8
A23: 9
A24: 10
A25: جمع کل غیر ایرانی | C25: =SUM(C15:C24) -> 0 | D25: =SUM(D15:D24) -> 0 | E25: =SUM(E15:E24) -> 0 | F25: =SUM(F15:F24) -> 0 | G25: =SUM(G15:G24) -> 0 | H25: =SUM(H15:H24) -> 0 | I25: =SUM(I15:I24) -> 0 | J25: =SUM(J15:J24) -> 0 | ... AB25: =SUM(AB15:AB24) -> 0
A26: جمع کل ایرانی و غیر ایرانی | C26: =SUM(C14+C25) -> 0 | D26: =SUM(D14+D25) -> 0 | E26: =SUM(E14+E25) -> 0 | F26: =SUM(F14+F25) -> 0 | G26: =SUM(G14+G25) -> 0 | H26: =SUM(H14+H25) -> 0 | I26: =SUM(I14+I25) -> 0 | J26: =SUM(J14+J25) -> 0 | ... AB26: =SUM(AB14+AB25) -> 0
D27: =SUM(D26:E26) -> 0 | F27: =I26+H26+G26+F26 -> 0 | J27: =M26+L26+K26+J26 -> 0 | N27: =SUM(N26:P26) -> 0 | Q27: =SUM(Q26:S26) -> 0 | T27: =SUM(T26:V26) -> 0 | W27: =SUM(W26:Y26) -> 0 | Z27: =SUM(Z26:AB26) -> 0
C29: موارد خاص : بستری در بیمارستان (حتی یک روز )- انواع بیماریها-عدم شیرخوردن- دیالیز - تزریق خون- تغذیه خوراکی یا وریدی کم پروتئین -npo -بیماری کبدی -نارسی - مادرpku-هیپرالمانتاسیون

Sheet سه ماهه دوم
A1: آمارغربالگري p.k.u نوزادان سال 1403 ایرانی | C1: دانشگاه: قزوين مركز بهداشت شهيد بلنديان قزوين | H1: مركز بهداشتي درماني /پايگاه بهداشتي :
A2: رديف | B2: نام مركز/ پايگاه | C2: تعداد نوزادان غربالگري شده باراول | D2: جنس | F2: زمان انجام نمونه گيري نوبت اول بر حسب سن نوزاد به روز | J2: تعداد موارد زمان اعلام آزمايش مثبت غربالگري برحسب سن نوزاد به روز | N2: تعداد نتايج آزمايشات غربالگري p.k.u | Q2: تعداد موارد نمونه گيري مجدد براي بيماري p.k.u به تفكيك علت | T2: تعداد موارد نمونه گيري مجدد برحسب سن نوزاد به روز براي p.k.u | W2: تعداد موارد زمان اعلام آزمايش غربالگري مثبت (phe>4) نمونه هاي مجدد بر حسب سن | Z2: تعداد نتايج آزمايشات نوبت دوم
D3: دختر | E3: پسر | F3: 3-5 روز | G3: 6-14 روز | H3: 15-21 | I3: 22 وبيشتر | J3: 7-9 | K3: 10-14 | L3: 15-21 | M3: 22وبيشتر | N3: كمتر از 4 | O3: 4-19/9 | P3: 20وبيشتر | Q3: بستري دربيمارستان | R3: حالت خاص | S3: نمونه نامناسب | T3: كمتر از 14 | U3: 15-21 | V3: 22و بيشتر | W3: كمتر از 14 | X3: 15-21 | Y3: 22بيشتر | Z3: كمتر از 4 | AA3: 4-19/9 | AB3: >20
A4: 1 | C4: =شهريور!C4+مرداد!C4+تير!C4 -> 0 | D4: =شهريور!D4+مرداد!D4+تير!D4 -> 0 | E4: =شهريور!E4+مرداد!E4+تير!E4 -> 0 | F4: =شهريور!F4+مرداد!F4+تير!F4 -> 0 | G4: =شهريور!G4+مرداد!G4+تير!G4 -> 0 | H4: =شهريور!H4+مرداد!H4+تير!H4 -> 0 | I4: =شهريور!I4+مرداد!I4+تير!I4 -> 0 | J4: =شهريور!J4+مرداد!J4+تير!J4 -> 0 | ... AB4: =شهريور!AB4+مرداد!AB4+تير!AB4 -> 0
A5: 2 | C5: =شهريور!C5+مرداد!C5+تير!C5 -> 0 | D5: =شهريور!D5+مرداد!D5+تير!D5 -> 0 | E5: =شهريور!E5+مرداد!E5+تير!E5 -> 0 | F5: =شهريور!F5+مرداد!F5+تير!F5 -> 0 | G5: =شهريور!G5+مرداد!G5+تير!G5 -> 0 | H5: =شهريور!H5+مرداد!H5+تير!H5 -> 0 | I5: =شهريور!I5+مرداد!I5+تير!I5 -> 0 | J5: =شهريور!J5+مرداد!J5+تير!J5 -> 0 | ... AB5: =شهريور!AB5+مرداد!AB5+تير!AB5 -> 0
A6: 3 | C6: =شهريور!C6+مرداد!C6+تير!C6 -> 0 | D6: =شهريور!D6+مرداد!D6+تير!D6 -> 0 | E6: =شهريور!E6+مرداد!E6+تير!E6 -> 0 | F6: =شهريور!F6+مرداد!F6+تير!F6 -> 0 | G6: =شهريور!G6+مرداد!G6+تير!G6 -> 0 | H6: =شهريور!H6+مرداد!H6+تير!H6 -> 0 | I6: =شهريور!I6+مرداد!I6+تير!I6 -> 0 | J6: =شهريور!J6+مرداد!J6+تير!J6 -> 0 | ... AB6: =شهريور!AB6+مرداد!AB6+تير!AB6 -> 0
A7: 4 | C7: =شهريور!C7+مرداد!C7+تير!C7 -> 0 | D7: =شهريور!D7+مرداد!D7+تير!D7 -> 0 | E7: =شهريور!E7+مرداد!E7+تير!E7 -> 0 | F7: =شهريور!F7+مرداد!F7+تير!F7 -> 0 | G7: =شهريور!G7+مرداد!G7+تير!G7 -> 0 | H7: =شهريور!H7+مرداد!H7+تير!H7 -> 0 | I7: =شهريور!I7+مرداد!I7+تير!I7 -> 0 | J7: =شهريور!J7+مرداد!J7+تير!J7 -> 0 | ... AB7: =شهريور!AB7+مرداد!AB7+تير!AB7 -> 0
A8: 5 | C8: =شهريور!C8+مرداد!C8+تير!C8 -> 0 | D8: =شهريور!D8+مرداد!D8+تير!D8 -> 0 | E8: =شهريور!E8+مرداد!E8+تير!E8 -> 0 | F8: =شهريور!F8+مرداد!F8+تير!F8 -> 0 | G8: =شهريور!G8+مرداد!G8+تير!G8 -> 0 | H8: =شهريور!H8+مرداد!H8+تير!H8 -> 0 | I8: =شهريور!I8+مرداد!I8+تير!I8 -> 0 | J8: =شهريور!J8+مرداد!J8+تير!J8 -> 0 | ... AB8: =شهريور!AB8+مرداد!AB8+تير!AB8 -> 0
A9: 6 | C9: =شهريور!C9+مرداد!C9+تير!C9 -> 0 | D9: =شهريور!D9+مرداد!D9+تير!D9 -> 0 | E9: =شهريور!E9+مرداد!E9+تير!E9 -> 0 | F9: =شهريور!F9+مرداد!F9+تير!F9 -> 0 | G9: =شهريور!G9+مرداد!G9+تير!G9 -> 0 | H9: =شهريور!H9+مرداد!H9+تير!H9 -> 0 | I9: =شهريور!I9+مرداد!I9+تير!I9 -> 0 | J9: =شهريور!J9+مرداد!J9+تير!J9 -> 0 | ... AB9: =شهريور!AB9+مرداد!AB9+تير!AB9 -> 0
A10: 7 | C10: =شهريور!C10+مرداد!C10+تير!C10 -> 0 | D10: =شهريور!D10+مرداد!D10+تير!D10 -> 0 | E10: =شهريور!E10+مرداد!E10+تير!E10 -> 0 | F10: =شهريور!F10+مرداد!F10+تير!F10 -> 0 | G10: =شهريور!G10+مرداد!G10+تير!G10 -> 0 | H10: =شهريور!H10+مرداد!H10+تير!H10 -> 0 | I10: =شهريور!I10+مرداد!I10+تير!I10 -> 0 | J10: =شهريور!J10+مرداد!J10+تير!J10 -> 0 | ... AB10: =شهريور!AB10+مرداد!AB10+تير!AB10 -> 0
A11: 8 | C11: =شهريور!C11+مرداد!C11+تير!C11 -> 0 | D11: =شهريور!D11+مرداد!D11+تير!D11 -> 0 | E11: =شهريور!E11+مرداد!E11+تير!E11 -> 0 | F11: =شهريور!F11+مرداد!F11+تير!F11 -> 0 | G11: =شهريور!G11+مرداد!G11+تير!G11 -> 0 | H11: =شهريور!H11+مرداد!H11+تير!H11 -> 0 | I11: =شهريور!I11+مرداد!I11+تير!I11 -> 0 | J11: =شهريور!J11+مرداد!J11+تير!J11 -> 0 | ... AB11: =شهريور!AB11+مرداد!AB11+تير!AB11 -> 0
A12: 9 | C12: =شهريور!C12+مرداد!C12+تير!C12 -> 0 | D12: =شهريور!D12+مرداد!D12+تير!D12 -> 0 | E12: =شهريور!E12+مرداد!E12+تير!E12 -> 0 | F12: =شهريور!F12+مرداد!F12+تير!F12 -> 0 | G12: =شهريور!G12+مرداد!G12+تير!G12 -> 0 | H12: =شهريور!H12+مرداد!H12+تير!H12 -> 0 | I12: =شهريور!I12+مرداد!I12+تير!I12 -> 0 | J12: =شهريور!J12+مرداد!J12+تير!J12 -> 0 | ... AB12: =شهريور!AB12+مرداد!AB12+تير!AB12 -> 0
A13: 10 | C13: =شهريور!C13+مرداد!C13+تير!C13 -> 0 | D13: =شهريور!D13+مرداد!D13+تير!D13 -> 0 | E13: =شهريور!E13+مرداد!E13+تير!E13 -> 0 | F13: =شهريور!F13+مرداد!F13+تير!F13 -> 0 | G13: =شهريور!G13+مرداد!G13+تير!G13 -> 0 | H13: =شهريور!H13+مرداد!H13+تير!H13 -> 0 | I13: =شهريور!I13+مرداد!I13+تير!I13 -> 0 | J13: =شهريور!J13+مرداد!J13+تير!J13 -> 0 | ... AB13: =شهريور!AB13+مرداد!AB13+تير!AB13 -> 0
A14: جمع کل ایرانی | C14: =SUM(C4:C13) -> 0 | D14: =SUM(D4:D13) -> 0 | E14: =SUM(E4:E13) -> 0 | F14: =SUM(F4:F13) -> 0 | G14: =SUM(G4:G13) -> 0 | H14: =SUM(H4:H13) -> 0 | I14: =SUM(I4:I13) -> 0 | J14: =SUM(J4:J13) -> 0 | ... AB14: =SUM(AB4:AB13) -> 0
A15: 1 | B15: افاغنه | C15: =شهريور!C15+مرداد!C15+تير!C15 -> 0 | D15: =شهريور!D15+مرداد!D15+تير!D15 -> 0 | E15: =شهريور!E15+مرداد!E15+تير!E15 -> 0 | F15: =شهريور!F15+مرداد!F15+تير!F15 -> 0 | G15: =شهريور!G15+مرداد!G15+تير!G15 -> 0 | H15: =شهريور!H15+مرداد!H15+تير!H15 -> 0 | I15: =شهريور!I15+مرداد!I15+تير!I15 -> 0 | J15: =شهريور!J15+مرداد!J15+تير!J15 -> 0 | ... AB15: =شهريور!AB15+مرداد!AB15+تير!AB15 -> 0
A16: 2 | C16: =شهريور!C16+مرداد!C16+تير!C16 -> 0 | D16: =شهريور!D16+مرداد!D16+تير!D16 -> 0 | E16: =شهريور!E16+مرداد!E16+تير!E16 -> 0 | F16: =شهريور!F16+مرداد!F16+تير!F16 -> 0 | G16: =شهريور!G16+مرداد!G16+تير!G16 -> 0 | H16: =شهريور!H16+مرداد!H16+تير!H16 -> 0 | I16: =شهريور!I16+مرداد!I16+تير!I16 -> 0 | J16: =شهريور!J16+مرداد!J16+تير!J16 -> 0 | ... AB16: =شهريور!AB16+مرداد!AB16+تير!AB16 -> 0
A17: 3 | C17: =شهريور!C17+مرداد!C17+تير!C17 -> 0 | D17: =شهريور!D17+مرداد!D17+تير!D17 -> 0 | E17: =شهريور!E17+مرداد!E17+تير!E17 -> 0 | F17: =شهريور!F17+مرداد!F17+تير!F17 -> 0 | G17: =شهريور!G17+مرداد!G17+تير!G17 -> 0 | H17: =شهريور!H17+مرداد!H17+تير!H17 -> 0 | I17: =شهريور!I17+مرداد!I17+تير!I17 -> 0 | J17: =شهريور!J17+مرداد!J17+تير!J17 -> 0 | ... AB17: =شهريور!AB17+مرداد!AB17+تير!AB17 -> 0
A18: 4 | C18: =شهريور!C18+مرداد!C18+تير!C18 -> 0 | D18: =شهريور!D18+مرداد!D18+تير!D18 -> 0 | E18: =شهريور!E18+مرداد!E18+تير!E18 -> 0 | F18: =شهريور!F18+مرداد!F18+تير!F18 -> 0 | G18: =شهريور!G18+مرداد!G18+تير!G18 -> 0 | H18: =شهريور!H18+مرداد!H18+تير!H18 -> 0 | I18: =شهريور!I18+مرداد!I18+تير!I18 -> 0 | J18: =شهريور!J18+مرداد!J18+تير!J18 -> 0 | ... AB18: =شهريور!AB18+مرداد!AB18+تير!AB18 -> 0
A19: 5 | C19: =شهريور!C19+مرداد!C19+تير!C19 -> 0 | D19: =شهريور!D19+مرداد!D19+تير!D19 -> 0 | E19: =شهريور!E19+مرداد!E19+تير!E19 -> 0 | F19: =شهريور!F19+مرداد!F19+تير!F19 -> 0 | G19: =شهريور!G19+مرداد!G19+تير!G19 -> 0 | H19: =شهريور!H19+مرداد!H19+تير!H19 -> 0 | I19: =شهريور!I19+مرداد!I19+تير!I19 -> 0 | J19: =شهريور!J19+مرداد!J19+تير!J19 -> 0 | ... AB19: =شهريور!AB19+مرداد!AB19+تير!AB19 -> 0
A20: 6 | C20: =شهريور!C20+مرداد!C20+تير!C20 -> 0 | D20: =شهريور!D20+مرداد!D20+تير!D20 -> 0 | E20: =شهريور!E20+مرداد!E20+تير!E20 -> 0 | F20: =شهريور!F20+مرداد!F20+تير!F20 -> 0 | G20: =شهريور!G20+مرداد!G20+تير!G20 -> 0 | H20: =شهريور!H20+مرداد!H20+تير!H20 -> 0 | I20: =شهريور!I20+مرداد!I20+تير!I20 -> 0 | J20: =شهريور!J20+مرداد!J20+تير!J20 -> 0 | ... AB20: =شهريور!AB20+مرداد!AB20+تير!AB20 -> 0
A21: 7 | C21: =شهريور!C21+مرداد!C21+تير!C21 -> 0 | D21: =شهريور!D21+مرداد!D21+تير!D21 -> 0 | E21: =شهريور!E21+مرداد!E21+تير!E21 -> 0 | F21: =شهريور!F21+مرداد!F21+تير!F21 -> 0 | G21: =شهريور!G21+مرداد!G21+تير!G21 -> 0 | H21: =شهريور!H21+مرداد!H21+تير!H21 -> 0 | I21: =شهريور!I21+مرداد!I21+تير!I21 -> 0 | J21: =شهريور!J21+مرداد!J21+تير!J21 -> 0 | ... AB21: =شهريور!AB21+مرداد!AB21+تير!AB21 -> 0
A22: 8 | C22: =شهريور!C22+مرداد!C22+تير!C22 -> 0 | D22: =شهريور!D22+مرداد!D22+تير!D22 -> 0 | E22: =شهريور!E22+مرداد!E22+تير!E22 -> 0 | F22: =شهريور!F22+مرداد!F22+تير!F22 -> 0 | G22: =شهريور!G22+مرداد!G22+تير!G22 -> 0 | H22: =شهريور!H22+مرداد!H22+تير!H22 -> 0 | I22: =شهريور!I22+مرداد!I22+تير!I22 -> 0 | J22: =شهريور!J22+مرداد!J22+تير!J22 -> 0 | ... AB22: =شهريور!AB22+مرداد!AB22+تير!AB22 -> 0
A23: 9 | C23: =شهريور!C23+مرداد!C23+تير!C23 -> 0 | D23: =شهريور!D23+مرداد!D23+تير!D23 -> 0 | E23: =شهريور!E23+مرداد!E23+تير!E23 -> 0 | F23: =شهريور!F23+مرداد!F23+تير!F23 -> 0 | G23: =شهريور!G23+مرداد!G23+تير!G23 -> 0 | H23: =شهريور!H23+مرداد!H23+تير!H23 -> 0 | I23: =شهريور!I23+مرداد!I23+تير!I23 -> 0 | J23: =شهريور!J23+مرداد!J23+تير!J23 -> 0 | ... AB23: =شهريور!AB23+مرداد!AB23+تير!AB23 -> 0
A24: 10 | C24: =شهريور!C24+مرداد!C24+تير!C24 -> 0 | D24: =شهريور!D24+مرداد!D24+تير!D24 -> 0 | E24: =شهريور!E24+مرداد!E24+تير!E24 -> 0 | F24: =شهريور!F24+مرداد!F24+تير!F24 -> 0 | G24: =شهريور!G24+مرداد!G24+تير!G24 -> 0 | H24: =شهريور!H24+مرداد!H24+تير!H24 -> 0 | I24: =شهريور!I24+مرداد!I24+تير!I24 -> 0 | J24: =شهريور!J24+مرداد!J24+تير!J24 -> 0 | ... AB24: =شهريور!AB24+مرداد!AB24+تير!AB24 -> 0
A25: جمع کل غیر ایرانی | C25: =SUM(C15:C24) -> 0 | D25: =SUM(D15:D24) -> 0 | E25: =SUM(E15:E24) -> 0 | F25: =SUM(F15:F24) -> 0 | G25: =SUM(G15:G24) -> 0 | H25: =SUM(H15:H24) -> 0 | I25: =SUM(I15:I24) -> 0 | J25: =SUM(J15:J24) -> 0 | ... AB25: =SUM(AB15:AB24) -> 0
A26: جمع کل ایرانی و غیر ایرانی | C26: =SUM(C14+C25) -> 0 | D26: =SUM(D14+D25) -> 0 | E26: =SUM(E14+E25) -> 0 | F26: =SUM(F14+F25) -> 0 | G26: =SUM(G14+G25) -> 0 | H26: =SUM(H14+H25) -> 0 | I26: =SUM(I14+I25) -> 0 | J26: =SUM(J14+J25) -> 0 | ... AB26: =SUM(AB14+AB25) -> 0
D27: =SUM(D26:E26) -> 0 | F27: =I26+H26+G26+F26 -> 0 | J27: =M26+L26+K26+J26 -> 0 | N27: =SUM(N26:P26) -> 0 | Q27: =SUM(Q26:S26) -> 0 | T27: =SUM(T26:V26) -> 0 | W27: =SUM(W26:Y26) -> 0 | Z27: =SUM(Z26:AB26) -> 0
C29: موارد خاص : بستری در بیمارستان (حتی یک روز )- انواع بیماریها-عدم شیرخوردن- دیالیز - تزریق خون- تغذیه خوراکی یا وریدی کم پروتئین -npo -بیماری کبدی -نارسی - مادرpku-هیپرالمانتاسیون

Sheet شش ماهه اول
A1: آمارغربالگري p.k.u نوزادان سال 1403 ایرانی | C1: دانشگاه: قزوين مركز بهداشت شهيد بلنديان قزوين | H1: مركز بهداشتي درماني /پايگاه بهداشتي :
A2: رديف | B2: نام مركز/ پايگاه | C2: تعداد نوزادان غربالگري شده باراول | D2: جنس | F2: زمان انجام نمونه گيري نوبت اول بر حسب سن نوزاد به روز | J2: تعداد موارد زمان اعلام آزمايش مثبت غربالگري برحسب سن نوزاد به روز | N2: تعداد نتايج آزمايشات غربالگري p.k.u | Q2: تعداد موارد نمونه گيري مجدد براي بيماري p.k.u به تفكيك علت | T2: تعداد موارد نمونه گيري مجدد برحسب سن نوزاد به روز براي p.k.u | W2: تعداد موارد زمان اعلام آزمايش غربالگري مثبت (phe>4) نمونه هاي مجدد بر حسب سن | Z2: تعداد نتايج آزمايشات نوبت دوم
D3: دختر | E3: پسر | F3: 3-5 روز | G3: 6-14 روز | H3: 15-21 | I3: 22 وبيشتر | J3: 7-9 | K3: 10-14 | L3: 15-21 | M3: 22وبيشتر | N3: كمتر از 4 | O3: 4-19/9 | P3: 20وبيشتر | Q3: بستري دربيمارستان | R3: حالت خاص | S3: نمونه نامناسب | T3: كمتر از 14 | U3: 15-21 | V3: 22و بيشتر | W3: كمتر از 14 | X3: 15-21 | Y3: 22بيشتر | Z3: كمتر از 4 | AA3: 4-19/9 | AB3: >20
A4: 1 | C4: ='سه ماهه دوم'!C4+'سه ماهه اول'!C4 -> 0 | D4: ='سه ماهه دوم'!D4+'سه ماهه اول'!D4 -> 0 | E4: ='سه ماهه دوم'!E4+'سه ماهه اول'!E4 -> 0 | F4: ='سه ماهه دوم'!F4+'سه ماهه اول'!F4 -> 0 | G4: ='سه ماهه دوم'!G4+'سه ماهه اول'!G4 -> 0 | H4: ='سه ماهه دوم'!H4+'سه ماهه اول'!H4 -> 0 | I4: ='سه ماهه دوم'!I4+'سه ماهه اول'!I4 -> 0 | J4: ='سه ماهه دوم'!J4+'سه ماهه اول'!J4 -> 0 | ... AB4: ='سه ماهه دوم'!AB4+'سه ماهه اول'!AB4 -> 0
A5: 2 | C5: ='سه ماهه دوم'!C5+'سه ماهه اول'!C5 -> 0 | D5: ='سه ماهه دوم'!D5+'سه ماهه اول'!D5 -> 0 | E5: ='سه ماهه دوم'!E5+'سه ماهه اول'!E5 -> 0 | F5: ='سه ماهه دوم'!F5+'سه ماهه اول'!F5 -> 0 | G5: ='سه ماهه دوم'!G5+'سه ماهه اول'!G5 -> 0 | H5: ='سه ماهه دوم'!H5+'سه ماهه اول'!H5 -> 0 | I5: ='سه ماهه دوم'!I5+'سه ماهه اول'!I5 -> 0 | J5: ='سه ماهه دوم'!J5+'سه ماهه اول'!J5 -> 0 | ... AB5: ='سه ماهه دوم'!AB5+'سه ماهه اول'!AB5 -> 0
A6: 3 | C6: ='سه ماهه دوم'!C6+'سه ماهه اول'!C6 -> 0 | D6: ='سه ماهه دوم'!D6+'سه ماهه اول'!D6 -> 0 | E6: ='سه ماهه دوم'!E6+'سه ماهه اول'!E6 -> 0 | F6: ='سه ماهه دوم'!F6+'سه ماهه اول'!F6 -> 0 | G6: ='سه ماهه دوم'!G6+'سه ماهه اول'!G6 -> 0 | H6: ='سه ماهه دوم'!H6+'سه ماهه اول'!H6 -> 0 | I6: ='سه ماهه دوم'!I6+'سه ماهه اول'!I6 -> 0 | J6: ='سه ماهه دوم'!J6+'سه ماهه اول'!J6 -> 0 | ... AB6: ='سه ماهه دوم'!AB6+'سه ماهه اول'!AB6 -> 0
A7: 4 | C7: ='سه ماهه دوم'!C7+'سه ماهه اول'!C7 -> 0 | D7: ='سه ماهه دوم'!D7+'سه ماهه اول'!D7 -> 0 | E7: ='سه ماهه دوم'!E7+'سه ماهه اول'!E7 -> 0 | F7: ='سه ماهه دوم'!F7+'سه ماهه اول'!F7 -> 0 | G7: ='سه ماهه دوم'!G7+'سه ماهه اول'!G7 -> 0 | H7: ='سه ماهه دوم'!H7+'سه ماهه اول'!H7 -> 0 | I7: ='سه ماهه دوم'!I7+'سه ماهه اول'!I7 -> 0 | J7: ='سه ماهه دوم'!J7+'سه ماهه اول'!J7 -> 0 | ... AB7: ='سه ماهه دوم'!AB7+'سه ماهه اول'!AB7 -> 0
A8: 5 | C8: ='سه ماهه دوم'!C8+'سه ماهه اول'!C8 -> 0 | D8: ='سه ماهه دوم'!D8+'سه ماهه اول'!D8 -> 0 | E8: ='سه ماهه دوم'!E8+'سه ماهه اول'!E8 -> 0 | F8: ='سه ماهه دوم'!F8+'سه ماهه اول'!F8 -> 0 | G8: ='سه ماهه دوم'!G8+'سه ماهه اول'!G8 -> 0 | H8: ='سه ماهه دوم'!H8+'سه ماهه اول'!H8 -> 0 | I8: ='سه ماهه دوم'!I8+'سه ماهه اول'!I8 -> 0 | J8: ='سه ماهه دوم'!J8+'سه ماهه اول'!J8 -> 0 | ... AB8: ='سه ماهه دوم'!AB8+'سه ماهه اول'!AB8 -> 0
A9: 6 | C9: ='سه ماهه دوم'!C9+'سه ماهه اول'!C9 -> 0 | D9: ='سه ماهه دوم'!D9+'سه ماهه اول'!D9 -> 0 | E9: ='سه ماهه دوم'!E9+'سه ماهه اول'!E9 -> 0 | F9: ='سه ماهه دوم'!F9+'سه ماهه اول'!F9 -> 0 | G9: ='سه ماهه دوم'!G9+'سه ماهه اول'!G9 -> 0 | H9: ='سه ماهه دوم'!H9+'سه ماهه اول'!H9 -> 0 | I9: ='سه ماهه دوم'!I9+'سه ماهه اول'!I9 -> 0 | J9: ='سه ماهه دوم'!J9+'سه ماهه اول'!J9 -> 0 | ... AB9: ='سه ماهه دوم'!AB9+'سه ماهه اول'!AB9 -> 0
A10: 7 | C10: ='سه ماهه دوم'!C10+'سه ماهه اول'!C10 -> 0 | D10: ='سه ماهه دوم'!D10+'سه ماهه اول'!D10 -> 0 | E10: ='سه ماهه دوم'!E10+'سه ماهه اول'!E10 -> 0 | F10: ='سه ماهه دوم'!F10+'سه ماهه اول'!F10 -> 0 | G10: ='سه ماهه دوم'!G10+'سه ماهه اول'!G10 -> 0 | H10: ='سه ماهه دوم'!H10+'سه ماهه اول'!H10 -> 0 | I10: ='سه ماهه دوم'!I10+'سه ماهه اول'!I10 -> 0 | J10: ='سه ماهه دوم'!J10+'سه ماهه اول'!J10 -> 0 | ... AB10: ='سه ماهه دوم'!AB10+'سه ماهه اول'!AB10 -> 0
A11: 8 | C11: ='سه ماهه دوم'!C11+'سه ماهه اول'!C11 -> 0 | D11: ='سه ماهه دوم'!D11+'سه ماهه اول'!D11 -> 0 | E11: ='سه ماهه دوم'!E11+'سه ماهه اول'!E11 -> 0 | F11: ='سه ماهه دوم'!F11+'سه ماهه اول'!F11 -> 0 | G11: ='سه ماهه دوم'!G11+'سه ماهه اول'!G11 -> 0 | H11: ='سه ماهه دوم'!H11+'سه ماهه اول'!H11 -> 0 | I11: ='سه ماهه دوم'!I11+'سه ماهه اول'!I11 -> 0 | J11: ='سه ماهه دوم'!J11+'سه ماهه اول'!J11 -> 0 | ... AB11: ='سه ماهه دوم'!AB11+'سه ماهه اول'!AB11 -> 0
A12: 9 | C12: ='سه ماهه دوم'!C12+'سه ماهه اول'!C12 -> 0 | D12: ='سه ماهه دوم'!D12+'سه ماهه اول'!D12 -> 0 | E12: ='سه ماهه دوم'!E12+'سه ماهه اول'!E12 -> 0 | F12: ='سه ماهه دوم'!F12+'سه ماهه اول'!F12 -> 0 | G12: ='سه ماهه دوم'!G12+'سه ماهه اول'!G12 -> 0 | H12: ='سه ماهه دوم'!H12+'سه ماهه اول'!H12 -> 0 | I12: ='سه ماهه دوم'!I12+'سه ماهه اول'!I12 -> 0 | J12: ='سه ماهه دوم'!J12+'سه ماهه اول'!J12 -> 0 | ... AB12: ='سه ماهه دوم'!AB12+'سه ماهه اول'!AB12 -> 0
A13: 10 | C13: ='سه ماهه دوم'!C13+'سه ماهه اول'!C13 -> 0 | D13: ='سه ماهه دوم'!D13+'سه ماهه اول'!D13 -> 0 | E13: ='سه ماهه دوم'!E13+'سه ماهه اول'!E13 -> 0 | F13: ='سه ماهه دوم'!F13+'سه ماهه اول'!F13 -> 0 | G13: ='سه ماهه دوم'!G13+'سه ماهه اول'!G13 -> 0 | H13: ='سه ماهه دوم'!H13+'سه ماهه اول'!H13 -> 0 | I13: ='سه ماهه دوم'!I13+'سه ماهه اول'!I13 -> 0 | J13: ='سه ماهه دوم'!J13+'سه ماهه اول'!J13 -> 0 | ... AB13: ='سه ماهه دوم'!AB13+'سه ماهه اول'!AB13 -> 0
A14: جمع کل ایرانی | C14: =SUM(C4:C13) -> 0 | D14: =SUM(D4:D13) -> 0 | E14: =SUM(E4:E13) -> 0 | F14: =SUM(F4:F13) -> 0 | G14: =SUM(G4:G13) -> 0 | H14: =SUM(H4:H13) -> 0 | I14: =SUM(I4:I13) -> 0 | J14: =SUM(J4:J13) -> 0 | ... AB14: =SUM(AB4:AB13) -> 0
A15: 1 | B15: افاغنه | C15: ='سه ماهه دوم'!C15+'سه ماهه اول'!C15 -> 0 | D15: ='سه ماهه دوم'!D15+'سه ماهه اول'!D15 -> 0 | E15: ='سه ماهه دوم'!E15+'سه ماهه اول'!E15 -> 0 | F15: ='سه ماهه دوم'!F15+'سه ماهه اول'!F15 -> 0 | G15: ='سه ماهه دوم'!G15+'سه ماهه اول'!G15 -> 0 | H15: ='سه ماهه دوم'!H15+'سه ماهه اول'!H15 -> 0 | I15: ='سه ماهه دوم'!I15+'سه ماهه اول'!I15 -> 0 | J15: ='سه ماهه دوم'!J15+'سه ماهه اول'!J15 -> 0 | ... AB15: ='سه ماهه دوم'!AB15+'سه ماهه اول'!AB15 -> 0
A16: 2 | C16: ='سه ماهه دوم'!C16+'سه ماهه اول'!C16 -> 0 | D16: ='سه ماهه دوم'!D16+'سه ماهه اول'!D16 -> 0 | E16: ='سه ماهه دوم'!E16+'سه ماهه اول'!E16 -> 0 | F16: ='سه ماهه دوم'!F16+'سه ماهه اول'!F16 -> 0 | G16: ='سه ماهه دوم'!G16+'سه ماهه اول'!G16 -> 0 | H16: ='سه ماهه دوم'!H16+'سه ماهه اول'!H16 -> 0 | I16: ='سه ماهه دوم'!I16+'سه ماهه اول'!I16 -> 0 | J16: ='سه ماهه دوم'!J16+'سه ماهه اول'!J16 -> 0 | ... AB16: ='سه ماهه دوم'!AB16+'سه ماهه اول'!AB16 -> 0
A17: 3 | C17: ='سه ماهه دوم'!C17+'سه ماهه اول'!C17 -> 0 | D17: ='سه ماهه دوم'!D17+'سه ماهه اول'!D17 -> 0 | E17: ='سه ماهه دوم'!E17+'سه ماهه اول'!E17 -> 0 | F17: ='سه ماهه دوم'!F17+'سه ماهه اول'!F17 -> 0 | G17: ='سه ماهه دوم'!G17+'سه ماهه اول'!G17 -> 0 | H17: ='سه ماهه دوم'!H17+'سه ماهه اول'!H17 -> 0 | I17: ='سه ماهه دوم'!I17+'سه ماهه اول'!I17 -> 0 | J17: ='سه ماهه دوم'!J17+'سه ماهه اول'!J17 -> 0 | ... AB17: ='سه ماهه دوم'!AB17+'سه ماهه اول'!AB17 -> 0
A18: 4 | C18: ='سه ماهه دوم'!C18+'سه ماهه اول'!C18 -> 0 | D18: ='سه ماهه دوم'!D18+'سه ماهه اول'!D18 -> 0 | E18: ='سه ماهه دوم'!E18+'سه ماهه اول'!E18 -> 0 | F18: ='سه ماهه دوم'!F18+'سه ماهه اول'!F18 -> 0 | G18: ='سه ماهه دوم'!G18+'سه ماهه اول'!G18 -> 0 | H18: ='سه ماهه دوم'!H18+'سه ماهه اول'!H18 -> 0 | I18: ='سه ماهه دوم'!I18+'سه ماهه اول'!I18 -> 0 | J18: ='سه ماهه دوم'!J18+'سه ماهه اول'!J18 -> 0 | ... AB18: ='سه ماهه دوم'!AB18+'سه ماهه اول'!AB18 -> 0
A19: 5 | C19: ='سه ماهه دوم'!C19+'سه ماهه اول'!C19 -> 0 | D19: ='سه ماهه دوم'!D19+'سه ماهه اول'!D19 -> 0 | E19: ='سه ماهه دوم'!E19+'سه ماهه اول'!E19 -> 0 | F19: ='سه ماهه دوم'!F19+'سه ماهه اول'!F19 -> 0 | G19: ='سه ماهه دوم'!G19+'سه ماهه اول'!G19 -> 0 | H19: ='سه ماهه دوم'!H19+'سه ماهه اول'!H19 -> 0 | I19: ='سه ماهه دوم'!I19+'سه ماهه اول'!I19 -> 0 | J19: ='سه ماهه دوم'!J19+'سه ماهه اول'!J19 -> 0 | ... AB19: ='سه ماهه دوم'!AB19+'سه ماهه اول'!AB19 -> 0
A20: 6 | C20: ='سه ماهه دوم'!C20+'سه ماهه اول'!C20 -> 0 | D20: ='سه ماهه دوم'!D20+'سه ماهه اول'!D20 -> 0 | E20: ='سه ماهه دوم'!E20+'سه ماهه اول'!E20 -> 0 | F20: ='سه ماهه دوم'!F20+'سه ماهه اول'!F20 -> 0 | G20: ='سه ماهه دوم'!G20+'سه ماهه اول'!G20 -> 0 | H20: ='سه ماهه دوم'!H20+'سه ماهه اول'!H20 -> 0 | I20: ='سه ماهه دوم'!I20+'سه ماهه اول'!I20 -> 0 | J20: ='سه ماهه دوم'!J20+'سه ماهه اول'!J20 -> 0 | ... AB20: ='سه ماهه دوم'!AB20+'سه ماهه اول'!AB20 -> 0
A21: 7 | C21: ='سه ماهه دوم'!C21+'سه ماهه اول'!C21 -> 0 | D21: ='سه ماهه دوم'!D21+'سه ماهه اول'!D21 -> 0 | E21: ='سه ماهه دوم'!E21+'سه ماهه اول'!E21 -> 0 | F21: ='سه ماهه دوم'!F21+'سه ماهه اول'!F21 -> 0 | G21: ='سه ماهه دوم'!G21+'سه ماهه اول'!G21 -> 0 | H21: ='سه ماهه دوم'!H21+'سه ماهه اول'!H21 -> 0 | I21: ='سه ماهه دوم'!I21+'سه ماهه اول'!I21 -> 0 | J21: ='سه ماهه دوم'!J21+'سه ماهه اول'!J21 -> 0 | ... AB21: ='سه ماهه دوم'!AB21+'سه ماهه اول'!AB21 -> 0
A22: 8 | C22: ='سه ماهه دوم'!C22+'سه ماهه اول'!C22 -> 0 | D22: ='سه ماهه دوم'!D22+'سه ماهه اول'!D22 -> 0 | E22: ='سه ماهه دوم'!E22+'سه ماهه اول'!E22 -> 0 | F22: ='سه ماهه دوم'!F22+'سه ماهه اول'!F22 -> 0 | G22: ='سه ماهه دوم'!G22+'سه ماهه اول'!G22 -> 0 | H22: ='سه ماهه دوم'!H22+'سه ماهه اول'!H22 -> 0 | I22: ='سه ماهه دوم'!I22+'سه ماهه اول'!I22 -> 0 | J22: ='سه ماهه دوم'!J22+'سه ماهه اول'!J22 -> 0 | ... AB22: ='سه ماهه دوم'!AB22+'سه ماهه اول'!AB22 -> 0
A23: 9 | C23: ='سه ماهه دوم'!C23+'سه ماهه اول'!C23 -> 0 | D23: ='سه ماهه دوم'!D23+'سه ماهه اول'!D23 -> 0 | E23: ='سه ماهه دوم'!E23+'سه ماهه اول'!E23 -> 0 | F23: ='سه ماهه دوم'!F23+'سه ماهه اول'!F23 -> 0 | G23: ='سه ماهه دوم'!G23+'سه ماهه اول'!G23 -> 0 | H23: ='سه ماهه دوم'!H23+'سه ماهه اول'!H23 -> 0 | I23: ='سه ماهه دوم'!I23+'سه ماهه اول'!I23 -> 0 | J23: ='سه ماهه دوم'!J23+'سه ماهه اول'!J23 -> 0 | ... AB23: ='سه ماهه دوم'!AB23+'سه ماهه اول'!AB23 -> 0
A24: 10 | C24: ='سه ماهه دوم'!C24+'سه ماهه اول'!C24 -> 0 | D24: ='سه ماهه دوم'!D24+'سه ماهه اول'!D24 -> 0 | E24: ='سه ماهه دوم'!E24+'سه ماهه اول'!E24 -> 0 | F24: ='سه ماهه دوم'!F24+'سه ماهه اول'!F24 -> 0 | G24: ='سه ماهه دوم'!G24+'سه ماهه اول'!G24 -> 0 | H24: ='سه ماهه دوم'!H24+'سه ماهه اول'!H24 -> 0 | I24: ='سه ماهه دوم'!I24+'سه ماهه اول'!I24 -> 0 | J24: ='سه ماهه دوم'!J24+'سه ماهه اول'!J24 -> 0 | ... AB24: ='سه ماهه دوم'!AB24+'سه ماهه اول'!AB24 -> 0
A25: جمع کل غیر ایرانی | C25: =SUM(C15:C24) -> 0 | D25: =SUM(D15:D24) -> 0 | E25: =SUM(E15:E24) -> 0 | F25: =SUM(F15:F24) -> 0 | G25: =SUM(G15:G24) -> 0 | H25: =SUM(H15:H24) -> 0 | I25: =SUM(I15:I24) -> 0 | J25: =SUM(J15:J24) -> 0 | ... AB25: =SUM(AB15:AB24) -> 0
A26: جمع کل ایرانی و غیر ایرانی | C26: =SUM(C14+C25) -> 0 | D26: =SUM(D14+D25) -> 0 | E26: =SUM(E14+E25) -> 0 | F26: =SUM(F14+F25) -> 0 | G26: =SUM(G14+G25) -> 0 | H26: =SUM(H14+H25) -> 0 | I26: =SUM(I14+I25) -> 0 | J26: =SUM(J14+J25) -> 0 | ... AB26: =SUM(AB14+AB25) -> 0
D27: =SUM(D26:E26) -> 0 | F27: =I26+H26+G26+F26 -> 0 | J27: =M26+L26+K26+J26 -> 0 | N27: =SUM(N26:P26) -> 0 | Q27: =SUM(Q26:S26) -> 0 | T27: =SUM(T26:V26) -> 0 | W27: =SUM(W26:Y26) -> 0 | Z27: =SUM(Z26:AB26) -> 0
C29: موارد خاص : بستری در بیمارستان (حتی یک روز )- انواع بیماریها-عدم شیرخوردن- دیالیز - تزریق خون- تغذیه خوراکی یا وریدی کم پروتئین -npo -بیماری کبدی -نارسی - مادرpku-هیپرالمانتاسیون

Sheet مهر
A1: آمارغربالگري p.k.u نوزادان سال1403 ایرانی | C1: دانشگاه: قزوين مركز بهداشت شهيد بلنديان قزوين | H1: مركز بهداشتي درماني /پايگاه بهداشتي :
A2: رديف | B2: نام مركز/ پايگاه | C2: تعداد نوزادان غربالگري شده باراول | D2: جنس | F2: زمان انجام نمونه گيري نوبت اول بر حسب سن نوزاد به روز | J2: تعداد موارد زمان اعلام آزمايش مثبت غربالگري برحسب سن نوزاد به روز | N2: تعداد نتايج آزمايشات غربالگري p.k.u | Q2: تعداد موارد نمونه گيري مجدد براي بيماري p.k.u به تفكيك علت | T2: تعداد موارد نمونه گيري مجدد برحسب سن نوزاد به روز براي p.k.u | W2: تعداد موارد زمان اعلام آزمايش غربالگري مثبت (phe>4) نمونه هاي مجدد بر حسب سن | Z2: تعداد نتايج آزمايشات نوبت دوم
D3: دختر | E3: پسر | F3: 3-5 روز | G3: 6-14 روز | H3: 15-21 | I3: 22 وبيشتر | J3: 7-9 | K3: 10-14 | L3: 15-21 | M3: 22وبيشتر | N3: كمتر از 4 | O3: 4-19/9 | P3: 20وبيشتر | Q3: بستري دربيمارستان | R3: حالت خاص | S3: نمونه نامناسب | T3: كمتر از 14 | U3: 15-21 | V3: 22و بيشتر | W3: كمتر از 14 | X3: 15-21 | Y3: 22بيشتر | Z3: كمتر از 4 | AA3: 4-19/9 | AB3: >20
A4: 1
A5: 2
A6: 3
A7: 4
A8: 5
A9: 6
A10: 7
A11: 8
A12: 9
A13: 10
A14: جمع کل ایرانی | C14: =SUM(C4:C13) -> 0 | D14: =SUM(D4:D13) -> 0 | E14: =SUM(E4:E13) -> 0 | F14: =SUM(F4:F13) -> 0 | G14: =SUM(G4:G13) -> 0 | H14: =SUM(H4:H13) -> 0 | I14: =SUM(I4:I13) -> 0 | J14: =SUM(J4:J13) -> 0 | ... AB14: =SUM(AB4:AB13) -> 0
A15: 1 | B15: افاغنه
A16: 2
A17: 3
A18: 4
A19: 5
A20: 6
A21: 7
A22: 8
A23: 9
A24: 10
A25: جمع کل غیر ایرانی | C25: =SUM(C15:C24) -> 0 | D25: =SUM(D15:D24) -> 0 | E25: =SUM(E15:E24) -> 0 | F25: =SUM(F15:F24) -> 0 | G25: =SUM(G15:G24) -> 0 | H25: =SUM(H15:H24) -> 0 | I25: =SUM(I15:I24) -> 0 | J25: =SUM(J15:J24) -> 0 | ... AB25: =SUM(AB15:AB24) -> 0
A26: جمع کل ایرانی و غیر ایرانی | C26: =SUM(C14+C25) -> 0 | D26: =SUM(D14+D25) -> 0 | E26: =SUM(E14+E25) -> 0 | F26: =SUM(F14+F25) -> 0 | G26: =SUM(G14+G25) -> 0 | H26: =SUM(H14+H25) -> 0 | I26: =SUM(I14+I25) -> 0 | J26: =SUM(J14+J25) -> 0 | ... AB26: =SUM(AB14+AB25) -> 0
D27: =SUM(D26:E26) -> 0 | F27: =I26+H26+G26+F26 -> 0 | J27: =M26+L26+K26+J26 -> 0 | N27: =SUM(N26:P26) -> 0 | Q27: =SUM(Q26:S26) -> 0 | T27: =SUM(T26:V26) -> 0 | W27: =SUM(W26:Y26) -> 0 | Z27: =SUM(Z26:AB26) -> 0
C29: موارد خاص : بستری در بیمارستان (حتی یک روز )- انواع بیماریها-عدم شیرخوردن- دیالیز - تزریق خون- تغذیه خوراکی یا وریدی کم پروتئین -npo -بیماری کبدی -نارسی - مادرpku-هیپرالمانتاسیون

Sheet آبان
A1: آمارغربالگري p.k.u نوزادان سال 1403 ایرانی | C1: دانشگاه: قزوين مركز بهداشت شهيد بلنديان قزوين | H1: مركز بهداشتي درماني /پايگاه بهداشتي :
A2: رديف | B2: نام مركز/ پايگاه | C2: تعداد نوزادان غربالگري شده باراول | D2: جنس | F2: زمان انجام نمونه گيري نوبت اول بر حسب سن نوزاد به روز | J2: تعداد موارد زمان اعلام آزمايش مثبت غربالگري برحسب سن نوزاد به روز | N2: تعداد نتايج آزمايشات غربالگري p.k.u | Q2: تعداد موارد نمونه گيري مجدد براي بيماري p.k.u به تفكيك علت | T2: تعداد موارد نمونه گيري مجدد برحسب سن نوزاد به روز براي p.k.u | W2: تعداد موارد زمان اعلام آزمايش غربالگري مثبت (phe>4) نمونه هاي مجدد بر حسب سن | Z2: تعداد نتايج آزمايشات نوبت دوم
D3: دختر | E3: پسر | F3: 3-5 روز | G3: 6-14 روز | H3: 15-21 | I3: 22 وبيشتر | J3: 7-9 | K3: 10-14 | L3: 15-21 | M3: 22وبيشتر | N3: كمتر از 4 | O3: 4-19/9 | P3: 20وبيشتر | Q3: بستري دربيمارستان | R3: حالت خاص | S3: نمونه نامناسب | T3: كمتر از 14 | U3: 15-21 | V3: 22و بيشتر | W3: كمتر از 14 | X3: 15-21 | Y3: 22بيشتر | Z3: كمتر از 4 | AA3: 4-19/9 | AB3: >20
A4: 1
A5: 2
A6: 3
A7: 4
A8: 5
A9: 6
A10: 7
A11: 8
A12: 9
A13: 10
A14: جمع کل ایرانی | C14: =SUM(C4:C13) -> 0 | D14: =SUM(D4:D13) -> 0 | E14: =SUM(E4:E13) -> 0 | F14: =SUM(F4:F13) -> 0 | G14: =SUM(G4:G13) -> 0 | H14: =SUM(H4:H13) -> 0 | I14: =SUM(I4:I13) -> 0 | J14: =SUM(J4:J13) -> 0 | ... AB14: =SUM(AB4:AB13) -> 0
A15: 1 | B15: افاغنه
A16: 2
A17: 3
A18: 4
A19: 5
A20: 6
A21: 7
A22: 8
A23: 9
A24: 10
A25: جمع کل غیر ایرانی | C25: =SUM(C15:C24) -> 0 | D25: =SUM(D15:D24) -> 0 | E25: =SUM(E15:E24) -> 0 | F25: =SUM(F15:F24) -> 0 | G25: =SUM(G15:G24) -> 0 | H25: =SUM(H15:H24) -> 0 | I25: =SUM(I15:I24) -> 0 | J25: =SUM(J15:J24) -> 0 | ... AB25: =SUM(AB15:AB24) -> 0
A26: جمع کل ایرانی و غیر ایرانی | C26: =SUM(C14+C25) -> 0 | D26: =SUM(D14+D25) -> 0 | E26: =SUM(E14+E25) -> 0 | F26: =SUM(F14+F25) -> 0 | G26: =SUM(G14+G25) -> 0 | H26: =SUM(H14+H25) -> 0 | I26: =SUM(I14+I25) -> 0 | J26: =SUM(J14+J25) -> 0 | ... AB26: =SUM(AB14+AB25) -> 0
D27: =SUM(D26:E26) -> 0 | F27: =I26+H26+G26+F26 -> 0 | J27: =M26+L26+K26+J26 -> 0 | N27: =SUM(N26:P26) -> 0 | Q27: =SUM(Q26:S26) -> 0 | T27: =SUM(T26:V26) -> 0 | W27: =SUM(W26:Y26) -> 0 | Z27: =SUM(Z26:AB26) -> 0
C29: موارد خاص : بستری در بیمارستان (حتی یک روز )- انواع بیماریها-عدم شیرخوردن- دیالیز - تزریق خون- تغذیه خوراکی یا وریدی کم پروتئین -npo -بیماری کبدی -نارسی - مادرpku-هیپرالمانتاسیون

Sheet آذر
A1: آمارغربالگري p.k.u نوزادان سال 1403 ایرانی | C1: دانشگاه: قزوين مركز بهداشت شهيد بلنديان قزوين | H1: مركز بهداشتي درماني /پايگاه بهداشتي :
A2: رديف | B2: نام مركز/ پايگاه | C2: تعداد نوزادان غربالگري شده باراول | D2: جنس | F2: زمان انجام نمونه گيري نوبت اول بر حسب سن نوزاد به روز | J2: تعداد موارد زمان اعلام آزمايش مثبت غربالگري برحسب سن نوزاد به روز | N2: تعداد نتايج آزمايشات غربالگري p.k.u | Q2: تعداد موارد نمونه گيري مجدد براي بيماري p.k.u به تفكيك علت | T2: تعداد موارد نمونه گيري مجدد برحسب سن نوزاد به روز براي p.k.u | W2: تعداد موارد زمان اعلام آزمايش غربالگري مثبت (phe>4) نمونه هاي مجدد بر حسب سن | Z2: تعداد نتايج آزمايشات نوبت دوم
D3: دختر | E3: پسر | F3: 3-5 روز | G3: 6-14 روز | H3: 15-21 | I3: 22 وبيشتر | J3: 7-9 | K3: 10-14 | L3: 15-21 | M3: 22وبيشتر | N3: كمتر از 4 | O3: 4-19/9 | P3: 20وبيشتر | Q3: بستري دربيمارستان | R3: حالت خاص | S3: نمونه نامناسب | T3: كمتر از 14 | U3: 15-21 | V3: 22و بيشتر | W3: كمتر از 14 | X3: 15-21 | Y3: 22بيشتر | Z3: كمتر از 4 | AA3: 4-19/9 | AB3: >20
A4: 1
A5: 2
A6: 3
A7: 4
A8: 5
A9: 6
A10: 7
A11: 8
A12: 9
A13: 10
A14: جمع کل ایرانی | C14: =SUM(C4:C13) -> 0 | D14: =SUM(D4:D13) -> 0 | E14: =SUM(E4:E13) -> 0 | F14: =SUM(F4:F13) -> 0 | G14: =SUM(G4:G13) -> 0 | H14: =SUM(H4:H13) -> 0 | I14: =SUM(I4:I13) -> 0 | J14: =SUM(J4:J13) -> 0 | ... AB14: =SUM(AB4:AB13) -> 0
A15: 1 | B15: افاغنه
A16: 2
A17: 3
A18: 4
A19: 5
A20: 6
A21: 7
A22: 8
A23: 9
A24: 10
A25: جمع کل غیر ایرانی | C25: =SUM(C15:C24) -> 0 | D25: =SUM(D15:D24) -> 0 | E25: =SUM(E15:E24) -> 0 | F25: =SUM(F15:F24) -> 0 | G25: =SUM(G15:G24) -> 0 | H25: =SUM(H15:H24) -> 0 | I25: =SUM(I15:I24) -> 0 | J25: =SUM(J15:J24) -> 0 | ... AB25: =SUM(AB15:AB24) -> 0
A26: جمع کل ایرانی و غیر ایرانی | C26: =SUM(C14+C25) -> 0 | D26: =SUM(D14+D25) -> 0 | E26: =SUM(E14+E25) -> 0 | F26: =SUM(F14+F25) -> 0 | G26: =SUM(G14+G25) -> 0 | H26: =SUM(H14+H25) -> 0 | I26: =SUM(I14+I25) -> 0 | J26: =SUM(J14+J25) -> 0 | ... AB26: =SUM(AB14+AB25) -> 0
D27: =SUM(D26:E26) -> 0 | F27: =I26+H26+G26+F26 -> 0 | J27: =M26+L26+K26+J26 -> 0 | N27: =SUM(N26:P26) -> 0 | Q27: =SUM(Q26:S26) -> 0 | T27: =SUM(T26:V26) -> 0 | W27: =SUM(W26:Y26) -> 0 | Z27: =SUM(Z26:AB26) -> 0
C29: موارد خاص : بستری در بیمارستان (حتی یک روز )- انواع بیماریها-عدم شیرخوردن- دیالیز - تزریق خون- تغذیه خوراکی یا وریدی کم پروتئین -npo -بیماری کبدی -نارسی - مادرpku-هیپرالمانتاسیون

Sheet سه ماهه سوم
A1: آمارغربالگري p.k.u نوزادان سال 1403 ایرانی | C1: دانشگاه: قزوين مركز بهداشت شهيد بلنديان قزوين | H1: مركز بهداشتي درماني /پايگاه بهداشتي :
A2: رديف | B2: نام مركز/ پايگاه | C2: تعداد نوزادان غربالگري شده باراول | D2: جنس | F2: زمان انجام نمونه گيري نوبت اول بر حسب سن نوزاد به روز | J2: تعداد موارد زمان اعلام آزمايش مثبت غربالگري برحسب سن نوزاد به روز | N2: تعداد نتايج آزمايشات غربالگري p.k.u | Q2: تعداد موارد نمونه گيري مجدد براي بيماري p.k.u به تفكيك علت | T2: تعداد موارد نمونه گيري مجدد برحسب سن نوزاد به روز براي p.k.u | W2: تعداد موارد زمان اعلام آزمايش غربالگري مثبت (phe>4) نمونه هاي مجدد بر حسب سن | Z2: تعداد نتايج آزمايشات نوبت دوم
D3: دختر | E3: پسر | F3: 3-5 روز | G3: 6-14 روز | H3: 15-21 | I3: 22 وبيشتر | J3: 7-9 | K3: 10-14 | L3: 15-21 | M3: 22وبيشتر | N3: كمتر از 4 | O3: 4-19/9 | P3: 20وبيشتر | Q3: بستري دربيمارستان | R3: حالت خاص | S3: نمونه نامناسب | T3: كمتر از 14 | U3: 15-21 | V3: 22و بيشتر | W3: كمتر از 14 | X3: 15-21 | Y3: 22بيشتر | Z3: كمتر از 4 | AA3: 4-19/9 | AB3: >20
A4: 1 | C4: =مهر!C4+آبان!C4+آذر!C4 -> 0 | D4: =مهر!D4+آبان!D4+آذر!D4 -> 0 | E4: =مهر!E4+آبان!E4+آذر!E4 -> 0 | F4: =مهر!F4+آبان!F4+آذر!F4 -> 0 | G4: =مهر!G4+آبان!G4+آذر!G4 -> 0 | H4: =مهر!H4+آبان!H4+آذر!H4 -> 0 | I4: =مهر!I4+آبان!I4+آذر!I4 -> 0 | J4: =مهر!J4+آبان!J4+آذر!J4 -> 0 | ... AB4: =مهر!AB4+آبان!AB4+آذر!AB4 -> 0
A5: 2 | C5: =مهر!C5+آبان!C5+آذر!C5 -> 0 | D5: =مهر!D5+آبان!D5+آذر!D5 -> 0 | E5: =مهر!E5+آبان!E5+آذر!E5 -> 0 | F5: =مهر!F5+آبان!F5+آذر!F5 -> 0 | G5: =مهر!G5+آبان!G5+آذر!G5 -> 0 | H5: =مهر!H5+آبان!H5+آذر!H5 -> 0 | I5: =مهر!I5+آبان!I5+آذر!I5 -> 0 | J5: =مهر!J5+آبان!J5+آذر!J5 -> 0 | ... AB5: =مهر!AB5+آبان!AB5+آذر!AB5 -> 0
A6: 3 | C6: =مهر!C6+آبان!C6+آذر!C6 -> 0 | D6: =مهر!D6+آبان!D6+آذر!D6 -> 0 | E6: =مهر!E6+آبان!E6+آذر!E6 -> 0 | F6: =مهر!F6+آبان!F6+آذر!F6 -> 0 | G6: =مهر!G6+آبان!G6+آذر!G6 -> 0 | H6: =مهر!H6+آبان!H6+آذر!H6 -> 0 | I6: =مهر!I6+آبان!I6+آذر!I6 -> 0 | J6: =مهر!J6+آبان!J6+آذر!J6 -> 0 | ... AB6: =مهر!AB6+آبان!AB6+آذر!AB6 -> 0
A7: 4 | C7: =مهر!C7+آبان!C7+آذر!C7 -> 0 | D7: =مهر!D7+آبان!D7+آذر!D7 -> 0 | E7: =مهر!E7+آبان!E7+آذر!E7 -> 0 | F7: =مهر!F7+آبان!F7+آذر!F7 -> 0 | G7: =مهر!G7+آبان!G7+آذر!G7 -> 0 | H7: =مهر!H7+آبان!H7+آذر!H7 -> 0 | I7: =مهر!I7+آبان!I7+آذر!I7 -> 0 | J7: =مهر!J7+آبان!J7+آذر!J7 -> 0 | ... AB7: =مهر!AB7+آبان!AB7+آذر!AB7 -> 0
A8: 5 | C8: =مهر!C8+آبان!C8+آذر!C8 -> 0 | D8: =مهر!D8+آبان!D8+آذر!D8 -> 0 | E8: =مهر!E8+آبان!E8+آذر!E8 -> 0 | F8: =مهر!F8+آبان!F8+آذر!F8 -> 0 | G8: =مهر!G8+آبان!G8+آذر!G8 -> 0 | H8: =مهر!H8+آبان!H8+آذر!H8 -> 0 | I8: =مهر!I8+آبان!I8+آذر!I8 -> 0 | J8: =مهر!J8+آبان!J8+آذر!J8 -> 0 | ... AB8: =مهر!AB8+آبان!AB8+آذر!AB8 -> 0
A9: 6 | C9: =مهر!C9+آبان!C9+آذر!C9 -> 0 | D9: =مهر!D9+آبان!D9+آذر!D9 -> 0 | E9: =مهر!E9+آبان!E9+آذر!E9 -> 0 | F9: =مهر!F9+آبان!F9+آذر!F9 -> 0 | G9: =مهر!G9+آبان!G9+آذر!G9 -> 0 | H9: =مهر!H9+آبان!H9+آذر!H9 -> 0 | I9: =مهر!I9+آبان!I9+آذر!I9 -> 0 | J9: =مهر!J9+آبان!J9+آذر!J9 -> 0 | ... AB9: =مهر!AB9+آبان!AB9+آذر!AB9 -> 0
A10: 7 | C10: =مهر!C10+آبان!C10+آذر!C10 -> 0 | D10: =مهر!D10+آبان!D10+آذر!D10 -> 0 | E10: =مهر!E10+آبان!E10+آذر!E10 -> 0 | F10: =مهر!F10+آبان!F10+آذر!F10 -> 0 | G10: =مهر!G10+آبان!G10+آذر!G10 -> 0 | H10: =مهر!H10+آبان!H10+آذر!H10 -> 0 | I10: =مهر!I10+آبان!I10+آذر!I10 -> 0 | J10: =مهر!J10+آبان!J10+آذر!J10 -> 0 | ... AB10: =مهر!AB10+آبان!AB10+آذر!AB10 -> 0
A11: 8 | C11: =مهر!C11+آبان!C11+آذر!C11 -> 0 | D11: =مهر!D11+آبان!D11+آذر!D11 -> 0 | E11: =مهر!E11+آبان!E11+آذر!E11 -> 0 | F11: =مهر!F11+آبان!F11+آذر!F11 -> 0 | G11: =مهر!G11+آبان!G11+آذر!G11 -> 0 | H11: =مهر!H11+آبان!H11+آذر!H11 -> 0 | I11: =مهر!I11+آبان!I11+آذر!I11 -> 0 | J11: =مهر!J11+آبان!J11+آذر!J11 -> 0 | ... AB11: =مهر!AB11+آبان!AB11+آذر!AB11 -> 0
A12: 9 | C12: =مهر!C12+آبان!C12+آذر!C12 -> 0 | D12: =مهر!D12+آبان!D12+آذر!D12 -> 0 | E12: =مهر!E12+آبان!E12+آذر!E12 -> 0 | F12: =مهر!F12+آبان!F12+آذر!F12 -> 0 | G12: =مهر!G12+آبان!G12+آذر!G12 -> 0 | H12: =مهر!H12+آبان!H12+آذر!H12 -> 0 | I12: =مهر!I12+آبان!I12+آذر!I12 -> 0 | J12: =مهر!J12+آبان!J12+آذر!J12 -> 0 | ... AB12: =مهر!AB12+آبان!AB12+آذر!AB12 -> 0
A13: 10 | C13: =مهر!C13+آبان!C13+آذر!C13 -> 0 | D13: =مهر!D13+آبان!D13+آذر!D13 -> 0 | E13: =مهر!E13+آبان!E13+آذر!E13 -> 0 | F13: =مهر!F13+آبان!F13+آذر!F13 -> 0 | G13: =مهر!G13+آبان!G13+آذر!G13 -> 0 | H13: =مهر!H13+آبان!H13+آذر!H13 -> 0 | I13: =مهر!I13+آبان!I13+آذر!I13 -> 0 | J13: =مهر!J13+آبان!J13+آذر!J13 -> 0 | ... AB13: =مهر!AB13+آبان!AB13+آذر!AB13 -> 0
A14: جمع کل ایرانی | C14: =SUM(C4:C13) -> 0 | D14: =SUM(D4:D13) -> 0 | E14: =SUM(E4:E13) -> 0 | F14: =SUM(F4:F13) -> 0 | G14: =SUM(G4:G13) -> 0 | H14: =SUM(H4:H13) -> 0 | I14: =SUM(I4:I13) -> 0 | J14: =SUM(J4:J13) -> 0 | ... AB14: =SUM(AB4:AB13) -> 0
A15: 1 | B15: افاغنه | C15: =آذر!C15+آبان!C15+مهر!C15 -> 0 | D15: =آذر!D15+آبان!D15+مهر!D15 -> 0 | E15: =آذر!E15+آبان!E15+مهر!E15 -> 0 | F15: =آذر!F15+آبان!F15+مهر!F15 -> 0 | G15: =آذر!G15+آبان!G15+مهر!G15 -> 0 | H15: =آذر!H15+آبان!H15+مهر!H15 -> 0 | I15: =آذر!I15+آبان!I15+مهر!I15 -> 0 | J15: =آذر!J15+آبان!J15+مهر!J15 -> 0 | ... AB15: =آذر!AB15+آبان!AB15+مهر!AB15 -> 0
A16: 2 | C16: =آذر!C16+آبان!C16+مهر!C16 -> 0 | D16: =آذر!D16+آبان!D16+مهر!D16 -> 0 | E16: =آذر!E16+آبان!E16+مهر!E16 -> 0 | F16: =آذر!F16+آبان!F16+مهر!F16 -> 0 | G16: =آذر!G16+آبان!G16+مهر!G16 -> 0 | H16: =آذر!H16+آبان!H16+مهر!H16 -> 0 | I16: =آذر!I16+آبان!I16+مهر!I16 -> 0 | J16: =آذر!J16+آبان!J16+مهر!J16 -> 0 | ... AB16: =آذر!AB16+آبان!AB16+مهر!AB16 -> 0
A17: 3 | C17: =آذر!C17+آبان!C17+مهر!C17 -> 0 | D17: =آذر!D17+آبان!D17+مهر!D17 -> 0 | E17: =آذر!E17+آبان!E17+مهر!E17 -> 0 | F17: =آذر!F17+آبان!F17+مهر!F17 -> 0 | G17: =آذر!G17+آبان!G17+مهر!G17 -> 0 | H17: =آذر!H17+آبان!H17+مهر!H17 -> 0 | I17: =آذر!I17+آبان!I17+مهر!I17 -> 0 | J17: =آذر!J17+آبان!J17+مهر!J17 -> 0 | ... AB17: =آذر!AB17+آبان!AB17+مهر!AB17 -> 0
A18: 4 | C18: =آذر!C18+آبان!C18+مهر!C18 -> 0 | D18: =آذر!D18+آبان!D18+مهر!D18 -> 0 | E18: =آذر!E18+آبان!E18+مهر!E18 -> 0 | F18: =آذر!F18+آبان!F18+مهر!F18 -> 0 | G18: =آذر!G18+آبان!G18+مهر!G18 -> 0 | H18: =آذر!H18+آبان!H18+مهر!H18 -> 0 | I18: =آذر!I18+آبان!I18+مهر!I18 -> 0 | J18: =آذر!J18+آبان!J18+مهر!J18 -> 0 | ... AB18: =آذر!AB18+آبان!AB18+مهر!AB18 -> 0
A19: 5 | C19: =آذر!C19+آبان!C19+مهر!C19 -> 0 | D19: =آذر!D19+آبان!D19+مهر!D19 -> 0 | E19: =آذر!E19+آبان!E19+مهر!E19 -> 0 | F19: =آذر!F19+آبان!F19+مهر!F19 -> 0 | G19: =آذر!G19+آبان!G19+مهر!G19 -> 0 | H19: =آذر!H19+آبان!H19+مهر!H19 -> 0 | I19: =آذر!I19+آبان!I19+مهر!I19 -> 0 | J19: =آذر!J19+آبان!J19+مهر!J19 -> 0 | ... AB19: =آذر!AB19+آبان!AB19+مهر!AB19 -> 0
